BEGIN:VCALENDAR
VERSION:2.0
PRODID:-//Hessel School House - ECPv6.15.20//NONSGML v1.0//EN
CALSCALE:GREGORIAN
METHOD:PUBLISH
X-ORIGINAL-URL:https://hesselschoolhouse.org
X-WR-CALDESC:Events for Hessel School House
REFRESH-INTERVAL;VALUE=DURATION:PT1H
X-Robots-Tag:noindex
X-PUBLISHED-TTL:PT1H
BEGIN:VTIMEZONE
TZID:America/Detroit
BEGIN:DAYLIGHT
TZOFFSETFROM:-0500
TZOFFSETTO:-0400
TZNAME:EDT
DTSTART:20240310T070000
END:DAYLIGHT
BEGIN:STANDARD
TZOFFSETFROM:-0400
TZOFFSETTO:-0500
TZNAME:EST
DTSTART:20241103T060000
END:STANDARD
BEGIN:DAYLIGHT
TZOFFSETFROM:-0500
TZOFFSETTO:-0400
TZNAME:EDT
DTSTART:20250309T070000
END:DAYLIGHT
BEGIN:STANDARD
TZOFFSETFROM:-0400
TZOFFSETTO:-0500
TZNAME:EST
DTSTART:20251102T060000
END:STANDARD
BEGIN:DAYLIGHT
TZOFFSETFROM:-0500
TZOFFSETTO:-0400
TZNAME:EDT
DTSTART:20260308T070000
END:DAYLIGHT
BEGIN:STANDARD
TZOFFSETFROM:-0400
TZOFFSETTO:-0500
TZNAME:EST
DTSTART:20261101T060000
END:STANDARD
END:VTIMEZONE
BEGIN:VEVENT
DTSTART;TZID=America/Detroit:20251013T080000
DTEND;TZID=America/Detroit:20251013T170000
DTSTAMP:20260423T072537
CREATED:20240801T171337Z
LAST-MODIFIED:20251101T192646Z
UID:10001343-1760342400-1760374800@hesselschoolhouse.org
SUMMARY:Closed on Mondays
DESCRIPTION:
URL:https://hesselschoolhouse.org/event/closed-on-mondays/2025-10-13/
LOCATION:Hessel School House – Avery Arts & Nature Learning Center\, 3206 West Cedar Street\, Hessel\, MI\, 49745\, United States
END:VEVENT
BEGIN:VEVENT
DTSTART;TZID=America/Detroit:20251015T130000
DTEND;TZID=America/Detroit:20251015T160000
DTSTAMP:20260423T072537
CREATED:20251017T173217Z
LAST-MODIFIED:20251017T173305Z
UID:10002316-1760533200-1760544000@hesselschoolhouse.org
SUMMARY:Mahjong
DESCRIPTION:Join us for a friendly game of Mahjong. Games are held weekly on Wednesdays from 1:00 pm – 4:00 pm (October – May). Whether you are an experienced player or just a beginner\, all skill levels are welcome to play.  For further details or to schedule a lesson\, please call Hessel School House: 906.484.1333 \nNo registration is required. No fee to play. However\, if you wish to purchase a game card\, the cost is $15. \nThis group plays by the Official Standard Hands and Rules National Mah Jongg League Inc. 
URL:https://hesselschoolhouse.org/event/mahjong-12-2/2025-10-15/
LOCATION:Hessel School House – Avery Arts & Nature Learning Center\, 3206 West Cedar Street\, Hessel\, MI\, 49745\, United States
CATEGORIES:Adults
ATTACH;FMTTYPE=image/jpeg:https://hesselschoolhouse.org/wp-content/uploads/2024/05/Mahjogn_new-Header-jpg.webp
END:VEVENT
BEGIN:VEVENT
DTSTART;TZID=America/Detroit:20251016T180000
DTEND;TZID=America/Detroit:20251016T203000
DTSTAMP:20260423T072537
CREATED:20250921T100859Z
LAST-MODIFIED:20250921T101020Z
UID:10001899-1760637600-1760646600@hesselschoolhouse.org
SUMMARY:BINGO at Hessel School House
DESCRIPTION:Thursdays – October thru Mid May. \nGet ready to have a blast while supporting a great cause! The Hessel School House weekly Bingo Fundraiser promises an entertaining night filled with laughter\, friendly competition\, and cash prizes. Bring your friends\, family\, and colleagues along to enjoy the thrill of shouting “Bingo”. Mark your calendars and don’t miss out on this fun-filled evening. Be sure to arrive early to secure your spot and grab some snacks\, pop\, and free popcorn.  Doors open at 5:00 PM\, games start at 6:00 PM. \nThis is an adults only event. Please no children or babies.  \nMichigan License #A22504 \nConcerned about the weather? Want to see if we will be hosting bingo or not? CALL THE BINGO HOTLINE!  This free and simple service is  updated every Thursday by 10:00 am to let you know if we will be playing bingo that night. Just listen to the recording. It’s that easy!  \n 
URL:https://hesselschoolhouse.org/event/bingo-at-hessel-school-house/2025-10-16/
LOCATION:Hessel School House – Avery Arts & Nature Learning Center\, 3206 West Cedar Street\, Hessel\, MI\, 49745\, United States
CATEGORIES:Adults,Annual Events
ATTACH;FMTTYPE=image/webp:https://hesselschoolhouse.org/wp-content/uploads/2025/09/Bingo-Calendar-Header.webp
END:VEVENT
BEGIN:VEVENT
DTSTART;TZID=America/Detroit:20251017T093000
DTEND;TZID=America/Detroit:20251017T160000
DTSTAMP:20260423T072537
CREATED:20250517T224930Z
LAST-MODIFIED:20260118T180728Z
UID:10001862-1760693400-1760716800@hesselschoolhouse.org
SUMMARY:The Art of Herbalism: From Wild Harvest to Home Remedies
DESCRIPTION:The Art of Herbalism: From Wild Harvest to Home Remedies \n2 Full Days – October 17 & 18\, 2025 from 9:30 AM – 4:00 PM \nUnlock the power of nature’s medicine cabinet in this immersive 2-day workshop designed for anyone curious about herbs and their many benefits! Whether you’re a beginner or looking to expand your herbal knowledge\, this hands-on experience will give you the skills and confidence to incorporate wild and cultivated herbs into your daily life. \nLed by Certified Herbalist Sierra LaRose\, you’ll explore: \n• Identifying & Harvesting Wild Herbs – Learn to recognize common medicinal plants and practice sustainable foraging techniques.\n• Growing Your Own Herb Garden – Discover how to cultivate and care for healing plants at home.\n• Crafting Herbal Remedies – Create your own flower essences\, tinctures\, infused oils\, and vinegars to support wellness.\n• Herbal First Aid & Everyday Use – Learn how to incorporate natural remedies into your home for immune support\, first aid\, and overall well-being. \nThis workshop is a unique opportunity to deepen your connection with nature while learning practical\, time-honored herbal skills. \nClass fee: $125 per person. Includes all materials\, lunch and refreshments both days. \nTo register call 906-484-1333 or register online at \n\n\n\n\nhttps://www.eventeny.com/events/ticket/?id=20781&action=ticket&action_ticket=36181\n\n\n\n\n\n\n\n\n\n\n\nThis class is made possible by a grant from the Chippewa Luce Mackinaw Conservation District. 
URL:https://hesselschoolhouse.org/event/the-art-of-herbalism-from-wild-harvest-to-home-remedies-2/2025-10-17/
LOCATION:Hessel School House – Avery Arts & Nature Learning Center\, 3206 West Cedar Street\, Hessel\, MI\, 49745\, United States
CATEGORIES:Adults,Lectures and Workshops,Nature Programs
ATTACH;FMTTYPE=image/jpeg:https://hesselschoolhouse.org/wp-content/uploads/2025/05/10-1718-Herbalism-Workshop.jpg
END:VEVENT
BEGIN:VEVENT
DTSTART;TZID=America/Detroit:20251018T090000
DTEND;TZID=America/Detroit:20251018T120000
DTSTAMP:20260423T072537
CREATED:20250921T184548Z
LAST-MODIFIED:20250921T184548Z
UID:10002311-1760778000-1760788800@hesselschoolhouse.org
SUMMARY:Volunteer Work Bee at Hessel School House
DESCRIPTION:Gather a group of friends\, co-workers\,or family members and join us at the Hessel School House on Satruday\, October 18 from 9:00 AM – 12:00 PM for a volunteer work bee! Many hands will make light work in caring for the building and getting the grounds ready for the winter months. Contact us today to learn more about this exciting half-day volunteer opportunity. \nIf you plan to attend\, please let us know so we can prepare ahead of time. \nFor details\, contact Abbey at 906-484-1333 or email office@hesselschoolhouse.net
URL:https://hesselschoolhouse.org/event/volunteer-work-bee-at-hessel-school-house/
LOCATION:Hessel School House – Avery Arts & Nature Learning Center\, 3206 West Cedar Street\, Hessel\, MI\, 49745\, United States
CATEGORIES:Adults,Family Friendly,Teens
ATTACH;FMTTYPE=image/webp:https://hesselschoolhouse.org/wp-content/uploads/2025/09/Volunteer-Work-Bee-Webheder.webp
END:VEVENT
BEGIN:VEVENT
DTSTART;TZID=America/Detroit:20251018T090000
DTEND;TZID=America/Detroit:20251018T160000
DTSTAMP:20260423T072537
CREATED:20250517T224930Z
LAST-MODIFIED:20260118T180728Z
UID:10001863-1760778000-1760803200@hesselschoolhouse.org
SUMMARY:The Art of Herbalism: From Wild Harvest to Home Remedies
DESCRIPTION:The Art of Herbalism: From Wild Harvest to Home Remedies \n2 Full Days – October 17 & 18\, 2025 from 9:30 AM – 4:00 PM \nUnlock the power of nature’s medicine cabinet in this immersive 2-day workshop designed for anyone curious about herbs and their many benefits! Whether you’re a beginner or looking to expand your herbal knowledge\, this hands-on experience will give you the skills and confidence to incorporate wild and cultivated herbs into your daily life. \nLed by Certified Herbalist Sierra LaRose\, you’ll explore: \n• Identifying & Harvesting Wild Herbs – Learn to recognize common medicinal plants and practice sustainable foraging techniques.\n• Growing Your Own Herb Garden – Discover how to cultivate and care for healing plants at home.\n• Crafting Herbal Remedies – Create your own flower essences\, tinctures\, infused oils\, and vinegars to support wellness.\n• Herbal First Aid & Everyday Use – Learn how to incorporate natural remedies into your home for immune support\, first aid\, and overall well-being. \nThis workshop is a unique opportunity to deepen your connection with nature while learning practical\, time-honored herbal skills. \nClass fee: $125 per person. Includes all materials\, lunch and refreshments both days. \nTo register call 906-484-1333 or register online at \n\n\n\n\nhttps://www.eventeny.com/events/ticket/?id=20781&action=ticket&action_ticket=36181\n\n\n\n\n\n\n\n\n\n\n\nThis class is made possible by a grant from the Chippewa Luce Mackinaw Conservation District. 
URL:https://hesselschoolhouse.org/event/the-art-of-herbalism-from-wild-harvest-to-home-remedies-2/2025-10-18/
LOCATION:Hessel School House – Avery Arts & Nature Learning Center\, 3206 West Cedar Street\, Hessel\, MI\, 49745\, United States
CATEGORIES:Adults,Lectures and Workshops,Nature Programs
ATTACH;FMTTYPE=image/jpeg:https://hesselschoolhouse.org/wp-content/uploads/2025/05/10-1718-Herbalism-Workshop.jpg
END:VEVENT
END:VCALENDAR