BEGIN:VCALENDAR
VERSION:2.0
PRODID:-//Hessel School House - ECPv6.15.20//NONSGML v1.0//EN
CALSCALE:GREGORIAN
METHOD:PUBLISH
X-WR-CALNAME:Hessel School House
X-ORIGINAL-URL:https://hesselschoolhouse.org
X-WR-CALDESC:Events for Hessel School House
REFRESH-INTERVAL;VALUE=DURATION:PT1H
X-Robots-Tag:noindex
X-PUBLISHED-TTL:PT1H
BEGIN:VTIMEZONE
TZID:America/Detroit
BEGIN:DAYLIGHT
TZOFFSETFROM:-0500
TZOFFSETTO:-0400
TZNAME:EDT
DTSTART:20240310T070000
END:DAYLIGHT
BEGIN:STANDARD
TZOFFSETFROM:-0400
TZOFFSETTO:-0500
TZNAME:EST
DTSTART:20241103T060000
END:STANDARD
BEGIN:DAYLIGHT
TZOFFSETFROM:-0500
TZOFFSETTO:-0400
TZNAME:EDT
DTSTART:20250309T070000
END:DAYLIGHT
BEGIN:STANDARD
TZOFFSETFROM:-0400
TZOFFSETTO:-0500
TZNAME:EST
DTSTART:20251102T060000
END:STANDARD
BEGIN:DAYLIGHT
TZOFFSETFROM:-0500
TZOFFSETTO:-0400
TZNAME:EDT
DTSTART:20260308T070000
END:DAYLIGHT
BEGIN:STANDARD
TZOFFSETFROM:-0400
TZOFFSETTO:-0500
TZNAME:EST
DTSTART:20261101T060000
END:STANDARD
END:VTIMEZONE
BEGIN:VEVENT
DTSTART;TZID=America/Detroit:20250901T080000
DTEND;TZID=America/Detroit:20250901T170000
DTSTAMP:20260422T194736
CREATED:20240801T171337Z
LAST-MODIFIED:20251101T192646Z
UID:10001337-1756713600-1756746000@hesselschoolhouse.org
SUMMARY:Closed on Mondays
DESCRIPTION:
URL:https://hesselschoolhouse.org/event/closed-on-mondays/2025-09-01/
LOCATION:Hessel School House – Avery Arts & Nature Learning Center\, 3206 West Cedar Street\, Hessel\, MI\, 49745\, United States
END:VEVENT
BEGIN:VEVENT
DTSTART;TZID=America/Detroit:20250903T093000
DTEND;TZID=America/Detroit:20250903T120000
DTSTAMP:20260422T194736
CREATED:20250326T212032Z
LAST-MODIFIED:20250709T102222Z
UID:10001880-1756891800-1756900800@hesselschoolhouse.org
SUMMARY:Mahjong
DESCRIPTION:Join us for a friendly game of Mahjong. Games are held weekly on Wednesdays from 9:30am – 12:00 pm (June – September). Whether you are an experienced player or just a beginner\, all skill levels are welcome to play.  For further details or to schedule a lesson\, please call Hessel School House: 906.484.1333 \nNo registration is required. No fee to play. However\, if you wish to purchase a game card\, the cost is $15. \nThis group plays by the Official Standard Hands and Rules National Mah Jongg League Inc. 
URL:https://hesselschoolhouse.org/event/mahjong-12/2025-09-03/
LOCATION:Hessel School House – Avery Arts & Nature Learning Center\, 3206 West Cedar Street\, Hessel\, MI\, 49745\, United States
CATEGORIES:Adults
ATTACH;FMTTYPE=image/jpeg:https://hesselschoolhouse.org/wp-content/uploads/2024/05/Mahjogn_new-Header-jpg.webp
END:VEVENT
BEGIN:VEVENT
DTSTART;TZID=America/Detroit:20250906T100000
DTEND;TZID=America/Detroit:20250906T153000
DTSTAMP:20260422T194736
CREATED:20250808T160229Z
LAST-MODIFIED:20250808T160420Z
UID:10001888-1757152800-1757172600@hesselschoolhouse.org
SUMMARY:Stained Glass: Festive Fall
DESCRIPTION:Fall-Themed Stained Glass Workshop with Connie Thompson\n🍂 Create Something Beautiful This Autumn 🍁 \nJoin local stained glass artist Connie Thompson for an intimate\, hands-on workshop celebrating the colors and charm of fall! In this cozy\, seasonal session\, you’ll design and craft your own autumn-inspired stained glass piece—perfect for capturing the warmth of the season. \n🧡 All materials and step-by-step instruction provided\n🎨 No experience needed—just bring your creativity!\n👩‍🎨 Led by Connie Thompson\, a professional stained glass artist\n🎟️ Only 6 seats available – reserve yours early!\n💵 $75 per person \nGet inspired by the rich hues of autumn leaves and leave with a handmade piece you’ll cherish for years. \nTo register\, call 906-484-1333 or register online at \n\n\n\n\nhttps://www.eventeny.com/events/ticket/?id=19971&action=ticket&action_ticket=40583
URL:https://hesselschoolhouse.org/event/stained-glass-festive-fall/
LOCATION:Hessel School House – Avery Arts & Nature Learning Center\, 3206 West Cedar Street\, Hessel\, MI\, 49745\, United States
CATEGORIES:Adults,Visual Arts
ATTACH;FMTTYPE=image/webp:https://hesselschoolhouse.org/wp-content/uploads/2025/08/9-6-25-StainedGlass-Fall.webp
END:VEVENT
END:VCALENDAR