BEGIN:VCALENDAR
VERSION:2.0
PRODID:-//Hessel School House - ECPv6.15.20//NONSGML v1.0//EN
CALSCALE:GREGORIAN
METHOD:PUBLISH
X-ORIGINAL-URL:https://hesselschoolhouse.org
X-WR-CALDESC:Events for Hessel School House
REFRESH-INTERVAL;VALUE=DURATION:PT1H
X-Robots-Tag:noindex
X-PUBLISHED-TTL:PT1H
BEGIN:VTIMEZONE
TZID:America/Detroit
BEGIN:DAYLIGHT
TZOFFSETFROM:-0500
TZOFFSETTO:-0400
TZNAME:EDT
DTSTART:20240310T070000
END:DAYLIGHT
BEGIN:STANDARD
TZOFFSETFROM:-0400
TZOFFSETTO:-0500
TZNAME:EST
DTSTART:20241103T060000
END:STANDARD
BEGIN:DAYLIGHT
TZOFFSETFROM:-0500
TZOFFSETTO:-0400
TZNAME:EDT
DTSTART:20250309T070000
END:DAYLIGHT
BEGIN:STANDARD
TZOFFSETFROM:-0400
TZOFFSETTO:-0500
TZNAME:EST
DTSTART:20251102T060000
END:STANDARD
BEGIN:DAYLIGHT
TZOFFSETFROM:-0500
TZOFFSETTO:-0400
TZNAME:EDT
DTSTART:20260308T070000
END:DAYLIGHT
BEGIN:STANDARD
TZOFFSETFROM:-0400
TZOFFSETTO:-0500
TZNAME:EST
DTSTART:20261101T060000
END:STANDARD
END:VTIMEZONE
BEGIN:VEVENT
DTSTART;VALUE=DATE:20250802
DTEND;VALUE=DATE:20250829
DTSTAMP:20260422T195930
CREATED:20250709T104614Z
LAST-MODIFIED:20250709T104614Z
UID:10001885-1754092800-1756425599@hesselschoolhouse.org
SUMMARY:LCAC 2025 Community Art Exhibit
DESCRIPTION:The Les Cheneaux Arts Council Community Art Exhibit will be at the Hessel School House August 2 – 28\, 2025. Please stop by\, take a look at the wealth of talent in our community and support the arts. \nFor more information about this event\, visit https://lescheneauxartscouncil.org/community-art-exhibition-2025
URL:https://hesselschoolhouse.org/event/lcac-2025-community-art-exhibit/
LOCATION:Hessel School House – Avery Arts & Nature Learning Center\, 3206 West Cedar Street\, Hessel\, MI\, 49745\, United States
CATEGORIES:Visual Arts
ORGANIZER;CN="Les Cheneaux Arts Council":MAILTO:lescheneauxartscouncil@gmail.com
END:VEVENT
BEGIN:VEVENT
DTSTART;TZID=America/Detroit:20250825T080000
DTEND;TZID=America/Detroit:20250825T170000
DTSTAMP:20260422T195930
CREATED:20240801T171337Z
LAST-MODIFIED:20251101T192646Z
UID:10001336-1756108800-1756141200@hesselschoolhouse.org
SUMMARY:Closed on Mondays
DESCRIPTION:
URL:https://hesselschoolhouse.org/event/closed-on-mondays/2025-08-25/
LOCATION:Hessel School House – Avery Arts & Nature Learning Center\, 3206 West Cedar Street\, Hessel\, MI\, 49745\, United States
END:VEVENT
BEGIN:VEVENT
DTSTART;TZID=America/Detroit:20250827T093000
DTEND;TZID=America/Detroit:20250827T120000
DTSTAMP:20260422T195930
CREATED:20250326T212032Z
LAST-MODIFIED:20250709T102222Z
UID:10001879-1756287000-1756296000@hesselschoolhouse.org
SUMMARY:Mahjong
DESCRIPTION:Join us for a friendly game of Mahjong. Games are held weekly on Wednesdays from 9:30am – 12:00 pm (June – September). Whether you are an experienced player or just a beginner\, all skill levels are welcome to play.  For further details or to schedule a lesson\, please call Hessel School House: 906.484.1333 \nNo registration is required. No fee to play. However\, if you wish to purchase a game card\, the cost is $15. \nThis group plays by the Official Standard Hands and Rules National Mah Jongg League Inc. 
URL:https://hesselschoolhouse.org/event/mahjong-12/2025-08-27/
LOCATION:Hessel School House – Avery Arts & Nature Learning Center\, 3206 West Cedar Street\, Hessel\, MI\, 49745\, United States
CATEGORIES:Adults
ATTACH;FMTTYPE=image/jpeg:https://hesselschoolhouse.org/wp-content/uploads/2024/05/Mahjogn_new-Header-jpg.webp
END:VEVENT
BEGIN:VEVENT
DTSTART;TZID=America/Detroit:20250827T130000
DTEND;TZID=America/Detroit:20250827T150000
DTSTAMP:20260422T195930
CREATED:20250413T193114Z
LAST-MODIFIED:20250413T193300Z
UID:10001853-1756299600-1756306800@hesselschoolhouse.org
SUMMARY:Drawing Refresher (2 Session Class)
DESCRIPTION:DRAWING REFRESHER CLASS\nTWO DAY CLASS – Wednesdays\, August 20 and 27 from 1:00 PM – 3:00 PM\n\nBuild your drawing “muscle” by attending Hessel School House’s Drawing Refresher Class! In this two-week session\, learn about the tools used to draw values\, shapes\, textures\, and perspective. Artist Karen Mazzoline will use starter exercises\, activities\, and projects to help you develop your drawing skillset! Our focus will be on the elements of art and the principles of design as we draw people\, land and seascapes\, animals\, objects\, and places. We will also be working with different drawing media (marker\, ink\, colored pencil). If you have a specific question or topic you would like discussed during the session\, you will be given the opportunity to share that through email before the session begins.\n\nMaterials and tools will be provided by the instructor\, but if you have your own sketch books and pencils\, feel free to bring them to class! This class is for adults and teens 16+.\n\nClass fee: $55\n\nTo register\, call 906-484-1333 or register online.
URL:https://hesselschoolhouse.org/event/drawing-refresher-class/2025-08-27/
LOCATION:Hessel School House – Avery Arts & Nature Learning Center\, 3206 West Cedar Street\, Hessel\, MI\, 49745\, United States
CATEGORIES:Adults,Teens,Visual Arts
ATTACH;FMTTYPE=image/jpeg:https://hesselschoolhouse.org/wp-content/uploads/2025/04/8-2027-25-Drawing-Refresher.jpg
END:VEVENT
BEGIN:VEVENT
DTSTART;TZID=America/Detroit:20250827T160000
DTEND;TZID=America/Detroit:20250827T180000
DTSTAMP:20260422T195930
CREATED:20250413T214930Z
LAST-MODIFIED:20250413T214930Z
UID:10001855-1756310400-1756317600@hesselschoolhouse.org
SUMMARY:PAINT & SIP: Fall Watercolor Pumpkins
DESCRIPTION:PAINT & SIP: Fall Watercolor Pumpkins\nWednesday\, August 27 – 4:00 PM – 6:00 PM \nBring in the anticipation of the fall season with watercolor pumpkins! Using specific techniques\, artist Karen Mazzoline will teach you how to paint pumpkins on 4 X 6 watercolor paper. Choose from a variety of shapes and colors! When finished\, you will be taking home two of your very own creations in a glass frame! All materials will be provided and no experience is necessary! \nClass Fee: $40 \nSpace is limited. Register early!\nTo register\, call 906-484-1333 or register online.
URL:https://hesselschoolhouse.org/event/paint-sip-fall-watercolor-pumpkins/
LOCATION:Hessel School House – Avery Arts & Nature Learning Center\, 3206 West Cedar Street\, Hessel\, MI\, 49745\, United States
CATEGORIES:Adults,Visual Arts
ATTACH;FMTTYPE=image/jpeg:https://hesselschoolhouse.org/wp-content/uploads/2025/04/8-27-Watercolor-Pumpkins.jpg
END:VEVENT
BEGIN:VEVENT
DTSTART;TZID=America/Detroit:20250830T100000
DTEND;TZID=America/Detroit:20250830T120000
DTSTAMP:20260422T195930
CREATED:20250413T195654Z
LAST-MODIFIED:20250413T195654Z
UID:10001854-1756548000-1756555200@hesselschoolhouse.org
SUMMARY:4th Annual Arts & Crafts Supply Swap
DESCRIPTION:A little earlier than usual this year…\nJoin us at Hessel School House\, Saturday\, August 30 from 10:00 AM – 12:00 PM for the 4th Annual Arts & Crafts Supply Swap!  Swappers must bring their own bags for the supplies they would like to take. You may take as much or as little as you want whether you donated items or not. Swappers are invited to make a $10 donation to support Hessel School House – Avery Arts & Nature Learning Center programs. \nWhen the Swap ends\, our volunteers will pack up any remaining supplies and save them for the next swap\, use them for future classes\, or donate them. Donated items MUST be in good\, clean\, usable condition. To eliminate the volume of waste we have to throw away\, all items will be inspected before they are accepted for the swap. Questions? Call Hessel School House 906-484-1333. \n  \nPRIOR TO SWAP MEET \nSUPPLY DROP-OFF DATES/TIMES \nTuesday\, August 26 thru Friday\, August 29\, 2025\n9:00 AM – 3:00 PM (or by appointment)\nat Hessel School House \nLocal artists and crafters are invited to gather up your surplus of arts and crafts supplies in good\, clean\, usable condition that you no longer use or want. Supplies may include\, but are not limited to fabric\, thread\, ribbon\, sewing notions\, buttons\, patterns\, crafting books\, scrapbook supplies\, adhesives\, painting supplies\, embroidery hoops & floss\, yarn\, crochet hooks\, knitting needles\, beads and beading supplies. (Please no aerosols or food containers.) \nDrop off your items at the Hessel School House Tuesday\, August 26 thru Friday\, August 29\, 2025 from 9 AM – 3 PM. If you are unable to drop them off during that time\, please call Hessel School House to make alternate drop-off arrangements. When you arrive\, the staff will quickly look through the items to ensure they are swap worthy\, usable items. We WILL NOT accept unclean\, unusable items. Please bring your supplies in cardboard boxes or bags that you do not need returned. \nThose who contribute items you will receive a ticket to enter the Arts & Crafts Supply Swap on Saturday\, August 30 ahead of all other attendees so they first crack at the loot! Ticket holders must be in line prior to the doors opening at 10:00 AM. Doors will open to the public promptly at 10:00 AM. \n \n  \n  \n 
URL:https://hesselschoolhouse.org/event/4th-annual-arts-crafts-supply-swap/
LOCATION:Hessel School House – Avery Arts & Nature Learning Center\, 3206 West Cedar Street\, Hessel\, MI\, 49745\, United States
CATEGORIES:Adults,Annual Events,Visual Arts
ATTACH;FMTTYPE=image/jpeg:https://hesselschoolhouse.org/wp-content/uploads/2025/04/Arts-and-Crafts-16-9-Web-Header.jpg
END:VEVENT
END:VCALENDAR