BEGIN:VCALENDAR
VERSION:2.0
PRODID:-//Hessel School House - ECPv6.15.20//NONSGML v1.0//EN
CALSCALE:GREGORIAN
METHOD:PUBLISH
X-WR-CALNAME:Hessel School House
X-ORIGINAL-URL:https://hesselschoolhouse.org
X-WR-CALDESC:Events for Hessel School House
REFRESH-INTERVAL;VALUE=DURATION:PT1H
X-Robots-Tag:noindex
X-PUBLISHED-TTL:PT1H
BEGIN:VTIMEZONE
TZID:America/Detroit
BEGIN:DAYLIGHT
TZOFFSETFROM:-0500
TZOFFSETTO:-0400
TZNAME:EDT
DTSTART:20240310T070000
END:DAYLIGHT
BEGIN:STANDARD
TZOFFSETFROM:-0400
TZOFFSETTO:-0500
TZNAME:EST
DTSTART:20241103T060000
END:STANDARD
BEGIN:DAYLIGHT
TZOFFSETFROM:-0500
TZOFFSETTO:-0400
TZNAME:EDT
DTSTART:20250309T070000
END:DAYLIGHT
BEGIN:STANDARD
TZOFFSETFROM:-0400
TZOFFSETTO:-0500
TZNAME:EST
DTSTART:20251102T060000
END:STANDARD
BEGIN:DAYLIGHT
TZOFFSETFROM:-0500
TZOFFSETTO:-0400
TZNAME:EDT
DTSTART:20260308T070000
END:DAYLIGHT
BEGIN:STANDARD
TZOFFSETFROM:-0400
TZOFFSETTO:-0500
TZNAME:EST
DTSTART:20261101T060000
END:STANDARD
END:VTIMEZONE
BEGIN:VEVENT
DTSTART;TZID=America/Detroit:20250630T080000
DTEND;TZID=America/Detroit:20250630T170000
DTSTAMP:20260419T230812
CREATED:20240801T171337Z
LAST-MODIFIED:20251101T192646Z
UID:10001328-1751270400-1751302800@hesselschoolhouse.org
SUMMARY:Closed on Mondays
DESCRIPTION:
URL:https://hesselschoolhouse.org/event/closed-on-mondays/2025-06-30/
LOCATION:Hessel School House – Avery Arts & Nature Learning Center\, 3206 West Cedar Street\, Hessel\, MI\, 49745\, United States
END:VEVENT
BEGIN:VEVENT
DTSTART;TZID=America/Detroit:20250702T093000
DTEND;TZID=America/Detroit:20250702T120000
DTSTAMP:20260419T230812
CREATED:20250326T212032Z
LAST-MODIFIED:20250709T102222Z
UID:10001871-1751448600-1751457600@hesselschoolhouse.org
SUMMARY:Mahjong
DESCRIPTION:Join us for a friendly game of Mahjong. Games are held weekly on Wednesdays from 9:30am – 12:00 pm (June – September). Whether you are an experienced player or just a beginner\, all skill levels are welcome to play.  For further details or to schedule a lesson\, please call Hessel School House: 906.484.1333 \nNo registration is required. No fee to play. However\, if you wish to purchase a game card\, the cost is $15. \nThis group plays by the Official Standard Hands and Rules National Mah Jongg League Inc. 
URL:https://hesselschoolhouse.org/event/mahjong-12/2025-07-02/
LOCATION:Hessel School House – Avery Arts & Nature Learning Center\, 3206 West Cedar Street\, Hessel\, MI\, 49745\, United States
CATEGORIES:Adults
ATTACH;FMTTYPE=image/jpeg:https://hesselschoolhouse.org/wp-content/uploads/2024/05/Mahjogn_new-Header-jpg.webp
END:VEVENT
BEGIN:VEVENT
DTSTART;VALUE=DATE:20250704
DTEND;VALUE=DATE:20250706
DTSTAMP:20260419T230812
CREATED:20250413T123838Z
LAST-MODIFIED:20250413T123838Z
UID:10001843-1751587200-1751759999@hesselschoolhouse.org
SUMMARY:Closed for Holiday
DESCRIPTION:We will be closed on July 4 & 5 to observe the holiday weekend.
URL:https://hesselschoolhouse.org/event/closed-for-holiday/
LOCATION:Hessel School House – Avery Arts & Nature Learning Center\, 3206 West Cedar Street\, Hessel\, MI\, 49745\, United States
END:VEVENT
END:VCALENDAR