BEGIN:VCALENDAR
VERSION:2.0
PRODID:-//Hessel School House - ECPv6.15.20//NONSGML v1.0//EN
CALSCALE:GREGORIAN
METHOD:PUBLISH
X-ORIGINAL-URL:https://hesselschoolhouse.org
X-WR-CALDESC:Events for Hessel School House
REFRESH-INTERVAL;VALUE=DURATION:PT1H
X-Robots-Tag:noindex
X-PUBLISHED-TTL:PT1H
BEGIN:VTIMEZONE
TZID:America/Detroit
BEGIN:DAYLIGHT
TZOFFSETFROM:-0500
TZOFFSETTO:-0400
TZNAME:EDT
DTSTART:20240310T070000
END:DAYLIGHT
BEGIN:STANDARD
TZOFFSETFROM:-0400
TZOFFSETTO:-0500
TZNAME:EST
DTSTART:20241103T060000
END:STANDARD
BEGIN:DAYLIGHT
TZOFFSETFROM:-0500
TZOFFSETTO:-0400
TZNAME:EDT
DTSTART:20250309T070000
END:DAYLIGHT
BEGIN:STANDARD
TZOFFSETFROM:-0400
TZOFFSETTO:-0500
TZNAME:EST
DTSTART:20251102T060000
END:STANDARD
BEGIN:DAYLIGHT
TZOFFSETFROM:-0500
TZOFFSETTO:-0400
TZNAME:EDT
DTSTART:20260308T070000
END:DAYLIGHT
BEGIN:STANDARD
TZOFFSETFROM:-0400
TZOFFSETTO:-0500
TZNAME:EST
DTSTART:20261101T060000
END:STANDARD
END:VTIMEZONE
BEGIN:VEVENT
DTSTART;TZID=America/Detroit:20250303T080000
DTEND;TZID=America/Detroit:20250303T170000
DTSTAMP:20260419T154028
CREATED:20240801T171337Z
LAST-MODIFIED:20251101T192646Z
UID:10001311-1740988800-1741021200@hesselschoolhouse.org
SUMMARY:Closed on Mondays
DESCRIPTION:
URL:https://hesselschoolhouse.org/event/closed-on-mondays/2025-03-03/
LOCATION:Hessel School House – Avery Arts & Nature Learning Center\, 3206 West Cedar Street\, Hessel\, MI\, 49745\, United States
END:VEVENT
BEGIN:VEVENT
DTSTART;TZID=America/Detroit:20250305T130000
DTEND;TZID=America/Detroit:20250305T160000
DTSTAMP:20260419T154028
CREATED:20240801T175714Z
LAST-MODIFIED:20240816T232131Z
UID:10001572-1741179600-1741190400@hesselschoolhouse.org
SUMMARY:Mahjong
DESCRIPTION:Join us for a friendly game of Mahjong. Games are held weekly on Wednesdays from 1:00 – 4:00 pm (October – May). Whether you are an experienced player or just a beginner\, all skill levels are welcome to play.  For further details or to schedule a lesson\, please call Hessel School House: 906.484.1333 \nNo registration is required. No fee to play. However\, if you wish to purchase a game card\, the cost is $15. \nThis group plays by the Official Standard Hands and Rules National Mah Jongg League Inc. 
URL:https://hesselschoolhouse.org/event/mahjong-11/2025-03-05/
LOCATION:Hessel School House – Avery Arts & Nature Learning Center\, 3206 West Cedar Street\, Hessel\, MI\, 49745\, United States
CATEGORIES:Adults
ATTACH;FMTTYPE=image/jpeg:https://hesselschoolhouse.org/wp-content/uploads/2024/05/Mahjogn_new-Header-jpg.webp
END:VEVENT
BEGIN:VEVENT
DTSTART;TZID=America/Detroit:20250306T170000
DTEND;TZID=America/Detroit:20250306T203000
DTSTAMP:20260419T154028
CREATED:20240816T192359Z
LAST-MODIFIED:20241006T194255Z
UID:10001720-1741280400-1741293000@hesselschoolhouse.org
SUMMARY:BINGO!
DESCRIPTION:Get ready to have a blast while supporting a great cause! The Hessel School House weekly Bingo Fundraiser promises an entertaining night filled with laughter\, friendly competition\, and cash prizes. Bring your friends\, family\, and colleagues along to enjoy the thrill of shouting “Bingo”. Mark your calendars and don’t miss out on this fun-filled evening. Be sure to arrive early to secure your spot and grab some snacks\, pop\, and free popcorn.  Doors open at 5:00 PM\, games start at 6:00 PM. \nThis is an adults only event. Please no children or babies. 
URL:https://hesselschoolhouse.org/event/bingo-6/2025-03-06/
LOCATION:Hessel School House – Avery Arts & Nature Learning Center\, 3206 West Cedar Street\, Hessel\, MI\, 49745\, United States
CATEGORIES:Adults
END:VEVENT
BEGIN:VEVENT
DTSTART;TZID=America/Detroit:20250308T100000
DTEND;TZID=America/Detroit:20250308T120000
DTSTAMP:20260419T154028
CREATED:20250125T124416Z
LAST-MODIFIED:20250307T105408Z
UID:10001765-1741428000-1741435200@hesselschoolhouse.org
SUMMARY:CANCELLED: Elementary Art: Seed and Bean Mosaics
DESCRIPTION:CANCELLED due to lack of registrations \nCreate your own mosaic painting using natural elements! With guidance from artist Marissa Wissner\, learn how to choose a variety of items from nature to compose your own work! You will have the choice of keeping your mosaic in its natural setting or you can paint over it! Bring a friend and enjoy a morning of creativity! All materials will be provided. \nClass Fee: $20 per child.
URL:https://hesselschoolhouse.org/event/elementary-art-seed-and-bean-mosaics/
LOCATION:Hessel School House – Avery Arts & Nature Learning Center\, 3206 West Cedar Street\, Hessel\, MI\, 49745\, United States
CATEGORIES:Elementary,Pre-teen,Visual Arts
ATTACH;FMTTYPE=image/jpeg:https://hesselschoolhouse.org/wp-content/uploads/2025/01/3-8-25-Elementary-Art.jpg
END:VEVENT
BEGIN:VEVENT
DTSTART;TZID=America/Detroit:20250308T130000
DTEND;TZID=America/Detroit:20250308T150000
DTSTAMP:20260419T154028
CREATED:20250125T123917Z
LAST-MODIFIED:20250125T123921Z
UID:10001764-1741438800-1741446000@hesselschoolhouse.org
SUMMARY:Drawing with Gel Pens
DESCRIPTION:Are you interested in using a different drawing medium in your work? Try gel pens! Using a variety of paper and gel pens\, artist Karen Mazzoline will teach you how to create unique and colorful drawings. Learn some tips and tricks to get the best look from gel pens. All materials will be provided. Come and enjoy an afternoon of drawing!\n\nClass Fee: $40 per person.\n\nTo register call 906-484-1333 or register online at https://www.eventeny.com/events/ticket/?id=17553\n\n\nExamples of Karen’s artwork using gel pens.
URL:https://hesselschoolhouse.org/event/drawing-with-gel-pens/
LOCATION:Hessel School House – Avery Arts & Nature Learning Center\, 3206 West Cedar Street\, Hessel\, MI\, 49745\, United States
CATEGORIES:Adults,Teens,Visual Arts
ATTACH;FMTTYPE=image/jpeg:https://hesselschoolhouse.org/wp-content/uploads/2025/01/3-8-25-Gel-Pen-Art.jpg
END:VEVENT
END:VCALENDAR