BEGIN:VCALENDAR
VERSION:2.0
PRODID:-//Hessel School House - ECPv6.15.20//NONSGML v1.0//EN
CALSCALE:GREGORIAN
METHOD:PUBLISH
X-WR-CALNAME:Hessel School House
X-ORIGINAL-URL:https://hesselschoolhouse.org
X-WR-CALDESC:Events for Hessel School House
REFRESH-INTERVAL;VALUE=DURATION:PT1H
X-Robots-Tag:noindex
X-PUBLISHED-TTL:PT1H
BEGIN:VTIMEZONE
TZID:America/Detroit
BEGIN:DAYLIGHT
TZOFFSETFROM:-0500
TZOFFSETTO:-0400
TZNAME:EDT
DTSTART:20240310T070000
END:DAYLIGHT
BEGIN:STANDARD
TZOFFSETFROM:-0400
TZOFFSETTO:-0500
TZNAME:EST
DTSTART:20241103T060000
END:STANDARD
BEGIN:DAYLIGHT
TZOFFSETFROM:-0500
TZOFFSETTO:-0400
TZNAME:EDT
DTSTART:20250309T070000
END:DAYLIGHT
BEGIN:STANDARD
TZOFFSETFROM:-0400
TZOFFSETTO:-0500
TZNAME:EST
DTSTART:20251102T060000
END:STANDARD
BEGIN:DAYLIGHT
TZOFFSETFROM:-0500
TZOFFSETTO:-0400
TZNAME:EDT
DTSTART:20260308T070000
END:DAYLIGHT
BEGIN:STANDARD
TZOFFSETFROM:-0400
TZOFFSETTO:-0500
TZNAME:EST
DTSTART:20261101T060000
END:STANDARD
END:VTIMEZONE
BEGIN:VEVENT
DTSTART;TZID=America/Detroit:20250224T080000
DTEND;TZID=America/Detroit:20250224T170000
DTSTAMP:20260419T152634
CREATED:20240801T171337Z
LAST-MODIFIED:20251101T192646Z
UID:10001310-1740384000-1740416400@hesselschoolhouse.org
SUMMARY:Closed on Mondays
DESCRIPTION:
URL:https://hesselschoolhouse.org/event/closed-on-mondays/2025-02-24/
LOCATION:Hessel School House – Avery Arts & Nature Learning Center\, 3206 West Cedar Street\, Hessel\, MI\, 49745\, United States
END:VEVENT
BEGIN:VEVENT
DTSTART;TZID=America/Detroit:20250226T130000
DTEND;TZID=America/Detroit:20250226T160000
DTSTAMP:20260419T152634
CREATED:20240801T175714Z
LAST-MODIFIED:20240816T232131Z
UID:10001571-1740574800-1740585600@hesselschoolhouse.org
SUMMARY:Mahjong
DESCRIPTION:Join us for a friendly game of Mahjong. Games are held weekly on Wednesdays from 1:00 – 4:00 pm (October – May). Whether you are an experienced player or just a beginner\, all skill levels are welcome to play.  For further details or to schedule a lesson\, please call Hessel School House: 906.484.1333 \nNo registration is required. No fee to play. However\, if you wish to purchase a game card\, the cost is $15. \nThis group plays by the Official Standard Hands and Rules National Mah Jongg League Inc. 
URL:https://hesselschoolhouse.org/event/mahjong-11/2025-02-26/
LOCATION:Hessel School House – Avery Arts & Nature Learning Center\, 3206 West Cedar Street\, Hessel\, MI\, 49745\, United States
CATEGORIES:Adults
ATTACH;FMTTYPE=image/jpeg:https://hesselschoolhouse.org/wp-content/uploads/2024/05/Mahjogn_new-Header-jpg.webp
END:VEVENT
BEGIN:VEVENT
DTSTART;TZID=America/Detroit:20250227T170000
DTEND;TZID=America/Detroit:20250227T203000
DTSTAMP:20260419T152634
CREATED:20240816T192359Z
LAST-MODIFIED:20241006T194255Z
UID:10001719-1740675600-1740688200@hesselschoolhouse.org
SUMMARY:BINGO!
DESCRIPTION:Get ready to have a blast while supporting a great cause! The Hessel School House weekly Bingo Fundraiser promises an entertaining night filled with laughter\, friendly competition\, and cash prizes. Bring your friends\, family\, and colleagues along to enjoy the thrill of shouting “Bingo”. Mark your calendars and don’t miss out on this fun-filled evening. Be sure to arrive early to secure your spot and grab some snacks\, pop\, and free popcorn.  Doors open at 5:00 PM\, games start at 6:00 PM. \nThis is an adults only event. Please no children or babies. 
URL:https://hesselschoolhouse.org/event/bingo-6/2025-02-27/
LOCATION:Hessel School House – Avery Arts & Nature Learning Center\, 3206 West Cedar Street\, Hessel\, MI\, 49745\, United States
CATEGORIES:Adults
END:VEVENT
BEGIN:VEVENT
DTSTART;TZID=America/Detroit:20250301T100000
DTEND;TZID=America/Detroit:20250301T150000
DTSTAMP:20260419T152634
CREATED:20250125T125006Z
LAST-MODIFIED:20250125T125012Z
UID:10001766-1740823200-1740841200@hesselschoolhouse.org
SUMMARY:Stained Glass: Shamrocks
DESCRIPTION:Come create a magical stained glass shamrock with the talented artist Connie Thompson. This hands-on experience is designed for all skill levels—whether you’re a beginner or an experienced crafter\, you’ll leave with a beautiful piece to cherish or gift. All materials are included\, so just bring your creativity and enthusiasm! The workshop will take place at the Hessel School House from 10 AM to 3 PM. With a limited class size of just 6 participants\, you’ll receive personalized attention and guidance throughout the day. This is an adults only class. \nClass Fee: $75 \nTo Register\, call 906-484-1333 or register online at https://www.eventeny.com/events/ticket/?id=17553&action=ticket&action_ticket=29639 \n  \n 
URL:https://hesselschoolhouse.org/event/stained-glass-shamrocks/
LOCATION:Hessel School House – Avery Arts & Nature Learning Center\, 3206 West Cedar Street\, Hessel\, MI\, 49745\, United States
CATEGORIES:Adults,Visual Arts
ATTACH;FMTTYPE=image/jpeg:https://hesselschoolhouse.org/wp-content/uploads/2025/01/Stained-Glass-Shamrocks.jpg
END:VEVENT
END:VCALENDAR