BEGIN:VCALENDAR
VERSION:2.0
PRODID:-//Hessel School House - ECPv6.15.20//NONSGML v1.0//EN
CALSCALE:GREGORIAN
METHOD:PUBLISH
X-WR-CALNAME:Hessel School House
X-ORIGINAL-URL:https://hesselschoolhouse.org
X-WR-CALDESC:Events for Hessel School House
REFRESH-INTERVAL;VALUE=DURATION:PT1H
X-Robots-Tag:noindex
X-PUBLISHED-TTL:PT1H
BEGIN:VTIMEZONE
TZID:America/Detroit
BEGIN:DAYLIGHT
TZOFFSETFROM:-0500
TZOFFSETTO:-0400
TZNAME:EDT
DTSTART:20240310T070000
END:DAYLIGHT
BEGIN:STANDARD
TZOFFSETFROM:-0400
TZOFFSETTO:-0500
TZNAME:EST
DTSTART:20241103T060000
END:STANDARD
BEGIN:DAYLIGHT
TZOFFSETFROM:-0500
TZOFFSETTO:-0400
TZNAME:EDT
DTSTART:20250309T070000
END:DAYLIGHT
BEGIN:STANDARD
TZOFFSETFROM:-0400
TZOFFSETTO:-0500
TZNAME:EST
DTSTART:20251102T060000
END:STANDARD
BEGIN:DAYLIGHT
TZOFFSETFROM:-0500
TZOFFSETTO:-0400
TZNAME:EDT
DTSTART:20260308T070000
END:DAYLIGHT
BEGIN:STANDARD
TZOFFSETFROM:-0400
TZOFFSETTO:-0500
TZNAME:EST
DTSTART:20261101T060000
END:STANDARD
END:VTIMEZONE
BEGIN:VEVENT
DTSTART;TZID=America/Detroit:20250210T080000
DTEND;TZID=America/Detroit:20250210T170000
DTSTAMP:20260420T022357
CREATED:20240801T171337Z
LAST-MODIFIED:20251101T192646Z
UID:10001308-1739174400-1739206800@hesselschoolhouse.org
SUMMARY:Closed on Mondays
DESCRIPTION:
URL:https://hesselschoolhouse.org/event/closed-on-mondays/2025-02-10/
LOCATION:Hessel School House – Avery Arts & Nature Learning Center\, 3206 West Cedar Street\, Hessel\, MI\, 49745\, United States
END:VEVENT
BEGIN:VEVENT
DTSTART;TZID=America/Detroit:20250212T130000
DTEND;TZID=America/Detroit:20250212T160000
DTSTAMP:20260420T022357
CREATED:20240801T175714Z
LAST-MODIFIED:20240816T232131Z
UID:10001569-1739365200-1739376000@hesselschoolhouse.org
SUMMARY:Mahjong
DESCRIPTION:Join us for a friendly game of Mahjong. Games are held weekly on Wednesdays from 1:00 – 4:00 pm (October – May). Whether you are an experienced player or just a beginner\, all skill levels are welcome to play.  For further details or to schedule a lesson\, please call Hessel School House: 906.484.1333 \nNo registration is required. No fee to play. However\, if you wish to purchase a game card\, the cost is $15. \nThis group plays by the Official Standard Hands and Rules National Mah Jongg League Inc. 
URL:https://hesselschoolhouse.org/event/mahjong-11/2025-02-12/
LOCATION:Hessel School House – Avery Arts & Nature Learning Center\, 3206 West Cedar Street\, Hessel\, MI\, 49745\, United States
CATEGORIES:Adults
ATTACH;FMTTYPE=image/jpeg:https://hesselschoolhouse.org/wp-content/uploads/2024/05/Mahjogn_new-Header-jpg.webp
END:VEVENT
BEGIN:VEVENT
DTSTART;TZID=America/Detroit:20250213T170000
DTEND;TZID=America/Detroit:20250213T203000
DTSTAMP:20260420T022357
CREATED:20240816T192359Z
LAST-MODIFIED:20241006T194255Z
UID:10001717-1739466000-1739478600@hesselschoolhouse.org
SUMMARY:BINGO!
DESCRIPTION:Get ready to have a blast while supporting a great cause! The Hessel School House weekly Bingo Fundraiser promises an entertaining night filled with laughter\, friendly competition\, and cash prizes. Bring your friends\, family\, and colleagues along to enjoy the thrill of shouting “Bingo”. Mark your calendars and don’t miss out on this fun-filled evening. Be sure to arrive early to secure your spot and grab some snacks\, pop\, and free popcorn.  Doors open at 5:00 PM\, games start at 6:00 PM. \nThis is an adults only event. Please no children or babies. 
URL:https://hesselschoolhouse.org/event/bingo-6/2025-02-13/
LOCATION:Hessel School House – Avery Arts & Nature Learning Center\, 3206 West Cedar Street\, Hessel\, MI\, 49745\, United States
CATEGORIES:Adults
END:VEVENT
BEGIN:VEVENT
DTSTART;TZID=America/Detroit:20250215T100000
DTEND;TZID=America/Detroit:20250215T150000
DTSTAMP:20260420T022357
CREATED:20241217T232432Z
LAST-MODIFIED:20241217T232435Z
UID:10001752-1739613600-1739631600@hesselschoolhouse.org
SUMMARY:Stained Glass Heart
DESCRIPTION:Join us for a delightful stained glass workshop on February 15\, where you can create a stunning stained glass heart for your Valentine! Led by the talented artist Connie Thompson\, this hands-on experience is designed for all skill levels—whether you’re a beginner or an experienced crafter\, you’ll leave with a beautiful piece to cherish or gift. All materials are included\, so just bring your creativity and enthusiasm! With a limited class size of just 6 participants\, you’ll receive personalized attention and guidance throughout the day. $75 per student. Don’t miss this unique opportunity to express your love in a truly artistic way—reserve your spot today! \nTo register\, call 906-484-1333 or REGISTER ONLINE. \nThis class is for adults only. \nNote: If the class is sold out\, please call 906-484-1333 to be added to the waiting list. If there is a sufficient number of interested students we will work with the artist to do a second class. 
URL:https://hesselschoolhouse.org/event/stained-glass-heart/
LOCATION:Hessel School House – Avery Arts & Nature Learning Center\, 3206 West Cedar Street\, Hessel\, MI\, 49745\, United States
CATEGORIES:Adults,Visual Arts
ATTACH;FMTTYPE=image/jpeg:https://hesselschoolhouse.org/wp-content/uploads/2024/12/Stained-Glass-Hearts.jpg
END:VEVENT
END:VCALENDAR