BEGIN:VCALENDAR
VERSION:2.0
PRODID:-//Hessel School House - ECPv6.15.20//NONSGML v1.0//EN
CALSCALE:GREGORIAN
METHOD:PUBLISH
X-ORIGINAL-URL:https://hesselschoolhouse.org
X-WR-CALDESC:Events for Hessel School House
REFRESH-INTERVAL;VALUE=DURATION:PT1H
X-Robots-Tag:noindex
X-PUBLISHED-TTL:PT1H
BEGIN:VTIMEZONE
TZID:America/Detroit
BEGIN:DAYLIGHT
TZOFFSETFROM:-0500
TZOFFSETTO:-0400
TZNAME:EDT
DTSTART:20230312T070000
END:DAYLIGHT
BEGIN:STANDARD
TZOFFSETFROM:-0400
TZOFFSETTO:-0500
TZNAME:EST
DTSTART:20231105T060000
END:STANDARD
BEGIN:DAYLIGHT
TZOFFSETFROM:-0500
TZOFFSETTO:-0400
TZNAME:EDT
DTSTART:20240310T070000
END:DAYLIGHT
BEGIN:STANDARD
TZOFFSETFROM:-0400
TZOFFSETTO:-0500
TZNAME:EST
DTSTART:20241103T060000
END:STANDARD
BEGIN:DAYLIGHT
TZOFFSETFROM:-0500
TZOFFSETTO:-0400
TZNAME:EDT
DTSTART:20250309T070000
END:DAYLIGHT
BEGIN:STANDARD
TZOFFSETFROM:-0400
TZOFFSETTO:-0500
TZNAME:EST
DTSTART:20251102T060000
END:STANDARD
END:VTIMEZONE
BEGIN:VEVENT
DTSTART;TZID=America/Detroit:20240214T130000
DTEND;TZID=America/Detroit:20240214T160000
DTSTAMP:20260422T002937
CREATED:20231217T144459Z
LAST-MODIFIED:20231217T144500Z
UID:10000899-1707915600-1707926400@hesselschoolhouse.org
SUMMARY:Mahjong
DESCRIPTION:Join us for a friendly game of Mahjong. Games are held weekly on Wednesdays from 1:00 PM until 4:00 PM.  Whether you are an experienced player or just a beginner\, all skill levels are welcome to play.  For further details or to schedule a lesson\, please call Hessel School House: 906.484.1333 \nNo registration is required. No fee to play. However\, if you wish to purchase a game card\, the cost is $15.
URL:https://hesselschoolhouse.org/event/mahjong-10/2024-02-14/
LOCATION:MI
CATEGORIES:Adults
END:VEVENT
BEGIN:VEVENT
DTSTART;TZID=America/Detroit:20240215T170000
DTEND;TZID=America/Detroit:20240215T200000
DTSTAMP:20260422T002937
CREATED:20230714T164634Z
LAST-MODIFIED:20240409T221656Z
UID:10000831-1708016400-1708027200@hesselschoolhouse.org
SUMMARY:BINGO!
DESCRIPTION:Get ready to have a blast while supporting a great cause! The Hessel School House weekly Bingo Fundraiser promises an entertaining night filled with laughter\, friendly competition\, and cash prizes. Bring your friends\, family\, and colleagues along to enjoy the thrill of shouting “Bingo”. Mark your calendars and don’t miss out on this fun-filled evening. Be sure to arrive early to secure your spot and grab some delicious snacks\, pop\, and free popcorn.  Doors open at 5:00 PM\, games start at 6:00 PM. \nThis is an adults only event. Please no children or babies. 
URL:https://hesselschoolhouse.org/event/bingo-5/2024-02-15/
LOCATION:Hessel School House – Avery Arts & Nature Learning Center\, 3206 West Cedar Street\, Hessel\, MI\, 49745\, United States
CATEGORIES:Adults
END:VEVENT
BEGIN:VEVENT
DTSTART;TZID=America/Detroit:20240217T110000
DTEND;TZID=America/Detroit:20240217T130000
DTSTAMP:20260422T002937
CREATED:20231221T224339Z
LAST-MODIFIED:20240215T184342Z
UID:10000973-1708167600-1708174800@hesselschoolhouse.org
SUMMARY:CANCELLED - Women On Ice: Intro to Ice Fishing
DESCRIPTION:Women on Ice – An Introduction to Ice Fishing \nWomen on Ice is an introduction to ice fishing for women of all ages. Grab your girlfriends and make it an afternoon outing. Maureen Stine\, will guide you through the basics of ice fishing from learning how to set a tip up and what to do when the flag goes up\, using an auger\, understanding a lake map\, choosing tackle for perch and panfish vs. tackle for walleye and pike\, ice safety and more. Class will start at the Hessel School House for a bit of training before heading out on the ice. Everything you need is included. Since this event is held on a Michigan Free fishing weekend\, a fishing license for participants is not required making it the perfect time to try your hand at ice fishing and possibly fall in love with a new winter activity. There is no guarantee that we will catch fish. Hot chocolate and snacks provided. Space is limited to 12 people.
URL:https://hesselschoolhouse.org/event/3577/
LOCATION:Hessel School House – Avery Arts & Nature Learning Center\, 3206 West Cedar Street\, Hessel\, MI\, 49745\, United States
CATEGORIES:Adults,Lectures and Workshops,Nature Programs
END:VEVENT
BEGIN:VEVENT
DTSTART;TZID=America/Detroit:20240217T130000
DTEND;TZID=America/Detroit:20240217T150000
DTSTAMP:20260422T002937
CREATED:20231221T220201Z
LAST-MODIFIED:20240216T152121Z
UID:10000969-1708174800-1708182000@hesselschoolhouse.org
SUMMARY:CANCELLED - Create a Beaded Owl
DESCRIPTION:Bring a friend to create your very own beaded owl! Our instructor\, Marissa Wissner\, will guide you in the process of choosing colors and beading them into a beautiful owl that you can proudly display on your backpack\, use as a key chain\, or gift to a friend! All materials are provided and no experience is necessary!  This class is for youth ages 7 & up. Pre-registration is required to attend. Class fee is $20 per student.
URL:https://hesselschoolhouse.org/event/create-a-beaded-owl-youth-art-class/
LOCATION:Hessel School House – Avery Arts & Nature Learning Center\, 3206 West Cedar Street\, Hessel\, MI\, 49745\, United States
CATEGORIES:Elementary,Pre-teen,Teens,Visual Arts
END:VEVENT
END:VCALENDAR