BEGIN:VCALENDAR
VERSION:2.0
PRODID:-//Hessel School House - ECPv6.15.20//NONSGML v1.0//EN
CALSCALE:GREGORIAN
METHOD:PUBLISH
X-ORIGINAL-URL:https://hesselschoolhouse.org
X-WR-CALDESC:Events for Hessel School House
REFRESH-INTERVAL;VALUE=DURATION:PT1H
X-Robots-Tag:noindex
X-PUBLISHED-TTL:PT1H
BEGIN:VTIMEZONE
TZID:America/Detroit
BEGIN:DAYLIGHT
TZOFFSETFROM:-0500
TZOFFSETTO:-0400
TZNAME:EDT
DTSTART:20220313T070000
END:DAYLIGHT
BEGIN:STANDARD
TZOFFSETFROM:-0400
TZOFFSETTO:-0500
TZNAME:EST
DTSTART:20221106T060000
END:STANDARD
BEGIN:DAYLIGHT
TZOFFSETFROM:-0500
TZOFFSETTO:-0400
TZNAME:EDT
DTSTART:20230312T070000
END:DAYLIGHT
BEGIN:STANDARD
TZOFFSETFROM:-0400
TZOFFSETTO:-0500
TZNAME:EST
DTSTART:20231105T060000
END:STANDARD
BEGIN:DAYLIGHT
TZOFFSETFROM:-0500
TZOFFSETTO:-0400
TZNAME:EDT
DTSTART:20240310T070000
END:DAYLIGHT
BEGIN:STANDARD
TZOFFSETFROM:-0400
TZOFFSETTO:-0500
TZNAME:EST
DTSTART:20241103T060000
END:STANDARD
END:VTIMEZONE
BEGIN:VEVENT
DTSTART;TZID=America/Detroit:20231210T100000
DTEND;TZID=America/Detroit:20231210T140000
DTSTAMP:20260421T125609
CREATED:20230302T200432Z
LAST-MODIFIED:20230302T200432Z
UID:10000552-1702202400-1702216800@hesselschoolhouse.org
SUMMARY:Les Cheneaux Farmers & Artisan Market
DESCRIPTION:An ever-changing array of vendors bring fresh and preserved local produce\, locally raised meats\, eggs\, gourmet baked goods\, jams and jellies\, soaps\, gifts\, fabric art and utility products such as bags\, aprons and linens\, artisan crafted jewelry\, birch bark frames and woodworking\, and MORE.\n\n\nHOURS: EVERY Sunday from May thru December from 10am – 2pm\n\n\nNew vendors are always welcome – please email lescheneauxfarmersmarket@gmail.com for details.\n\n\n\nPlease note that the farmers market is not coordinated by Hessel School House. They rent the space to hold their event at our location.  Hours and dates are subject to change without notice. Any questions or concerns about the market should be address the “organizer” listed below. Their facebook page does a good job of alerting people to unforeseen schedule changes in the winter months. 
URL:https://hesselschoolhouse.org/event/les-cheneaux-farmers-artisan-market-2/2023-12-10/
LOCATION:Hessel School House – Avery Arts & Nature Learning Center\, 3206 West Cedar Street\, Hessel\, MI\, 49745\, United States
CATEGORIES:Adults,Annual Events,Family Friendly
ORGANIZER;CN="Les Cheneaux Farmer & Artisan Market":MAILTO:lescheneauxfarmersmarket@gmail.com
END:VEVENT
BEGIN:VEVENT
DTSTART;TZID=America/Detroit:20231213T130000
DTEND;TZID=America/Detroit:20231213T160000
DTSTAMP:20260421T125609
CREATED:20230302T175851Z
LAST-MODIFIED:20230916T154238Z
UID:10000485-1702472400-1702483200@hesselschoolhouse.org
SUMMARY:Mahjong Group
DESCRIPTION:Join us for Mahjong. Games are held weekly on Wednesdays from 1:00 PM until 4:00 PM.  Whether you are an experienced player or just a beginner\, all skill levels are welcome to play.  For further details\, please call Hessel School House: 906.484.1333 \nNo registration is required. No fee to play. However\, if you wish to purchase a game card\, the cost is $15.
URL:https://hesselschoolhouse.org/event/mahjong-group-5/2023-12-13/
LOCATION:Hessel School House – Avery Arts & Nature Learning Center\, 3206 West Cedar Street\, Hessel\, MI\, 49745\, United States
CATEGORIES:Adults
END:VEVENT
BEGIN:VEVENT
DTSTART;TZID=America/Detroit:20231214T170000
DTEND;TZID=America/Detroit:20231214T200000
DTSTAMP:20260421T125609
CREATED:20230714T164634Z
LAST-MODIFIED:20240409T221656Z
UID:10000822-1702573200-1702584000@hesselschoolhouse.org
SUMMARY:BINGO!
DESCRIPTION:Get ready to have a blast while supporting a great cause! The Hessel School House weekly Bingo Fundraiser promises an entertaining night filled with laughter\, friendly competition\, and cash prizes. Bring your friends\, family\, and colleagues along to enjoy the thrill of shouting “Bingo”. Mark your calendars and don’t miss out on this fun-filled evening. Be sure to arrive early to secure your spot and grab some delicious snacks\, pop\, and free popcorn.  Doors open at 5:00 PM\, games start at 6:00 PM. \nThis is an adults only event. Please no children or babies. 
URL:https://hesselschoolhouse.org/event/bingo-5/2023-12-14/
LOCATION:Hessel School House – Avery Arts & Nature Learning Center\, 3206 West Cedar Street\, Hessel\, MI\, 49745\, United States
CATEGORIES:Adults
END:VEVENT
BEGIN:VEVENT
DTSTART;TZID=America/Detroit:20231215T183000
DTEND;TZID=America/Detroit:20231215T210000
DTSTAMP:20260421T125609
CREATED:20231109T184408Z
LAST-MODIFIED:20231109T185212Z
UID:10000870-1702665000-1702674000@hesselschoolhouse.org
SUMMARY:Paint & Sip: Woodland Gnome
DESCRIPTION:Woodland Gnome Paint & Sip\nFriday\, December 15 ~ 6:30 – 9:00 PM  \nGet in the holiday spirit by painting this adorable woodland gnome. Karen Mazzoline will guide you step-by-step in creating this fun work of art. All materials included. Grab your friends or come solo and make new connections with fellow art enthusiasts. Light refreshments will be served. Feel free to bring your own holiday beverage of choice. \nClass Fee: $40 \nTo register\, call 906-484-1333 or REGISTER ONLINE.
URL:https://hesselschoolhouse.org/event/paint-sip-woodland-gnome/
LOCATION:Hessel School House – Avery Arts & Nature Learning Center\, 3206 West Cedar Street\, Hessel\, MI\, 49745\, United States
CATEGORIES:Adults,Visual Arts
END:VEVENT
BEGIN:VEVENT
DTSTART;TZID=America/Detroit:20231216T130000
DTEND;TZID=America/Detroit:20231216T150000
DTSTAMP:20260421T125609
CREATED:20231109T184902Z
LAST-MODIFIED:20231109T184951Z
UID:10000871-1702731600-1702738800@hesselschoolhouse.org
SUMMARY:Holiday Bag and Tags Workshop
DESCRIPTION:Holiday Bags & Tags\nSaturday\, December 16 ~ 1:00 – 3:00 PM  \nWhether you’re a crafting enthusiast or just looking to add a special touch to your gifts this holiday season\, this workshop is perfect for everyone. Our expert instructor will guide you through the process of making an adorable painted bag and custom gift tags\, providing tips and tricks to make your creations stand out. All materials supplied! Grab your friends and spend a delightful afternoon together\, immersed in the holiday spirit. \nClass Fee: $35.00 \nTo register\, call 906-484-1333 or REGISTER ONLINE.
URL:https://hesselschoolhouse.org/event/holiday-bag-and-tags-workshop/
LOCATION:Hessel School House – Avery Arts & Nature Learning Center\, 3206 West Cedar Street\, Hessel\, MI\, 49745\, United States
CATEGORIES:Adults,Visual Arts
END:VEVENT
BEGIN:VEVENT
DTSTART;TZID=America/Detroit:20231216T130000
DTEND;TZID=America/Detroit:20231216T150000
DTSTAMP:20260421T125609
CREATED:20231109T185541Z
LAST-MODIFIED:20231109T185619Z
UID:10000872-1702731600-1702738800@hesselschoolhouse.org
SUMMARY:Bead Snowflake Ornament (Teen art class)
DESCRIPTION:Bead Snowflake Ornament\nSaturday\, December 16 1:00 – 3:00 PM  \nCome get into the holiday spirit and craft your own dazzling snowflake ornament! Perfect for gifting or adding a little extra sparkle to your own holiday decorations. Artist Marissa Wissner will provide everything you need\, including step-by-step instruction\, to create a truly beautiful and unique snowflake. \nThis class is for teens 13 and up. \nClass Fee: $30.00
URL:https://hesselschoolhouse.org/event/bead-snowflake-ornament-teen-art-class/
LOCATION:Hessel School House – Avery Arts & Nature Learning Center\, 3206 West Cedar Street\, Hessel\, MI\, 49745\, United States
CATEGORIES:Teens,Visual Arts
END:VEVENT
END:VCALENDAR