BEGIN:VCALENDAR
VERSION:2.0
PRODID:-//Hessel School House - ECPv6.15.20//NONSGML v1.0//EN
CALSCALE:GREGORIAN
METHOD:PUBLISH
X-WR-CALNAME:Hessel School House
X-ORIGINAL-URL:https://hesselschoolhouse.org
X-WR-CALDESC:Events for Hessel School House
REFRESH-INTERVAL;VALUE=DURATION:PT1H
X-Robots-Tag:noindex
X-PUBLISHED-TTL:PT1H
BEGIN:VTIMEZONE
TZID:America/Detroit
BEGIN:DAYLIGHT
TZOFFSETFROM:-0500
TZOFFSETTO:-0400
TZNAME:EDT
DTSTART:20220313T070000
END:DAYLIGHT
BEGIN:STANDARD
TZOFFSETFROM:-0400
TZOFFSETTO:-0500
TZNAME:EST
DTSTART:20221106T060000
END:STANDARD
BEGIN:DAYLIGHT
TZOFFSETFROM:-0500
TZOFFSETTO:-0400
TZNAME:EDT
DTSTART:20230312T070000
END:DAYLIGHT
BEGIN:STANDARD
TZOFFSETFROM:-0400
TZOFFSETTO:-0500
TZNAME:EST
DTSTART:20231105T060000
END:STANDARD
BEGIN:DAYLIGHT
TZOFFSETFROM:-0500
TZOFFSETTO:-0400
TZNAME:EDT
DTSTART:20240310T070000
END:DAYLIGHT
BEGIN:STANDARD
TZOFFSETFROM:-0400
TZOFFSETTO:-0500
TZNAME:EST
DTSTART:20241103T060000
END:STANDARD
END:VTIMEZONE
BEGIN:VEVENT
DTSTART;TZID=America/Detroit:20231001T100000
DTEND;TZID=America/Detroit:20231001T140000
DTSTAMP:20260422T021829
CREATED:20230302T200432Z
LAST-MODIFIED:20230302T200432Z
UID:10000542-1696154400-1696168800@hesselschoolhouse.org
SUMMARY:Les Cheneaux Farmers & Artisan Market
DESCRIPTION:An ever-changing array of vendors bring fresh and preserved local produce\, locally raised meats\, eggs\, gourmet baked goods\, jams and jellies\, soaps\, gifts\, fabric art and utility products such as bags\, aprons and linens\, artisan crafted jewelry\, birch bark frames and woodworking\, and MORE.\n\n\nHOURS: EVERY Sunday from May thru December from 10am – 2pm\n\n\nNew vendors are always welcome – please email lescheneauxfarmersmarket@gmail.com for details.\n\n\n\nPlease note that the farmers market is not coordinated by Hessel School House. They rent the space to hold their event at our location.  Hours and dates are subject to change without notice. Any questions or concerns about the market should be address the “organizer” listed below. Their facebook page does a good job of alerting people to unforeseen schedule changes in the winter months. 
URL:https://hesselschoolhouse.org/event/les-cheneaux-farmers-artisan-market-2/2023-10-01/
LOCATION:Hessel School House – Avery Arts & Nature Learning Center\, 3206 West Cedar Street\, Hessel\, MI\, 49745\, United States
CATEGORIES:Adults,Annual Events,Family Friendly
ORGANIZER;CN="Les Cheneaux Farmer & Artisan Market":MAILTO:lescheneauxfarmersmarket@gmail.com
END:VEVENT
BEGIN:VEVENT
DTSTART;TZID=America/Detroit:20231004T130000
DTEND;TZID=America/Detroit:20231004T160000
DTSTAMP:20260422T021829
CREATED:20230302T175851Z
LAST-MODIFIED:20230916T154238Z
UID:10000475-1696424400-1696435200@hesselschoolhouse.org
SUMMARY:Mahjong Group
DESCRIPTION:Join us for Mahjong. Games are held weekly on Wednesdays from 1:00 PM until 4:00 PM.  Whether you are an experienced player or just a beginner\, all skill levels are welcome to play.  For further details\, please call Hessel School House: 906.484.1333 \nNo registration is required. No fee to play. However\, if you wish to purchase a game card\, the cost is $15.
URL:https://hesselschoolhouse.org/event/mahjong-group-5/2023-10-04/
LOCATION:Hessel School House – Avery Arts & Nature Learning Center\, 3206 West Cedar Street\, Hessel\, MI\, 49745\, United States
CATEGORIES:Adults
END:VEVENT
BEGIN:VEVENT
DTSTART;TZID=America/Detroit:20231005T170000
DTEND;TZID=America/Detroit:20231005T200000
DTSTAMP:20260422T021829
CREATED:20230714T164634Z
LAST-MODIFIED:20240409T221656Z
UID:10000812-1696525200-1696536000@hesselschoolhouse.org
SUMMARY:BINGO!
DESCRIPTION:Get ready to have a blast while supporting a great cause! The Hessel School House weekly Bingo Fundraiser promises an entertaining night filled with laughter\, friendly competition\, and cash prizes. Bring your friends\, family\, and colleagues along to enjoy the thrill of shouting “Bingo”. Mark your calendars and don’t miss out on this fun-filled evening. Be sure to arrive early to secure your spot and grab some delicious snacks\, pop\, and free popcorn.  Doors open at 5:00 PM\, games start at 6:00 PM. \nThis is an adults only event. Please no children or babies. 
URL:https://hesselschoolhouse.org/event/bingo-5/2023-10-05/
LOCATION:Hessel School House – Avery Arts & Nature Learning Center\, 3206 West Cedar Street\, Hessel\, MI\, 49745\, United States
CATEGORIES:Adults
END:VEVENT
BEGIN:VEVENT
DTSTART;TZID=America/Detroit:20231007T100000
DTEND;TZID=America/Detroit:20231007T120000
DTSTAMP:20260422T021829
CREATED:20230824T143347Z
LAST-MODIFIED:20231006T143626Z
UID:10000845-1696672800-1696680000@hesselschoolhouse.org
SUMMARY:CANCELLED - Let's Paint with Acrylics
DESCRIPTION:Children ages 6-11 years old are welcome to join us for a fun-filled morning of creativity at our Elementary Art – Let’s Paint with Acrylics class! Whether your child is an aspiring artist or just loves art and learning\, this event is perfect for them. During this class\, kids will have the opportunity to explore their artistic talents and learn the basics of acrylic painting. Cheryl Gordon will guide them through various techniques and help them create their own masterpiece to take home. They’ll also have the chance to meet other young artists and make new friends who share their passion for art. \n$20 per student. Includes instruction and all materials.
URL:https://hesselschoolhouse.org/event/lets-paint-with-acrylics/
LOCATION:Hessel School House – Avery Arts & Nature Learning Center\, 3206 West Cedar Street\, Hessel\, MI\, 49745\, United States
CATEGORIES:Elementary,Visual Arts
END:VEVENT
BEGIN:VEVENT
DTSTART;TZID=America/Detroit:20231007T130000
DTEND;TZID=America/Detroit:20231007T150000
DTSTAMP:20260422T021829
CREATED:20230905T205040Z
LAST-MODIFIED:20231001T185417Z
UID:10000853-1696683600-1696690800@hesselschoolhouse.org
SUMMARY:CANCELLED- TEEN ART CLASS: Fall Felt Creations
DESCRIPTION:CANCELLED – TEEN ART CLASS: Fall Felt Creations \nCalling all teens ages 13-18 years old… get ready to unleash your artistic talents and create unique and beautiful creation made of felt! No prior sewing experience is required\, so whether you’re a beginner or have dabbled in sewing before\, this class is perfect for you! All materials and instruction is included. Come connect with fellow art enthusiasts\, make new friends\, and let your creativity run wild in a relaxed and supportive environment. Grab your friends and come join us for an afternoon of fun\, laughter\, and artistic expression. Don’t miss out on this opportunity to create stunning fall felt creation that will leave you feeling proud and inspired! \n$25.00 per student. All materials and instruction included.
URL:https://hesselschoolhouse.org/event/teen-art-class-fall-felt-creations/
LOCATION:Hessel School House – Avery Arts & Nature Learning Center\, 3206 West Cedar Street\, Hessel\, MI\, 49745\, United States
CATEGORIES:Teens,Visual Arts
END:VEVENT
END:VCALENDAR