BEGIN:VCALENDAR
VERSION:2.0
PRODID:-//Hessel School House - ECPv6.15.20//NONSGML v1.0//EN
CALSCALE:GREGORIAN
METHOD:PUBLISH
X-WR-CALNAME:Hessel School House
X-ORIGINAL-URL:https://hesselschoolhouse.org
X-WR-CALDESC:Events for Hessel School House
REFRESH-INTERVAL;VALUE=DURATION:PT1H
X-Robots-Tag:noindex
X-PUBLISHED-TTL:PT1H
BEGIN:VTIMEZONE
TZID:America/Detroit
BEGIN:DAYLIGHT
TZOFFSETFROM:-0500
TZOFFSETTO:-0400
TZNAME:EDT
DTSTART:20220313T070000
END:DAYLIGHT
BEGIN:STANDARD
TZOFFSETFROM:-0400
TZOFFSETTO:-0500
TZNAME:EST
DTSTART:20221106T060000
END:STANDARD
BEGIN:DAYLIGHT
TZOFFSETFROM:-0500
TZOFFSETTO:-0400
TZNAME:EDT
DTSTART:20230312T070000
END:DAYLIGHT
BEGIN:STANDARD
TZOFFSETFROM:-0400
TZOFFSETTO:-0500
TZNAME:EST
DTSTART:20231105T060000
END:STANDARD
BEGIN:DAYLIGHT
TZOFFSETFROM:-0500
TZOFFSETTO:-0400
TZNAME:EDT
DTSTART:20240310T070000
END:DAYLIGHT
BEGIN:STANDARD
TZOFFSETFROM:-0400
TZOFFSETTO:-0500
TZNAME:EST
DTSTART:20241103T060000
END:STANDARD
END:VTIMEZONE
BEGIN:VEVENT
DTSTART;TZID=America/Detroit:20230806T100000
DTEND;TZID=America/Detroit:20230901T160000
DTSTAMP:20260425T080736
CREATED:20230623T213126Z
LAST-MODIFIED:20230623T213651Z
UID:10000696-1691316000-1693584000@hesselschoolhouse.org
SUMMARY:LCAC Annual Art Exhibit
DESCRIPTION:Les Cheneaux Arts Council will showcase local artists in the Hessel School House gallery from August 4 – 30\, 2023. Stop in can admire the handy work of your talented neighbors. Some pieces may be available for purchase. \nPlease note that the exhibit is not available for viewing during private events and classes/lectures that take place in the assembly room. 
URL:https://hesselschoolhouse.org/event/lcac-annual-art-exhibit/
LOCATION:Hessel School House – Avery Arts & Nature Learning Center\, 3206 West Cedar Street\, Hessel\, MI\, 49745\, United States
CATEGORIES:Visual Arts
ORGANIZER;CN="Les Cheneaux Arts Council":MAILTO:lescheneauxartscouncil@gmail.com
END:VEVENT
BEGIN:VEVENT
DTSTART;TZID=America/Detroit:20230827T100000
DTEND;TZID=America/Detroit:20230827T140000
DTSTAMP:20260425T080736
CREATED:20230302T200432Z
LAST-MODIFIED:20230302T200432Z
UID:10000537-1693130400-1693144800@hesselschoolhouse.org
SUMMARY:Les Cheneaux Farmers & Artisan Market
DESCRIPTION:An ever-changing array of vendors bring fresh and preserved local produce\, locally raised meats\, eggs\, gourmet baked goods\, jams and jellies\, soaps\, gifts\, fabric art and utility products such as bags\, aprons and linens\, artisan crafted jewelry\, birch bark frames and woodworking\, and MORE.\n\n\nHOURS: EVERY Sunday from May thru December from 10am – 2pm\n\n\nNew vendors are always welcome – please email lescheneauxfarmersmarket@gmail.com for details.\n\n\n\nPlease note that the farmers market is not coordinated by Hessel School House. They rent the space to hold their event at our location.  Hours and dates are subject to change without notice. Any questions or concerns about the market should be address the “organizer” listed below. Their facebook page does a good job of alerting people to unforeseen schedule changes in the winter months. 
URL:https://hesselschoolhouse.org/event/les-cheneaux-farmers-artisan-market-2/2023-08-27/
LOCATION:Hessel School House – Avery Arts & Nature Learning Center\, 3206 West Cedar Street\, Hessel\, MI\, 49745\, United States
CATEGORIES:Adults,Annual Events,Family Friendly
ORGANIZER;CN="Les Cheneaux Farmer & Artisan Market":MAILTO:lescheneauxfarmersmarket@gmail.com
END:VEVENT
BEGIN:VEVENT
DTSTART;TZID=America/Detroit:20230827T150000
DTEND;TZID=America/Detroit:20230827T163000
DTSTAMP:20260425T080736
CREATED:20230824T130711Z
LAST-MODIFIED:20230824T130713Z
UID:10000558-1693148400-1693153800@hesselschoolhouse.org
SUMMARY:CANCELLED - Write On Sunday
DESCRIPTION:Clear your head and open your mind to a fun experience in short-form creative writing the last Sunday of each month. Release your inner critic and follow your inspiration. Nothing to bring but pen\, paper and who you really are. \nSimple writing prompts will ignite your imagination and get your creative juices flowing. Then you will follow your own creative instincts in this short form creative writing exercise that takes approximately 1 hour from start to finish. There will be no teaching or critiquing. This is just writing for your own enjoyment. Each meeting is a new adventure and you will be amazed to see the multitude of perspectives that all began with the same pebble of inspiration. \nWriters of all skill levels are welcome\, whether you’re a published author or just a beginner. \nThere is no fee to attend\, but please register online so we can plan accordingly.
URL:https://hesselschoolhouse.org/event/write-on-sunday-5-4/
LOCATION:MI
CATEGORIES:Adults,Teens,Writers Programs
END:VEVENT
BEGIN:VEVENT
DTSTART;TZID=America/Detroit:20230828T100000
DTEND;TZID=America/Detroit:20230828T120000
DTSTAMP:20260425T080736
CREATED:20230302T212404Z
LAST-MODIFIED:20230623T201916Z
UID:10000575-1693216800-1693224000@hesselschoolhouse.org
SUMMARY:Make It On Monday - "It's Tea Time" Bird Feeder
DESCRIPTION:Join us on Monday’s through out the summer for Make It On Monday! \nCheryl Gordon will show you how to repurpose mismatched or slightly damaged tea cups and saucers by transforming them into a whimsical bird feeder. Adults and teens are welcome to attend. $15 per person includes all materials. 10:00 AM – 12:00 PM. Class size is limited\, please pre-register online so we can plan accordingly. \nREGISTER ONLINE: https://www.eventbrite.com/e/567235666147
URL:https://hesselschoolhouse.org/event/make-it-on-monday-its-tea-time-bird-feeder/
LOCATION:Hessel School House – Avery Arts & Nature Learning Center\, 3206 West Cedar Street\, Hessel\, MI\, 49745\, United States
CATEGORIES:Adults,Teens,Visual Arts
END:VEVENT
BEGIN:VEVENT
DTSTART;TZID=America/Detroit:20230829T090000
DTEND;TZID=America/Detroit:20230829T100000
DTSTAMP:20260425T080736
CREATED:20230622T161746Z
LAST-MODIFIED:20230622T161748Z
UID:10000667-1693299600-1693303200@hesselschoolhouse.org
SUMMARY:Qigong
DESCRIPTION:Qigong will be offered at Hessel School House on Tuesdays and Thursdays on the following dates: \nAugust 29 and 31\nSeptember 5 and 7 \nClasses will take place on the front lawn of the Hessel School House. During inclement weather they will take place in the assembly room of the school house. Class size is limited to 20 people. \nThe class is open to anyone\, no experience required. $10 per class. To register for one or more classes\, please call 906-484-1333 to be added to the schedule. Payment will be accepted at the door only. \nQigong (pronounced chee-gong) is a five thousand year old approach to healing in Traditional Chinese Medicine\, with literally hundreds of different styles. In this class we will focus on two different movement forms and will emphasize working with the mind along with the gentle flowing movements of the body to create a deeply relaxed and calm state. This in itself is a healing experience. We will learn about Qi and how it works in the body\, and students will have a very direct experience of feeling and working with qi\, or the life force\, that animates everything in the universe. \nThe instructor\, Bill McMillan\, is a retired psychotherapist and has been teaching Yuan Gong Qigong for the past twelve years to all kinds of students. From Cancer survivors to high school students\, veterans and just regular people\, this method of qigong is easily accessible and can be beneficial for almost anyone. \n  \n  \n\nhttps://youtu.be/86npQGyDFjc \n\n\n\n  \nAbout the Instructor \nBill McMillan and his family have been summer residents of Les Cheneaux for five generations. \nBill has completed Level Six and has been teaching in various settings for many years now. His primary focus has been teaching classes to Cancer survivors and family members\, but he has also taught in many other settings\, including to high school students\, veterans\, seniors and the general public. He is currently teaching three classes in Santa Barbara – The Breast Cancer Resource Center\, Casa Dorinda Retirement Community\, and a class for family members\, caregivers and others living with a chronic illness. \nBill is a retired Marriage and Family Therapist with over twenty years experience working with adults\, adolescents\, couples and veterans\, with a general focus on trauma\, grief and recovery. He has had a long standing Buddhist practice and brings all of this experience to his teaching of Yuan Gong and Ren Xue. \n 
URL:https://hesselschoolhouse.org/event/qigong-4/
LOCATION:Hessel School House – Avery Arts & Nature Learning Center\, 3206 West Cedar Street\, Hessel\, MI\, 49745\, United States
CATEGORIES:Adults,Teens
END:VEVENT
BEGIN:VEVENT
DTSTART;TZID=America/Detroit:20230830T090000
DTEND;TZID=America/Detroit:20230830T120000
DTSTAMP:20260425T080736
CREATED:20230623T200853Z
LAST-MODIFIED:20230906T160916Z
UID:10000682-1693386000-1693396800@hesselschoolhouse.org
SUMMARY:Mahjong
DESCRIPTION:The Mahjong group will be meeting a the Hessel School House on Wednesday mornings from 9:00 AM – Noon throughout the summer. All experience levels are welcome to attend.
URL:https://hesselschoolhouse.org/event/mahjong-9/2023-08-30/
LOCATION:Hessel School House – Avery Arts & Nature Learning Center\, 3206 West Cedar Street\, Hessel\, MI\, 49745\, United States
CATEGORIES:Adults
END:VEVENT
BEGIN:VEVENT
DTSTART;TZID=America/Detroit:20230830T100000
DTEND;TZID=America/Detroit:20230830T120000
DTSTAMP:20260425T080736
CREATED:20230303T015821Z
LAST-MODIFIED:20230623T201523Z
UID:10000615-1693389600-1693396800@hesselschoolhouse.org
SUMMARY:Printing Magic (Elementary Art Class)
DESCRIPTION:Students ages 6-11 years old will learn a variety of printing techniques. They will create a simple relief fish and leaves print. They will also be printing with celery\, apples\, and potatoes to create one-of-a-kind works of art as they discover the magic of printing. \nInstructor: Cheryl Gordon \nClass Size: Min. 4 / Max. 12 \nClass Fee: $20/student \nREGISTER ONLINE: https://www.eventbrite.com/e/568392546407
URL:https://hesselschoolhouse.org/event/printing-magic-elementary-art-class/
LOCATION:Hessel School House – Avery Arts & Nature Learning Center\, 3206 West Cedar Street\, Hessel\, MI\, 49745\, United States
CATEGORIES:Elementary
END:VEVENT
BEGIN:VEVENT
DTSTART;TZID=America/Detroit:20230831T090000
DTEND;TZID=America/Detroit:20230831T100000
DTSTAMP:20260425T080736
CREATED:20230622T161935Z
LAST-MODIFIED:20230622T161936Z
UID:10000668-1693472400-1693476000@hesselschoolhouse.org
SUMMARY:Qigong
DESCRIPTION:Qigong will be offered at Hessel School House on Tuesdays and Thursdays on the following dates: \nAugust 29 and 31\nSeptember 5 and 7 \nClasses will take place on the front lawn of the Hessel School House. During inclement weather they will take place in the assembly room of the school house. Class size is limited to 20 people. \nThe class is open to anyone\, no experience required. $10 per class. To register for one or more classes\, please call 906-484-1333 to be added to the schedule. Payment will be accepted at the door only. \nQigong (pronounced chee-gong) is a five thousand year old approach to healing in Traditional Chinese Medicine\, with literally hundreds of different styles. In this class we will focus on two different movement forms and will emphasize working with the mind along with the gentle flowing movements of the body to create a deeply relaxed and calm state. This in itself is a healing experience. We will learn about Qi and how it works in the body\, and students will have a very direct experience of feeling and working with qi\, or the life force\, that animates everything in the universe. \nThe instructor\, Bill McMillan\, is a retired psychotherapist and has been teaching Yuan Gong Qigong for the past twelve years to all kinds of students. From Cancer survivors to high school students\, veterans and just regular people\, this method of qigong is easily accessible and can be beneficial for almost anyone. \n  \n  \n\nhttps://youtu.be/86npQGyDFjc \n\n\n\n  \nAbout the Instructor \nBill McMillan and his family have been summer residents of Les Cheneaux for five generations. \nBill has completed Level Six and has been teaching in various settings for many years now. His primary focus has been teaching classes to Cancer survivors and family members\, but he has also taught in many other settings\, including to high school students\, veterans\, seniors and the general public. He is currently teaching three classes in Santa Barbara – The Breast Cancer Resource Center\, Casa Dorinda Retirement Community\, and a class for family members\, caregivers and others living with a chronic illness. \nBill is a retired Marriage and Family Therapist with over twenty years experience working with adults\, adolescents\, couples and veterans\, with a general focus on trauma\, grief and recovery. He has had a long standing Buddhist practice and brings all of this experience to his teaching of Yuan Gong and Ren Xue. \n 
URL:https://hesselschoolhouse.org/event/qigong-5/
LOCATION:Hessel School House – Avery Arts & Nature Learning Center\, 3206 West Cedar Street\, Hessel\, MI\, 49745\, United States
CATEGORIES:Adults,Teens
END:VEVENT
END:VCALENDAR