BEGIN:VCALENDAR
VERSION:2.0
PRODID:-//Hessel School House - ECPv6.15.20//NONSGML v1.0//EN
CALSCALE:GREGORIAN
METHOD:PUBLISH
X-WR-CALNAME:Hessel School House
X-ORIGINAL-URL:https://hesselschoolhouse.org
X-WR-CALDESC:Events for Hessel School House
REFRESH-INTERVAL;VALUE=DURATION:PT1H
X-Robots-Tag:noindex
X-PUBLISHED-TTL:PT1H
BEGIN:VTIMEZONE
TZID:America/Detroit
BEGIN:DAYLIGHT
TZOFFSETFROM:-0500
TZOFFSETTO:-0400
TZNAME:EDT
DTSTART:20220313T070000
END:DAYLIGHT
BEGIN:STANDARD
TZOFFSETFROM:-0400
TZOFFSETTO:-0500
TZNAME:EST
DTSTART:20221106T060000
END:STANDARD
BEGIN:DAYLIGHT
TZOFFSETFROM:-0500
TZOFFSETTO:-0400
TZNAME:EDT
DTSTART:20230312T070000
END:DAYLIGHT
BEGIN:STANDARD
TZOFFSETFROM:-0400
TZOFFSETTO:-0500
TZNAME:EST
DTSTART:20231105T060000
END:STANDARD
BEGIN:DAYLIGHT
TZOFFSETFROM:-0500
TZOFFSETTO:-0400
TZNAME:EDT
DTSTART:20240310T070000
END:DAYLIGHT
BEGIN:STANDARD
TZOFFSETFROM:-0400
TZOFFSETTO:-0500
TZNAME:EST
DTSTART:20241103T060000
END:STANDARD
END:VTIMEZONE
BEGIN:VEVENT
DTSTART;TZID=America/Detroit:20230426T130000
DTEND;TZID=America/Detroit:20230426T160000
DTSTAMP:20260424T211421
CREATED:20221208T202310Z
LAST-MODIFIED:20230302T222545Z
UID:10000311-1682514000-1682524800@hesselschoolhouse.org
SUMMARY:Mahjong Group
DESCRIPTION:Join us for Mahjong. Games are held weekly on Wednesdays from 1:00 PM until 4:00 PM.  Whether you are an experienced player or just a beginner\, all skill levels are welcome to play.  For further details\, please call Hessel School House: 906.484.1333 \nNo registration is required. No fee to play. However\, if you wish to purchase a game card\, the cost is $15.
URL:https://hesselschoolhouse.org/event/mahjong-group-3/2023-04-26/
LOCATION:Hessel School House – Avery Arts & Nature Learning Center\, 3206 West Cedar Street\, Hessel\, MI\, 49745\, United States
CATEGORIES:Adults
END:VEVENT
BEGIN:VEVENT
DTSTART;TZID=America/Detroit:20230427T180000
DTEND;TZID=America/Detroit:20230427T203000
DTSTAMP:20260424T211421
CREATED:20230228T195033Z
LAST-MODIFIED:20230316T142448Z
UID:10000266-1682618400-1682627400@hesselschoolhouse.org
SUMMARY:Bingo
DESCRIPTION:Our licensed bingo games use paper cards with a variety of games being played including a progressive cover-all game. Doors open at 5:00 PM and games start at 6:00 PM. Limited concessions are available. Smoking is prohibited inside the Hessel School House. \nThe bingo program is a fundraiser for Hessel School House and helps support our operations and individual programs. For more information about the bingo program\, please call Hessel School House. \nMichigan Lottery License #A22504\nOrganization ID: 138966
URL:https://hesselschoolhouse.org/event/bingo-4/2023-04-27/
LOCATION:Hessel School House – Avery Arts & Nature Learning Center\, 3206 West Cedar Street\, Hessel\, MI\, 49745\, United States
CATEGORIES:Adults
END:VEVENT
BEGIN:VEVENT
DTSTART;TZID=America/Detroit:20230428T100000
DTEND;TZID=America/Detroit:20230428T113000
DTSTAMP:20260424T211421
CREATED:20230302T184602Z
LAST-MODIFIED:20230302T184602Z
UID:10000501-1682676000-1682681400@hesselschoolhouse.org
SUMMARY:Little Learners (Ages 2-5)
DESCRIPTION:Come and let your preschooler explore nature and art with Mrs. Gordon. Preschoolers 2-5 years old will be creating theme based nature and art projects\, enjoy a story and have fun socializing with other children of the same age. Class meets from 10:00 – 11:30 AM. All materials included in the $5.00 per class fee. Parent or guardian must remain on-site during class time. \nRecommended for Ages: 2-5 years old \nClass Fee: $5.00/class \nClass Min. 4 • Class Max. 8 \nPre-registration is strongly recommended to ensure we have enough materials for each student. \nREGISTER ONLINE: https://www.eventbrite.com/e/566827134217
URL:https://hesselschoolhouse.org/event/little-learners-ages-2-5-3/
LOCATION:Hessel School House – Avery Arts & Nature Learning Center\, 3206 West Cedar Street\, Hessel\, MI\, 49745\, United States
CATEGORIES:Nature Programs,Pre-teen,Visual Arts
END:VEVENT
BEGIN:VEVENT
DTSTART;TZID=America/Detroit:20230429T130000
DTEND;TZID=America/Detroit:20230429T150000
DTSTAMP:20260424T211421
CREATED:20230302T194118Z
LAST-MODIFIED:20230302T194515Z
UID:10000506-1682773200-1682780400@hesselschoolhouse.org
SUMMARY:Drawing 101 (2 session class)
DESCRIPTION:Drawing 101\n2 Sessions: April 15 and 29 from 1:00 – 3:00 PM \nDrawing 101 is designed for beginner artists who have an interest in learning how to draw or sketch — or simply want to improve their skills. It covers the tools you’ll need to draw and also provides plenty of exercises to practice drawing using different techniques and styles. It also covers drawing people\, places\, and objects. \nDuring this two session workshop you will learn about the tools used to draw\, values\, shading\, textures and how to create them\, and incorporate them to draw people\, landscapes\, animals\, flowers and trees. You will also have the opportunity to share your amazing drawing creations in class to receive useful feedback. While you won’t walk away a master artist after you’ve finish the workshop\, you will have the knowledge and training you need to continue to draw and bring the scenes you see in your daily life to paper. \nThis class is geared to adults but teens are welcome to attend. Materials are included\, but feel free to bring your own supplies if you like. \nClass Fee: $65.00 (includes both sessions and supplies) \nREGISTER ONLINE: https://www.eventbrite.com/e/548018527167 \nABOUT THE INSTRUCTOR \nKaren Mazzoline is a newly retired art/music teacher from the Public Schools of Petoskey. She has lived in northern Michigan since 1995 and considers this area the “best place to be”! Karen’s passion for drawing started when she was young and developed her skills through college\, post-graduate classes\, and personal experimentation. Mrs. Mazzoline’s approach to teaching this class is simple: she will give you the basic tools to develop and strengthen your drawing skill set and will encourage and support you through the artistic process!
URL:https://hesselschoolhouse.org/event/drawing-101-2-session-class/2023-04-29/
LOCATION:Hessel School House – Avery Arts & Nature Learning Center\, 3206 West Cedar Street\, Hessel\, MI\, 49745\, United States
CATEGORIES:Adults,Teens,Visual Arts
END:VEVENT
END:VCALENDAR