BEGIN:VCALENDAR
VERSION:2.0
PRODID:-//Hessel School House - ECPv6.15.20//NONSGML v1.0//EN
CALSCALE:GREGORIAN
METHOD:PUBLISH
X-ORIGINAL-URL:https://hesselschoolhouse.org
X-WR-CALDESC:Events for Hessel School House
REFRESH-INTERVAL;VALUE=DURATION:PT1H
X-Robots-Tag:noindex
X-PUBLISHED-TTL:PT1H
BEGIN:VTIMEZONE
TZID:America/Detroit
BEGIN:DAYLIGHT
TZOFFSETFROM:-0500
TZOFFSETTO:-0400
TZNAME:EDT
DTSTART:20220313T070000
END:DAYLIGHT
BEGIN:STANDARD
TZOFFSETFROM:-0400
TZOFFSETTO:-0500
TZNAME:EST
DTSTART:20221106T060000
END:STANDARD
BEGIN:DAYLIGHT
TZOFFSETFROM:-0500
TZOFFSETTO:-0400
TZNAME:EDT
DTSTART:20230312T070000
END:DAYLIGHT
BEGIN:STANDARD
TZOFFSETFROM:-0400
TZOFFSETTO:-0500
TZNAME:EST
DTSTART:20231105T060000
END:STANDARD
BEGIN:DAYLIGHT
TZOFFSETFROM:-0500
TZOFFSETTO:-0400
TZNAME:EDT
DTSTART:20240310T070000
END:DAYLIGHT
BEGIN:STANDARD
TZOFFSETFROM:-0400
TZOFFSETTO:-0500
TZNAME:EST
DTSTART:20241103T060000
END:STANDARD
END:VTIMEZONE
BEGIN:VEVENT
DTSTART;TZID=America/Detroit:20230419T130000
DTEND;TZID=America/Detroit:20230419T160000
DTSTAMP:20260424T225920
CREATED:20221208T202310Z
LAST-MODIFIED:20230302T222545Z
UID:10000310-1681909200-1681920000@hesselschoolhouse.org
SUMMARY:Mahjong Group
DESCRIPTION:Join us for Mahjong. Games are held weekly on Wednesdays from 1:00 PM until 4:00 PM.  Whether you are an experienced player or just a beginner\, all skill levels are welcome to play.  For further details\, please call Hessel School House: 906.484.1333 \nNo registration is required. No fee to play. However\, if you wish to purchase a game card\, the cost is $15.
URL:https://hesselschoolhouse.org/event/mahjong-group-3/2023-04-19/
LOCATION:Hessel School House – Avery Arts & Nature Learning Center\, 3206 West Cedar Street\, Hessel\, MI\, 49745\, United States
CATEGORIES:Adults
END:VEVENT
BEGIN:VEVENT
DTSTART;TZID=America/Detroit:20230420T180000
DTEND;TZID=America/Detroit:20230420T203000
DTSTAMP:20260424T225920
CREATED:20230228T195033Z
LAST-MODIFIED:20230316T142448Z
UID:10000265-1682013600-1682022600@hesselschoolhouse.org
SUMMARY:Bingo
DESCRIPTION:Our licensed bingo games use paper cards with a variety of games being played including a progressive cover-all game. Doors open at 5:00 PM and games start at 6:00 PM. Limited concessions are available. Smoking is prohibited inside the Hessel School House. \nThe bingo program is a fundraiser for Hessel School House and helps support our operations and individual programs. For more information about the bingo program\, please call Hessel School House. \nMichigan Lottery License #A22504\nOrganization ID: 138966
URL:https://hesselschoolhouse.org/event/bingo-4/2023-04-20/
LOCATION:Hessel School House – Avery Arts & Nature Learning Center\, 3206 West Cedar Street\, Hessel\, MI\, 49745\, United States
CATEGORIES:Adults
END:VEVENT
BEGIN:VEVENT
DTSTART;TZID=America/Detroit:20230422T093000
DTEND;TZID=America/Detroit:20230422T120000
DTSTAMP:20260424T225920
CREATED:20230302T185058Z
LAST-MODIFIED:20230302T192041Z
UID:10000503-1682155800-1682164800@hesselschoolhouse.org
SUMMARY:Rag Rug Weaving (2 session class)
DESCRIPTION:Rag rug making is a centuries old craft with unlimited opportunities for experimentation and self-expression. The tactile quality of simple loom weaving is particularly aesthetic and creative. In this class\, Cheryl Gordon you will provide each student with a loom\, teach them how to prepare a variety of “rag” scrap fabrics for a custom weaving experience\, and teach them how to weave a beautiful and functional rug approximately 30″ x 45″ in size. The objective of this course is to provide students with the necessary skills and materials to confidently leave the classroom and create future rugs using this technique. \nThis class is two sessions : April 15 and April 22 from 9:30 AM – 12:00 PM \nClass Fee: $75 (include loom\, materials\, and 2 days of instruction) \nREGISTER ONLINE: https://www.eventbrite.com/e/547972629887
URL:https://hesselschoolhouse.org/event/rag-rug-weaving-2-session-class/2023-04-22/
LOCATION:Hessel School House – Avery Arts & Nature Learning Center\, 3206 West Cedar Street\, Hessel\, MI\, 49745\, United States
CATEGORIES:Adults,Teens,Visual Arts
END:VEVENT
BEGIN:VEVENT
DTSTART;TZID=America/Detroit:20230422T093000
DTEND;TZID=America/Detroit:20230422T120000
DTSTAMP:20260424T225920
CREATED:20230416T190508Z
LAST-MODIFIED:20230416T190508Z
UID:10000627-1682155800-1682164800@hesselschoolhouse.org
SUMMARY:Rag Rug Weaving (2 session class)
DESCRIPTION:Rag rug making is a centuries old craft with unlimited opportunities for experimentation and self-expression. The tactile quality of simple loom weaving is particularly aesthetic and creative. In this class\, Cheryl Gordon you will provide each student with a loom\, teach them how to prepare a variety of “rag” scrap fabrics for a custom weaving experience\, and teach them how to weave a beautiful and functional rug approximately 30″ x 45″ in size. The objective of this course is to provide students with the necessary skills and materials to confidently leave the classroom and create future rugs using this technique. \nThis class is two sessions : August 14 and August 16 from 1:00 –  3:30 PM \nClass Fee: $85 (include loom\, materials\, and 2 days of instruction) \nREGISTER ONLINE: https://www.eventbrite.com/e/568183651597
URL:https://hesselschoolhouse.org/event/rag-rug-weaving-2-session-class-2/2023-04-22/
LOCATION:Hessel School House – Avery Arts & Nature Learning Center\, 3206 West Cedar Street\, Hessel\, MI\, 49745\, United States
CATEGORIES:Adults,Teens,Visual Arts
END:VEVENT
BEGIN:VEVENT
DTSTART;TZID=America/Detroit:20230422T100000
DTEND;TZID=America/Detroit:20230422T120000
DTSTAMP:20260424T225920
CREATED:20230318T142704Z
LAST-MODIFIED:20230421T171259Z
UID:10000617-1682157600-1682164800@hesselschoolhouse.org
SUMMARY:CANCELLED - Family Nature Exploration - Earth Day Celebration!
DESCRIPTION:Join us for an Earth Day Celebration! \nInspired by the wisdom of Dr. Seuss’ Lorax! “Unless someone like you cares a whole awful lot\, nothing is going to get better. It’s not.”  \nDuring this family friendly exploration of nature\, we will learn different ways to help protect earth by implementing the Three R’s: reduce\, reuse\, and recycle\, and by being good stewards of our natural resources. A fun art project using recycled materials will reinforce the concept of reusing objects we usually throw in the trash to create art.  \nSpace is limited. Register early to avoid disappointment. \nFunding for this program provided by The Americana Foundation.
URL:https://hesselschoolhouse.org/event/family-nature-exploration-earth-day-celebration/
LOCATION:Hessel School House – Avery Arts & Nature Learning Center\, 3206 West Cedar Street\, Hessel\, MI\, 49745\, United States
CATEGORIES:Elementary,Family Friendly,Nature Programs,Pre-teen
END:VEVENT
END:VCALENDAR