BEGIN:VCALENDAR
VERSION:2.0
PRODID:-//Hessel School House - ECPv6.15.20//NONSGML v1.0//EN
CALSCALE:GREGORIAN
METHOD:PUBLISH
X-ORIGINAL-URL:https://hesselschoolhouse.org
X-WR-CALDESC:Events for Hessel School House
REFRESH-INTERVAL;VALUE=DURATION:PT1H
X-Robots-Tag:noindex
X-PUBLISHED-TTL:PT1H
BEGIN:VTIMEZONE
TZID:America/Detroit
BEGIN:DAYLIGHT
TZOFFSETFROM:-0500
TZOFFSETTO:-0400
TZNAME:EDT
DTSTART:20220313T070000
END:DAYLIGHT
BEGIN:STANDARD
TZOFFSETFROM:-0400
TZOFFSETTO:-0500
TZNAME:EST
DTSTART:20221106T060000
END:STANDARD
BEGIN:DAYLIGHT
TZOFFSETFROM:-0500
TZOFFSETTO:-0400
TZNAME:EDT
DTSTART:20230312T070000
END:DAYLIGHT
BEGIN:STANDARD
TZOFFSETFROM:-0400
TZOFFSETTO:-0500
TZNAME:EST
DTSTART:20231105T060000
END:STANDARD
BEGIN:DAYLIGHT
TZOFFSETFROM:-0500
TZOFFSETTO:-0400
TZNAME:EDT
DTSTART:20240310T070000
END:DAYLIGHT
BEGIN:STANDARD
TZOFFSETFROM:-0400
TZOFFSETTO:-0500
TZNAME:EST
DTSTART:20241103T060000
END:STANDARD
END:VTIMEZONE
BEGIN:VEVENT
DTSTART;TZID=America/Detroit:20230322T130000
DTEND;TZID=America/Detroit:20230322T160000
DTSTAMP:20260424T161222
CREATED:20221208T202310Z
LAST-MODIFIED:20230302T222545Z
UID:10000306-1679490000-1679500800@hesselschoolhouse.org
SUMMARY:Mahjong Group
DESCRIPTION:Join us for Mahjong. Games are held weekly on Wednesdays from 1:00 PM until 4:00 PM.  Whether you are an experienced player or just a beginner\, all skill levels are welcome to play.  For further details\, please call Hessel School House: 906.484.1333 \nNo registration is required. No fee to play. However\, if you wish to purchase a game card\, the cost is $15.
URL:https://hesselschoolhouse.org/event/mahjong-group-3/2023-03-22/
LOCATION:Hessel School House – Avery Arts & Nature Learning Center\, 3206 West Cedar Street\, Hessel\, MI\, 49745\, United States
CATEGORIES:Adults
END:VEVENT
BEGIN:VEVENT
DTSTART;TZID=America/Detroit:20230323T180000
DTEND;TZID=America/Detroit:20230323T203000
DTSTAMP:20260424T161222
CREATED:20230228T195033Z
LAST-MODIFIED:20230316T142448Z
UID:10000261-1679594400-1679603400@hesselschoolhouse.org
SUMMARY:Bingo
DESCRIPTION:Our licensed bingo games use paper cards with a variety of games being played including a progressive cover-all game. Doors open at 5:00 PM and games start at 6:00 PM. Limited concessions are available. Smoking is prohibited inside the Hessel School House. \nThe bingo program is a fundraiser for Hessel School House and helps support our operations and individual programs. For more information about the bingo program\, please call Hessel School House. \nMichigan Lottery License #A22504\nOrganization ID: 138966
URL:https://hesselschoolhouse.org/event/bingo-4/2023-03-23/
LOCATION:Hessel School House – Avery Arts & Nature Learning Center\, 3206 West Cedar Street\, Hessel\, MI\, 49745\, United States
CATEGORIES:Adults
END:VEVENT
BEGIN:VEVENT
DTSTART;TZID=America/Detroit:20230325T100000
DTEND;TZID=America/Detroit:20230325T120000
DTSTAMP:20260424T161222
CREATED:20230214T201025Z
LAST-MODIFIED:20230214T201026Z
UID:10000410-1679738400-1679745600@hesselschoolhouse.org
SUMMARY:Discover Michigan's Magnificent Mammals
DESCRIPTION:About 60 species of terrestrial mammals live in Michigan\, including bear\, elk\, and fox. We will have an extensive collection of pelts and skulls for students to touch and compare as we explore the adaptations of some of Michigan’s magnificent mammals. Our science and nature lesson will be followed by a nature inspired art project. Fun for the whole family. Limited space is available for this hands-on\, family friendly experience. Register early. \n$5.00 per person \nREGISTER ONLINE: https://www.eventbrite.com/e/547944927027 \n 
URL:https://hesselschoolhouse.org/event/discover-michigans-magnificent-mammals/
LOCATION:Hessel School House – Avery Arts & Nature Learning Center\, 3206 West Cedar Street\, Hessel\, MI\, 49745\, United States
CATEGORIES:Elementary,Family Friendly,Nature Programs,Pre-school,Pre-teen,Teens
END:VEVENT
END:VCALENDAR