BEGIN:VCALENDAR
VERSION:2.0
PRODID:-//Hessel School House - ECPv6.15.20//NONSGML v1.0//EN
CALSCALE:GREGORIAN
METHOD:PUBLISH
X-WR-CALNAME:Hessel School House
X-ORIGINAL-URL:https://hesselschoolhouse.org
X-WR-CALDESC:Events for Hessel School House
REFRESH-INTERVAL;VALUE=DURATION:PT1H
X-Robots-Tag:noindex
X-PUBLISHED-TTL:PT1H
BEGIN:VTIMEZONE
TZID:America/Detroit
BEGIN:DAYLIGHT
TZOFFSETFROM:-0500
TZOFFSETTO:-0400
TZNAME:EDT
DTSTART:20220313T070000
END:DAYLIGHT
BEGIN:STANDARD
TZOFFSETFROM:-0400
TZOFFSETTO:-0500
TZNAME:EST
DTSTART:20221106T060000
END:STANDARD
BEGIN:DAYLIGHT
TZOFFSETFROM:-0500
TZOFFSETTO:-0400
TZNAME:EDT
DTSTART:20230312T070000
END:DAYLIGHT
BEGIN:STANDARD
TZOFFSETFROM:-0400
TZOFFSETTO:-0500
TZNAME:EST
DTSTART:20231105T060000
END:STANDARD
BEGIN:DAYLIGHT
TZOFFSETFROM:-0500
TZOFFSETTO:-0400
TZNAME:EDT
DTSTART:20240310T070000
END:DAYLIGHT
BEGIN:STANDARD
TZOFFSETFROM:-0400
TZOFFSETTO:-0500
TZNAME:EST
DTSTART:20241103T060000
END:STANDARD
END:VTIMEZONE
BEGIN:VEVENT
DTSTART;TZID=America/Detroit:20230314T060000
DTEND;TZID=America/Detroit:20230314T203000
DTSTAMP:20260424T174836
CREATED:20230220T011841Z
LAST-MODIFIED:20230228T164042Z
UID:10000411-1678773600-1678825800@hesselschoolhouse.org
SUMMARY:Irish Jig Puzzle Palooza
DESCRIPTION:Love to do puzzles? Feeling lucky? We’ll grab your friends and join us for Puzzle Palooza ~ a fun evening of puzzling and prizes for a good cause! Teams of four will compete against each other to complete a 500 pc. jigsaw puzzle. Teams that finish the fastest win prizes! A special prize for the best dressed Irish themed team as well. Snacks\, coffee and water will be provided. We won’t be serving green beer\, but feel free to bring your own beverage if you like. It’s going to be loads of fun! Limited space is available. Don’t miss out on the camaraderie and competition. \n$25.00 per person or $80.00 per 4-person team ($20.00/person*). If you don’t have a team\, then we will match you up with other single players so you can make a few new friends. Hope to see you there! \nREGISTER ONLINE: https://www.eventbrite.com/e/555839098707 \n* In order to get the team rate\, all 4 players must be registered under one name at the same time. \nThis is a fundraiser for Hessel School House’s writers program.
URL:https://hesselschoolhouse.org/event/irish-jig-puzzle-palooza/
LOCATION:Hessel School House – Avery Arts & Nature Learning Center\, 3206 West Cedar Street\, Hessel\, MI\, 49745\, United States
CATEGORIES:Adults,Teens
END:VEVENT
BEGIN:VEVENT
DTSTART;TZID=America/Detroit:20230315T130000
DTEND;TZID=America/Detroit:20230315T160000
DTSTAMP:20260424T174836
CREATED:20221208T202310Z
LAST-MODIFIED:20230302T222545Z
UID:10000305-1678885200-1678896000@hesselschoolhouse.org
SUMMARY:Mahjong Group
DESCRIPTION:Join us for Mahjong. Games are held weekly on Wednesdays from 1:00 PM until 4:00 PM.  Whether you are an experienced player or just a beginner\, all skill levels are welcome to play.  For further details\, please call Hessel School House: 906.484.1333 \nNo registration is required. No fee to play. However\, if you wish to purchase a game card\, the cost is $15.
URL:https://hesselschoolhouse.org/event/mahjong-group-3/2023-03-15/
LOCATION:Hessel School House – Avery Arts & Nature Learning Center\, 3206 West Cedar Street\, Hessel\, MI\, 49745\, United States
CATEGORIES:Adults
END:VEVENT
BEGIN:VEVENT
DTSTART;TZID=America/Detroit:20230316T180000
DTEND;TZID=America/Detroit:20230316T203000
DTSTAMP:20260424T174836
CREATED:20230228T195033Z
LAST-MODIFIED:20230316T142448Z
UID:10000260-1678989600-1678998600@hesselschoolhouse.org
SUMMARY:Bingo
DESCRIPTION:Our licensed bingo games use paper cards with a variety of games being played including a progressive cover-all game. Doors open at 5:00 PM and games start at 6:00 PM. Limited concessions are available. Smoking is prohibited inside the Hessel School House. \nThe bingo program is a fundraiser for Hessel School House and helps support our operations and individual programs. For more information about the bingo program\, please call Hessel School House. \nMichigan Lottery License #A22504\nOrganization ID: 138966
URL:https://hesselschoolhouse.org/event/bingo-4/2023-03-16/
LOCATION:Hessel School House – Avery Arts & Nature Learning Center\, 3206 West Cedar Street\, Hessel\, MI\, 49745\, United States
CATEGORIES:Adults
END:VEVENT
BEGIN:VEVENT
DTSTART;TZID=America/Detroit:20230317T100000
DTEND;TZID=America/Detroit:20230317T113000
DTSTAMP:20260424T174836
CREATED:20230228T170328Z
LAST-MODIFIED:20230228T171425Z
UID:10000414-1679047200-1679052600@hesselschoolhouse.org
SUMMARY:Little Learners - "M is for Mitten"
DESCRIPTION:Come and let your preschooler explore nature and art with Mrs. Gordon. Preschoolers 2-5 years old will be creating theme based nature and art projects\, enjoy a story and have fun socializing with other children of the same age. There will also be an area for parents and babies to visit and relax while the preschoolers are having fun. Class meets from 10:00 – 11:30 AM. All materials included in the $5.00 per class fee. Parent or guardian must remain on-site during class time. \nRecommended for Ages: 2-5 years old \nClass Fee: $5.00/class \nClass Min. 4 • Class Max. 8 \nPre-registration is strongly recommended to ensure we have enough materials for each student. \nREGISTER ONLINE: https://www.eventbrite.com/e/519168756727
URL:https://hesselschoolhouse.org/event/little-learners-m-is-for-mitten/
LOCATION:Hessel School House – Avery Arts & Nature Learning Center\, 3206 West Cedar Street\, Hessel\, MI\, 49745\, United States
CATEGORIES:Pre-school
END:VEVENT
BEGIN:VEVENT
DTSTART;TZID=America/Detroit:20230318T090000
DTEND;TZID=America/Detroit:20230318T150000
DTSTAMP:20260424T174836
CREATED:20230214T180809Z
LAST-MODIFIED:20230214T183655Z
UID:10000406-1679130000-1679151600@hesselschoolhouse.org
SUMMARY:Pysanky: Traditional Ukrainian Egg Decorating Class
DESCRIPTION:The start of spring means that Easter is on the horizon\, which for many people means one thing—it’s time to start decorating eggs. In Ukraine\, Easter egg decorating is an important art form that dates back centuries. Known as pysanky\, these beautiful and intricately patterned eggs are decorated using the wax-resist (batik) method creating stunning motifs. \nCome learn this traditional art form with artists Anthony and Gretchen Jones at Hessel School House\, Saturday\, March 18\, 2023. \nTWO OPTIONS OFFERED: Please be sure to register for the one you want to take. \nOption 1: Beginners class from 9:00 a.m. – Noon – $35 per student \nOption 2: Advanced class will be held 9:00 a.m. – 3:00 p.m. – $45 per student. \nThe advanced class includes all beginners instructions and allows for additional time to apply multiple colors and detailing. Both classes will be held simultaneously. Registration fee includes hands-on instruction to create your egg\, supplies\, your own kitska (tool)\, dyes\, and wax to take home. Space is limited. \nREGISTER ONLINE: https://www.eventbrite.com/e/547871246647 \nAt the request of the instructors\, the proceeds from the class will support Impacto\, a mission organization in helping families dealing with poverty and violence in Guatemala.
URL:https://hesselschoolhouse.org/event/pysanky-traditional-ukrainian-egg-decorating-class/
LOCATION:Hessel School House – Avery Arts & Nature Learning Center\, 3206 West Cedar Street\, Hessel\, MI\, 49745\, United States
CATEGORIES:Adults,Teens,Visual Arts
END:VEVENT
BEGIN:VEVENT
DTSTART;TZID=America/Detroit:20230318T140000
DTEND;TZID=America/Detroit:20230318T160000
DTSTAMP:20260424T174836
CREATED:20230118T182753Z
LAST-MODIFIED:20230118T183643Z
UID:10000399-1679148000-1679155200@hesselschoolhouse.org
SUMMARY:Watercolor Seascape - Adult Painting Class
DESCRIPTION:WATERCOLOR PAINTING CLASS \nWith the season of spring approaching and visions of summer begin to swirl in your head\, learn to create a beautiful seascape in watercolor! Guest artist Karen Mazzoline will share some techniques that will give you the confidence you need in working with this medium. Come on out an enjoy an afternoon of painting! \nClass size is limited so register online early. \n$45.00 per student. All materials are included. \nClick here to REGISTER ONLINE \n  \n  \n \nAbout the Artists \nK & M Artistry is the mother/daughter team of Karen and Marissa Mazzoline.  The Mazzolines have lived in northern Michigan since 1995 and they continue to enjoy its natural and wondrous beauty! Sharing a passion for creating\, Karen and Marissa offer a variety of unique skills including painting\, drawing\, felting\, and jewelry making!  Marissa and Karen love meeting new people and making connections with those that they teach! They look forward to sharing their love of art with you in Hessel!
URL:https://hesselschoolhouse.org/event/watercolor-seascape-adult-painting-class/
LOCATION:Hessel School House – Avery Arts & Nature Learning Center\, 3206 West Cedar Street\, Hessel\, MI\, 49745\, United States
CATEGORIES:Adults,Teens,Visual Arts
END:VEVENT
END:VCALENDAR