BEGIN:VCALENDAR
VERSION:2.0
PRODID:-//Hessel School House - ECPv6.15.20//NONSGML v1.0//EN
CALSCALE:GREGORIAN
METHOD:PUBLISH
X-WR-CALNAME:Hessel School House
X-ORIGINAL-URL:https://hesselschoolhouse.org
X-WR-CALDESC:Events for Hessel School House
REFRESH-INTERVAL;VALUE=DURATION:PT1H
X-Robots-Tag:noindex
X-PUBLISHED-TTL:PT1H
BEGIN:VTIMEZONE
TZID:America/Detroit
BEGIN:DAYLIGHT
TZOFFSETFROM:-0500
TZOFFSETTO:-0400
TZNAME:EDT
DTSTART:20230312T070000
END:DAYLIGHT
BEGIN:STANDARD
TZOFFSETFROM:-0400
TZOFFSETTO:-0500
TZNAME:EST
DTSTART:20231105T060000
END:STANDARD
BEGIN:DAYLIGHT
TZOFFSETFROM:-0500
TZOFFSETTO:-0400
TZNAME:EDT
DTSTART:20240310T070000
END:DAYLIGHT
BEGIN:STANDARD
TZOFFSETFROM:-0400
TZOFFSETTO:-0500
TZNAME:EST
DTSTART:20241103T060000
END:STANDARD
BEGIN:DAYLIGHT
TZOFFSETFROM:-0500
TZOFFSETTO:-0400
TZNAME:EDT
DTSTART:20250309T070000
END:DAYLIGHT
BEGIN:STANDARD
TZOFFSETFROM:-0400
TZOFFSETTO:-0500
TZNAME:EST
DTSTART:20251102T060000
END:STANDARD
END:VTIMEZONE
BEGIN:VEVENT
DTSTART;TZID=America/Detroit:20240901T100000
DTEND;TZID=America/Detroit:20240901T140000
DTSTAMP:20260421T224413
CREATED:20240504T162756Z
LAST-MODIFIED:20240504T162757Z
UID:10001172-1725184800-1725199200@hesselschoolhouse.org
SUMMARY:Les Cheneaux Farmers & Artisan Market
DESCRIPTION:The Les Cheneaux Farmers & Artisans Market takes place every Sunday at the Hessel School House. For more information or to contact the organizer of this event to be a vendor\, please email them directly or visit their facebook page at https://www.facebook.com/LesCheneauxFarmersMarket/
URL:https://hesselschoolhouse.org/event/les-cheneaux-farmers-artisan-market-3/2024-09-01/
LOCATION:Hessel School House – Avery Arts & Nature Learning Center\, 3206 West Cedar Street\, Hessel\, MI\, 49745\, United States
CATEGORIES:Family Friendly
ORGANIZER;CN="Les Cheneaux Farmer & Artisan Market":MAILTO:lescheneauxfarmersmarket@gmail.com
END:VEVENT
BEGIN:VEVENT
DTSTART;TZID=America/Detroit:20240902T080000
DTEND;TZID=America/Detroit:20240902T170000
DTSTAMP:20260421T224413
CREATED:20240801T171337Z
LAST-MODIFIED:20251101T192646Z
UID:10001285-1725264000-1725296400@hesselschoolhouse.org
SUMMARY:Closed on Mondays
DESCRIPTION:
URL:https://hesselschoolhouse.org/event/closed-on-mondays/2024-09-02/
LOCATION:Hessel School House – Avery Arts & Nature Learning Center\, 3206 West Cedar Street\, Hessel\, MI\, 49745\, United States
END:VEVENT
BEGIN:VEVENT
DTSTART;TZID=America/Detroit:20240904T090000
DTEND;TZID=America/Detroit:20240904T120000
DTSTAMP:20260421T224413
CREATED:20240518T002047Z
LAST-MODIFIED:20240816T232242Z
UID:10001201-1725440400-1725451200@hesselschoolhouse.org
SUMMARY:Mahjong Group
DESCRIPTION:Join us for a friendly game of Mahjong. Games are held weekly on Wednesdays from 9:00 am – 12:00 pm during the summer months.  Whether you are an experienced player or just a beginner\, all skill levels are welcome to play.  For further details or to schedule a lesson\, please call Hessel School House: 906.484.1333 \nNo registration is required. No fee to play. However\, if you wish to purchase a game card\, the cost is $15. \nThis group plays by the Official Standard Hands and Rules National Mah Jongg League Inc. 
URL:https://hesselschoolhouse.org/event/mahjong-group/2024-09-04/
LOCATION:Hessel School House – Avery Arts & Nature Learning Center\, 3206 West Cedar Street\, Hessel\, MI\, 49745\, United States
CATEGORIES:Adults
ATTACH;FMTTYPE=image/jpeg:https://hesselschoolhouse.org/wp-content/uploads/2024/05/Mahjogn_new-Header-jpg.webp
END:VEVENT
BEGIN:VEVENT
DTSTART;TZID=America/Detroit:20240907T093000
DTEND;TZID=America/Detroit:20240907T123000
DTSTAMP:20260421T224413
CREATED:20240801T172012Z
LAST-MODIFIED:20240907T105430Z
UID:10001542-1725701400-1725712200@hesselschoolhouse.org
SUMMARY:CANCELLED - Quilt Inspired "Fireweed Trail" Painting
DESCRIPTION:Come paint a landscape painting inspired by a quilt pattern called “Fireweed Trail”! Artist Cheryl Gordon will assist you with step-by-step instruction to create this unique painting. You will be using masking tape\, stencils\, and acrylic paints to create this work of art. All materials will be provided. No prior experience necessary. $50 per person \n 
URL:https://hesselschoolhouse.org/event/quilt-inspired-fireweed-trail-painting/
LOCATION:Hessel School House – Avery Arts & Nature Learning Center\, 3206 West Cedar Street\, Hessel\, MI\, 49745\, United States
CATEGORIES:Adults,Teens,Visual Arts
END:VEVENT
BEGIN:VEVENT
DTSTART;TZID=America/Detroit:20240907T140000
DTEND;TZID=America/Detroit:20240907T160000
DTSTAMP:20260421T224413
CREATED:20240801T172311Z
LAST-MODIFIED:20240801T172314Z
UID:10001543-1725717600-1725724800@hesselschoolhouse.org
SUMMARY:DRAWING: Portraits & Facial Features
DESCRIPTION:Curious on how to draw or paint a portrait\, but not sure where to begin? Come join artist Karen Mazzoline as she guides you through the process of drawing facial features and complete a portrait with proportions. Practice working on eyes\, noses\, mouths\, and ears to create a portrait of your very own! Choose from a variety of media (pencil\, colored pencil\, tempera paint\, and ink) or utilize more than one to create a unique mixed media work. All materials will be provided and no experience is necessary! Come join in with others as we create together! \nClass Fee: $35.00 \nTo register\, call 906-484-1333 or register online at https://www.eventeny.com/events/ticket/?id=13742&action=ticket&action_ticket=22686
URL:https://hesselschoolhouse.org/event/drawing-portraits-facial-features/
LOCATION:Hessel School House – Avery Arts & Nature Learning Center\, 3206 West Cedar Street\, Hessel\, MI\, 49745\, United States
CATEGORIES:Adults,Teens,Visual Arts
END:VEVENT
BEGIN:VEVENT
DTSTART;TZID=America/Detroit:20240908T100000
DTEND;TZID=America/Detroit:20240908T140000
DTSTAMP:20260421T224413
CREATED:20240504T162756Z
LAST-MODIFIED:20240504T162757Z
UID:10001173-1725789600-1725804000@hesselschoolhouse.org
SUMMARY:Les Cheneaux Farmers & Artisan Market
DESCRIPTION:The Les Cheneaux Farmers & Artisans Market takes place every Sunday at the Hessel School House. For more information or to contact the organizer of this event to be a vendor\, please email them directly or visit their facebook page at https://www.facebook.com/LesCheneauxFarmersMarket/
URL:https://hesselschoolhouse.org/event/les-cheneaux-farmers-artisan-market-3/2024-09-08/
LOCATION:Hessel School House – Avery Arts & Nature Learning Center\, 3206 West Cedar Street\, Hessel\, MI\, 49745\, United States
CATEGORIES:Family Friendly
ORGANIZER;CN="Les Cheneaux Farmer & Artisan Market":MAILTO:lescheneauxfarmersmarket@gmail.com
END:VEVENT
BEGIN:VEVENT
DTSTART;TZID=America/Detroit:20240909T080000
DTEND;TZID=America/Detroit:20240909T170000
DTSTAMP:20260421T224413
CREATED:20240801T171337Z
LAST-MODIFIED:20251101T192646Z
UID:10001286-1725868800-1725901200@hesselschoolhouse.org
SUMMARY:Closed on Mondays
DESCRIPTION:
URL:https://hesselschoolhouse.org/event/closed-on-mondays/2024-09-09/
LOCATION:Hessel School House – Avery Arts & Nature Learning Center\, 3206 West Cedar Street\, Hessel\, MI\, 49745\, United States
END:VEVENT
BEGIN:VEVENT
DTSTART;TZID=America/Detroit:20240911T090000
DTEND;TZID=America/Detroit:20240911T120000
DTSTAMP:20260421T224413
CREATED:20240518T002047Z
LAST-MODIFIED:20240816T232242Z
UID:10001202-1726045200-1726056000@hesselschoolhouse.org
SUMMARY:Mahjong Group
DESCRIPTION:Join us for a friendly game of Mahjong. Games are held weekly on Wednesdays from 9:00 am – 12:00 pm during the summer months.  Whether you are an experienced player or just a beginner\, all skill levels are welcome to play.  For further details or to schedule a lesson\, please call Hessel School House: 906.484.1333 \nNo registration is required. No fee to play. However\, if you wish to purchase a game card\, the cost is $15. \nThis group plays by the Official Standard Hands and Rules National Mah Jongg League Inc. 
URL:https://hesselschoolhouse.org/event/mahjong-group/2024-09-11/
LOCATION:Hessel School House – Avery Arts & Nature Learning Center\, 3206 West Cedar Street\, Hessel\, MI\, 49745\, United States
CATEGORIES:Adults
ATTACH;FMTTYPE=image/jpeg:https://hesselschoolhouse.org/wp-content/uploads/2024/05/Mahjogn_new-Header-jpg.webp
END:VEVENT
BEGIN:VEVENT
DTSTART;TZID=America/Detroit:20240914T090000
DTEND;TZID=America/Detroit:20240914T210000
DTSTAMP:20260421T224413
CREATED:20240801T174719Z
LAST-MODIFIED:20240801T174818Z
UID:10001548-1726304400-1726347600@hesselschoolhouse.org
SUMMARY:Closed for Private Function
DESCRIPTION:
URL:https://hesselschoolhouse.org/event/closed-for-private-function-14/
LOCATION:Hessel School House – Avery Arts & Nature Learning Center\, 3206 West Cedar Street\, Hessel\, MI\, 49745\, United States
END:VEVENT
BEGIN:VEVENT
DTSTART;TZID=America/Detroit:20240915T100000
DTEND;TZID=America/Detroit:20240915T140000
DTSTAMP:20260421T224413
CREATED:20240504T162756Z
LAST-MODIFIED:20240504T162757Z
UID:10001174-1726394400-1726408800@hesselschoolhouse.org
SUMMARY:Les Cheneaux Farmers & Artisan Market
DESCRIPTION:The Les Cheneaux Farmers & Artisans Market takes place every Sunday at the Hessel School House. For more information or to contact the organizer of this event to be a vendor\, please email them directly or visit their facebook page at https://www.facebook.com/LesCheneauxFarmersMarket/
URL:https://hesselschoolhouse.org/event/les-cheneaux-farmers-artisan-market-3/2024-09-15/
LOCATION:Hessel School House – Avery Arts & Nature Learning Center\, 3206 West Cedar Street\, Hessel\, MI\, 49745\, United States
CATEGORIES:Family Friendly
ORGANIZER;CN="Les Cheneaux Farmer & Artisan Market":MAILTO:lescheneauxfarmersmarket@gmail.com
END:VEVENT
BEGIN:VEVENT
DTSTART;TZID=America/Detroit:20240916T080000
DTEND;TZID=America/Detroit:20240916T170000
DTSTAMP:20260421T224413
CREATED:20240801T171337Z
LAST-MODIFIED:20251101T192646Z
UID:10001287-1726473600-1726506000@hesselschoolhouse.org
SUMMARY:Closed on Mondays
DESCRIPTION:
URL:https://hesselschoolhouse.org/event/closed-on-mondays/2024-09-16/
LOCATION:Hessel School House – Avery Arts & Nature Learning Center\, 3206 West Cedar Street\, Hessel\, MI\, 49745\, United States
END:VEVENT
BEGIN:VEVENT
DTSTART;TZID=America/Detroit:20240918T090000
DTEND;TZID=America/Detroit:20240918T120000
DTSTAMP:20260421T224413
CREATED:20240518T002047Z
LAST-MODIFIED:20240816T232242Z
UID:10001203-1726650000-1726660800@hesselschoolhouse.org
SUMMARY:Mahjong Group
DESCRIPTION:Join us for a friendly game of Mahjong. Games are held weekly on Wednesdays from 9:00 am – 12:00 pm during the summer months.  Whether you are an experienced player or just a beginner\, all skill levels are welcome to play.  For further details or to schedule a lesson\, please call Hessel School House: 906.484.1333 \nNo registration is required. No fee to play. However\, if you wish to purchase a game card\, the cost is $15. \nThis group plays by the Official Standard Hands and Rules National Mah Jongg League Inc. 
URL:https://hesselschoolhouse.org/event/mahjong-group/2024-09-18/
LOCATION:Hessel School House – Avery Arts & Nature Learning Center\, 3206 West Cedar Street\, Hessel\, MI\, 49745\, United States
CATEGORIES:Adults
ATTACH;FMTTYPE=image/jpeg:https://hesselschoolhouse.org/wp-content/uploads/2024/05/Mahjogn_new-Header-jpg.webp
END:VEVENT
BEGIN:VEVENT
DTSTART;TZID=America/Detroit:20240920T183000
DTEND;TZID=America/Detroit:20240920T203000
DTSTAMP:20260421T224413
CREATED:20240801T172943Z
LAST-MODIFIED:20240801T173041Z
UID:10001544-1726857000-1726864200@hesselschoolhouse.org
SUMMARY:PAINT & SIP: Fall Birch Tree
DESCRIPTION:The month of September is a perfect time to create a lovely Birch Tree Painting to add to your fall home decor! With guidance from artist Karen Mazzoline\, learn how to blend fall colors together and create texture and depth. All materials for painting will be provided! Just bring your drink of choice and painting enthusiasm! \nClass Fee: $40.00 \nSpace is limited\, register early. These classes fill quickly! To register\, call 906-484-1333 or register online at https://www.eventeny.com/events/ticket/?id=13742&action=ticket&action_ticket=22685 \n 
URL:https://hesselschoolhouse.org/event/paint-sip-fall-birch-tree/
LOCATION:Hessel School House – Avery Arts & Nature Learning Center\, 3206 West Cedar Street\, Hessel\, MI\, 49745\, United States
CATEGORIES:Adults,Visual Arts
END:VEVENT
BEGIN:VEVENT
DTSTART;TZID=America/Detroit:20240921T100000
DTEND;TZID=America/Detroit:20240921T120000
DTSTAMP:20260421T224413
CREATED:20240801T173458Z
LAST-MODIFIED:20240919T170302Z
UID:10001545-1726912800-1726920000@hesselschoolhouse.org
SUMMARY:CANCELLED: ELEMENTARY ART: Sculpty Animals
DESCRIPTION:CANCELLED – Join us for a fun and creative event\, “Sculpty Animals for Kids!” on September 21 from 10 AM to 12 PM. This hands-on workshop invites youth ages 6-11 to unleash their imagination as they learn to sculpt miniature animals using vibrant\, oven-bake Sculpty clay. Guided by experienced instructors\, students will master basic sculpting techniques while crafting their very own colorful creations. Don’t miss out on this exciting opportunity to explore the world of sculpture and take home a unique masterpiece! \n$20 per child. \nThis event has been cancelled due to lack of registrations.
URL:https://hesselschoolhouse.org/event/elementary-art-sculpty-animals/
LOCATION:Hessel School House – Avery Arts & Nature Learning Center\, 3206 West Cedar Street\, Hessel\, MI\, 49745\, United States
CATEGORIES:Elementary,Visual Arts
END:VEVENT
BEGIN:VEVENT
DTSTART;TZID=America/Detroit:20240921T133000
DTEND;TZID=America/Detroit:20240921T153000
DTSTAMP:20260421T224413
CREATED:20240801T174045Z
LAST-MODIFIED:20240801T174048Z
UID:10001546-1726925400-1726932600@hesselschoolhouse.org
SUMMARY:Sculpty Trinket Bowls
DESCRIPTION:Unleash your creativity at our Polymer Clay Ring Bowl Workshop! Join us for a fun-filled afternoon on September 21 from 1:30 to 3:30 PM\, where you’ll have the opportunity to sculpt up to two unique ring bowls or small dishes using vibrant polymer clay. Experiment with marbling colors\, crafting coils\, or creating playful cutouts—your imagination is the only limit! Led by talented artist Cheryl Gordon\, this workshop welcomes adults and older teens alike. All materials are included\, so come ready to create and have fun! Don’t miss out on this chance to express your artistic side! \nClass fee is: This class is for adults and older teens. \nTo register\, call 906-484-1333 or register online at https://www.eventeny.com/events/ticket/?id=13742&action=ticket&action_ticket=22683
URL:https://hesselschoolhouse.org/event/sculpty-trinket-bowls/
LOCATION:Hessel School House – Avery Arts & Nature Learning Center\, 3206 West Cedar Street\, Hessel\, MI\, 49745\, United States
CATEGORIES:Adults,Teens,Visual Arts
END:VEVENT
BEGIN:VEVENT
DTSTART;TZID=America/Detroit:20240922T100000
DTEND;TZID=America/Detroit:20240922T140000
DTSTAMP:20260421T224413
CREATED:20240504T162756Z
LAST-MODIFIED:20240504T162757Z
UID:10001175-1726999200-1727013600@hesselschoolhouse.org
SUMMARY:Les Cheneaux Farmers & Artisan Market
DESCRIPTION:The Les Cheneaux Farmers & Artisans Market takes place every Sunday at the Hessel School House. For more information or to contact the organizer of this event to be a vendor\, please email them directly or visit their facebook page at https://www.facebook.com/LesCheneauxFarmersMarket/
URL:https://hesselschoolhouse.org/event/les-cheneaux-farmers-artisan-market-3/2024-09-22/
LOCATION:Hessel School House – Avery Arts & Nature Learning Center\, 3206 West Cedar Street\, Hessel\, MI\, 49745\, United States
CATEGORIES:Family Friendly
ORGANIZER;CN="Les Cheneaux Farmer & Artisan Market":MAILTO:lescheneauxfarmersmarket@gmail.com
END:VEVENT
BEGIN:VEVENT
DTSTART;TZID=America/Detroit:20240923T080000
DTEND;TZID=America/Detroit:20240923T170000
DTSTAMP:20260421T224413
CREATED:20240801T171337Z
LAST-MODIFIED:20251101T192646Z
UID:10001288-1727078400-1727110800@hesselschoolhouse.org
SUMMARY:Closed on Mondays
DESCRIPTION:
URL:https://hesselschoolhouse.org/event/closed-on-mondays/2024-09-23/
LOCATION:Hessel School House – Avery Arts & Nature Learning Center\, 3206 West Cedar Street\, Hessel\, MI\, 49745\, United States
END:VEVENT
BEGIN:VEVENT
DTSTART;TZID=America/Detroit:20240925T090000
DTEND;TZID=America/Detroit:20240925T120000
DTSTAMP:20260421T224413
CREATED:20240518T002047Z
LAST-MODIFIED:20240816T232242Z
UID:10001204-1727254800-1727265600@hesselschoolhouse.org
SUMMARY:Mahjong Group
DESCRIPTION:Join us for a friendly game of Mahjong. Games are held weekly on Wednesdays from 9:00 am – 12:00 pm during the summer months.  Whether you are an experienced player or just a beginner\, all skill levels are welcome to play.  For further details or to schedule a lesson\, please call Hessel School House: 906.484.1333 \nNo registration is required. No fee to play. However\, if you wish to purchase a game card\, the cost is $15. \nThis group plays by the Official Standard Hands and Rules National Mah Jongg League Inc. 
URL:https://hesselschoolhouse.org/event/mahjong-group/2024-09-25/
LOCATION:Hessel School House – Avery Arts & Nature Learning Center\, 3206 West Cedar Street\, Hessel\, MI\, 49745\, United States
CATEGORIES:Adults
ATTACH;FMTTYPE=image/jpeg:https://hesselschoolhouse.org/wp-content/uploads/2024/05/Mahjogn_new-Header-jpg.webp
END:VEVENT
BEGIN:VEVENT
DTSTART;TZID=America/Detroit:20240928T093000
DTEND;TZID=America/Detroit:20240928T153000
DTSTAMP:20260421T224413
CREATED:20240801T174450Z
LAST-MODIFIED:20240817T212552Z
UID:10001547-1727515800-1727537400@hesselschoolhouse.org
SUMMARY:Landscape Tapestry Weaving
DESCRIPTION:Using simple weaving techniques\, Cheryl Gordon will teach students how to create a beautiful landscape tapestry weaving. This weaving will use various weights of yarn to give a subtle textured appearance to the finished tapestry. Students will learn plain weaving\, overlapping\, joints\, diagonal slits\, hatching\, dovetail interlock and interlocking weft during the tapestry construction. A shadow box frame loom will be provided to create this work of art. Bring a sack lunch to take a break midway through this full day workshop. \nClass fee: $75.00. \nRegister soon\, this class fills quickly! To register\, call 906-484-1333 or register online at https://www.eventeny.com/events/ticket/?id=13742&action=ticket&action_ticket=22687
URL:https://hesselschoolhouse.org/event/landscape-tapestry-weaving/
LOCATION:Hessel School House – Avery Arts & Nature Learning Center\, 3206 West Cedar Street\, Hessel\, MI\, 49745\, United States
CATEGORIES:Adults,Teens,Visual Arts
END:VEVENT
BEGIN:VEVENT
DTSTART;TZID=America/Detroit:20240928T140000
DTEND;TZID=America/Detroit:20240928T160000
DTSTAMP:20260421T224413
CREATED:20240801T175117Z
LAST-MODIFIED:20240801T175120Z
UID:10001549-1727532000-1727539200@hesselschoolhouse.org
SUMMARY:DRAWING: Animals
DESCRIPTION:Drawing animals can seem intimidating\, but with help from artist Karen Mazzoline\, you will learn the tricks and tips to create a unique artwork! Using a variety of drawing media\, learn how to develop texture and depth in the fur and eyes. All materials will be provided and no prior experience is needed! \nClass Fee: $35.00 \nSpace is limited so register early. To register\, call 906-484-1333 or register online at https://www.eventeny.com/events/ticket/?id=13742&action=ticket&action_ticket=22682
URL:https://hesselschoolhouse.org/event/drawing-animals/
LOCATION:Hessel School House – Avery Arts & Nature Learning Center\, 3206 West Cedar Street\, Hessel\, MI\, 49745\, United States
CATEGORIES:Teens,Visual Arts
END:VEVENT
BEGIN:VEVENT
DTSTART;TZID=America/Detroit:20240929T100000
DTEND;TZID=America/Detroit:20240929T140000
DTSTAMP:20260421T224413
CREATED:20240504T162756Z
LAST-MODIFIED:20240504T162757Z
UID:10001176-1727604000-1727618400@hesselschoolhouse.org
SUMMARY:Les Cheneaux Farmers & Artisan Market
DESCRIPTION:The Les Cheneaux Farmers & Artisans Market takes place every Sunday at the Hessel School House. For more information or to contact the organizer of this event to be a vendor\, please email them directly or visit their facebook page at https://www.facebook.com/LesCheneauxFarmersMarket/
URL:https://hesselschoolhouse.org/event/les-cheneaux-farmers-artisan-market-3/2024-09-29/
LOCATION:Hessel School House – Avery Arts & Nature Learning Center\, 3206 West Cedar Street\, Hessel\, MI\, 49745\, United States
CATEGORIES:Family Friendly
ORGANIZER;CN="Les Cheneaux Farmer & Artisan Market":MAILTO:lescheneauxfarmersmarket@gmail.com
END:VEVENT
BEGIN:VEVENT
DTSTART;TZID=America/Detroit:20240930T080000
DTEND;TZID=America/Detroit:20240930T170000
DTSTAMP:20260421T224413
CREATED:20240801T171337Z
LAST-MODIFIED:20251101T192646Z
UID:10001289-1727683200-1727715600@hesselschoolhouse.org
SUMMARY:Closed on Mondays
DESCRIPTION:
URL:https://hesselschoolhouse.org/event/closed-on-mondays/2024-09-30/
LOCATION:Hessel School House – Avery Arts & Nature Learning Center\, 3206 West Cedar Street\, Hessel\, MI\, 49745\, United States
END:VEVENT
END:VCALENDAR