BEGIN:VCALENDAR
VERSION:2.0
PRODID:-//Hessel School House - ECPv6.15.20//NONSGML v1.0//EN
CALSCALE:GREGORIAN
METHOD:PUBLISH
X-WR-CALNAME:Hessel School House
X-ORIGINAL-URL:https://hesselschoolhouse.org
X-WR-CALDESC:Events for Hessel School House
REFRESH-INTERVAL;VALUE=DURATION:PT1H
X-Robots-Tag:noindex
X-PUBLISHED-TTL:PT1H
BEGIN:VTIMEZONE
TZID:America/Detroit
BEGIN:DAYLIGHT
TZOFFSETFROM:-0500
TZOFFSETTO:-0400
TZNAME:EDT
DTSTART:20210314T070000
END:DAYLIGHT
BEGIN:STANDARD
TZOFFSETFROM:-0400
TZOFFSETTO:-0500
TZNAME:EST
DTSTART:20211107T060000
END:STANDARD
BEGIN:DAYLIGHT
TZOFFSETFROM:-0500
TZOFFSETTO:-0400
TZNAME:EDT
DTSTART:20220313T070000
END:DAYLIGHT
BEGIN:STANDARD
TZOFFSETFROM:-0400
TZOFFSETTO:-0500
TZNAME:EST
DTSTART:20221106T060000
END:STANDARD
BEGIN:DAYLIGHT
TZOFFSETFROM:-0500
TZOFFSETTO:-0400
TZNAME:EDT
DTSTART:20230312T070000
END:DAYLIGHT
BEGIN:STANDARD
TZOFFSETFROM:-0400
TZOFFSETTO:-0500
TZNAME:EST
DTSTART:20231105T060000
END:STANDARD
END:VTIMEZONE
BEGIN:VEVENT
DTSTART;TZID=America/Detroit:20220725T100000
DTEND;TZID=America/Detroit:20220725T110000
DTSTAMP:20260419T231000
CREATED:20220720T204310Z
LAST-MODIFIED:20220720T204310Z
UID:10000152-1658743200-1658746800@hesselschoolhouse.org
SUMMARY:Make It On Mondays
DESCRIPTION:Hessel School House\, in partnership with the Les Cheneaux Arts Council\, is hosting Make It On Mondays from 10-11 AM from July 11 – August 29 at the Hessel School House. Fun art projects each week with little instruction. Every week will be something different\, from painted birdhouses to pop-up cards…. and much more! Adults and adults with kids are welcome. Check it out each week for age appropriate projects. All supplies included. $5.00 suggested donation is appreciated. \n\n\n\n\n\n\nMake It on Mondays is supported in part by Michigan Arts and Culture Council\, National Endowment for the Arts\, and The Americana Foundation.
URL:https://hesselschoolhouse.org/event/make-it-on-mondays/2022-07-25/
LOCATION:Hessel School House – Avery Arts & Nature Learning Center\, 3206 West Cedar Street\, Hessel\, MI\, 49745\, United States
CATEGORIES:Adults,Family Friendly,Pre-teen,Teens,Visual Arts
END:VEVENT
BEGIN:VEVENT
DTSTART;TZID=America/Detroit:20220726T103000
DTEND;TZID=America/Detroit:20220726T120000
DTSTAMP:20260419T231000
CREATED:20220720T211522Z
LAST-MODIFIED:20220720T211522Z
UID:10000162-1658831400-1658836800@hesselschoolhouse.org
SUMMARY:Let's Have Fun with Paint - Preschool Art Class
DESCRIPTION:Let’s paint with brushes\, rollers\, and our fingers! We are going to learn what happens when we mix up our colors and when we paint over crayons. You will be using acrylic paints and watercolors to create your art pieces. Instruction provided by artist Cheryl Gordon. This art class is designed for children 4-6 years of age. Class is limited to 10 preschool students. Pre-registration is highly encouraged. Cost is $10.  \n\n\n\n\n\n\nREGISTER ONLINE or call 906-484-1333
URL:https://hesselschoolhouse.org/event/lets-have-fun-with-paint-preschool-art-class/
LOCATION:Hessel School House – Avery Arts & Nature Learning Center\, 3206 West Cedar Street\, Hessel\, MI\, 49745\, United States
CATEGORIES:Pre-school,Visual Arts
END:VEVENT
BEGIN:VEVENT
DTSTART;TZID=America/Detroit:20220729T090000
DTEND;TZID=America/Detroit:20220730T180000
DTSTAMP:20260419T231000
CREATED:20220720T214939Z
LAST-MODIFIED:20220720T214939Z
UID:10000164-1659085200-1659204000@hesselschoolhouse.org
SUMMARY:Bim Willow Furniture Making Class
DESCRIPTION:Make a Les Cheneaux memory! Instructor Bim Willow will teach the basics of building with natural materials. Many of the designs offered are historical Americana. Completed projects will be ready to take home within the times estimated which are based on NO prior building experience! Students are required to bring a hammer (8 oz is best for willow working & 6 oz to build frame)\, and a pair of pruners. A limited supply of loppers and wire cutters will be available\, bring them if you have them. If you have your own pair of safety glasses\, please bring them. \nThis class takes place on Friday\, July 29th and Saturday\, July 30th. Each day is split into two sessions\, depending on which item you are making. Morning session is 9 AM to Noon\, and the afternoon session is 1-6 PM. Maximum 30 students in the morning sessions and 20 in the afternoon sessions. \nAll projects must be booked and paid for in advance\, no later than three days prior to the class so that the appropriate materials can be collected. No cancellations or refunds three days prior to the class. \nPlease contact us to register\, due to the variety of items that are available. Call 906 \n \n-484-1333. \nThis workshop is supported in part by an award from the Michigan Arts & Culture Council\, National Endowment for the Arts\, and The Americana Foundation.
URL:https://hesselschoolhouse.org/event/bim-willow-furniture-making-class/
LOCATION:Hessel School House – Avery Arts & Nature Learning Center\, 3206 West Cedar Street\, Hessel\, MI\, 49745\, United States
CATEGORIES:Adults,Lectures and Workshops,Visual Arts
END:VEVENT
END:VCALENDAR