BEGIN:VCALENDAR
VERSION:2.0
PRODID:-//Hessel School House - ECPv6.15.20//NONSGML v1.0//EN
CALSCALE:GREGORIAN
METHOD:PUBLISH
X-WR-CALNAME:Hessel School House
X-ORIGINAL-URL:https://hesselschoolhouse.org
X-WR-CALDESC:Events for Hessel School House
REFRESH-INTERVAL;VALUE=DURATION:PT1H
X-Robots-Tag:noindex
X-PUBLISHED-TTL:PT1H
BEGIN:VTIMEZONE
TZID:America/Detroit
BEGIN:DAYLIGHT
TZOFFSETFROM:-0500
TZOFFSETTO:-0400
TZNAME:EDT
DTSTART:20230312T070000
END:DAYLIGHT
BEGIN:STANDARD
TZOFFSETFROM:-0400
TZOFFSETTO:-0500
TZNAME:EST
DTSTART:20231105T060000
END:STANDARD
BEGIN:DAYLIGHT
TZOFFSETFROM:-0500
TZOFFSETTO:-0400
TZNAME:EDT
DTSTART:20240310T070000
END:DAYLIGHT
BEGIN:STANDARD
TZOFFSETFROM:-0400
TZOFFSETTO:-0500
TZNAME:EST
DTSTART:20241103T060000
END:STANDARD
BEGIN:DAYLIGHT
TZOFFSETFROM:-0500
TZOFFSETTO:-0400
TZNAME:EDT
DTSTART:20250309T070000
END:DAYLIGHT
BEGIN:STANDARD
TZOFFSETFROM:-0400
TZOFFSETTO:-0500
TZNAME:EST
DTSTART:20251102T060000
END:STANDARD
END:VTIMEZONE
BEGIN:VEVENT
DTSTART;TZID=America/Detroit:20240119T183000
DTEND;TZID=America/Detroit:20240119T203000
DTSTAMP:20260421T224402
CREATED:20231127T200242Z
LAST-MODIFIED:20240111T143645Z
UID:10000882-1705689000-1705696200@hesselschoolhouse.org
SUMMARY:Northern Lights Paint & Sip
DESCRIPTION:DUE TO WEATHER FORECAST THIS EVENT IS RESCHEDULED TO JANUARY 19th. \nJoin us for Northern Lights – Paint and Sip! \nCapture the wondrous beauty of the Northern Lights on your own canvas at Hessel School House! Using acrylic paint and guidance from artist Karen Mazzoline\, you will learn how to create the form and colors of the Aurora Borealis while enjoying the artistic process with others! All materials will be provided and no experience is necessary! Just bring your love of creating and bring a friend! Water\, coffee and hot tea are provided. Feel free to bring your own beverage of choice. Reserve your spot now and get ready for a night of art\, laughter\, and good company. \nClass Fee: $40/person \nCall 906-484-1333 to register or REGISTER ONLINE.
URL:https://hesselschoolhouse.org/event/northern-lights-paint-sip/
LOCATION:Hessel School House – Avery Arts & Nature Learning Center\, 3206 West Cedar Street\, Hessel\, MI\, 49745\, United States
CATEGORIES:Adults,Teens,Visual Arts
END:VEVENT
BEGIN:VEVENT
DTSTART;TZID=America/Detroit:20240120T100000
DTEND;TZID=America/Detroit:20240120T120000
DTSTAMP:20260421T224402
CREATED:20231127T201026Z
LAST-MODIFIED:20231128T140833Z
UID:10000883-1705744800-1705752000@hesselschoolhouse.org
SUMMARY:Painting with Your Bestie (Teen Art Class)
DESCRIPTION:Bring your friend and come create mini paintings that “connect” with your friends! You get to choose your “scene” and with guidance from artist Karen Mazzoline\, create a complementary palette that displays your friendship bond! Want to come solo? Make new friends while you create! All materials will be provided and no experience is necessary! \nCouple Participant Rate: $25 per person. Purchase both tickets at the same time and save! \nSingle Participant Rate: $30 per person \nCall 906-484-1333 to register or REGISTER ONLINE
URL:https://hesselschoolhouse.org/event/painting-with-your-bestie/
LOCATION:Hessel School House – Avery Arts & Nature Learning Center\, 3206 West Cedar Street\, Hessel\, MI\, 49745\, United States
CATEGORIES:Adults,Teens,Visual Arts
END:VEVENT
BEGIN:VEVENT
DTSTART;TZID=America/Detroit:20240120T130000
DTEND;TZID=America/Detroit:20240120T150000
DTSTAMP:20260421T224402
CREATED:20231127T193605Z
LAST-MODIFIED:20231128T140747Z
UID:10000877-1705755600-1705762800@hesselschoolhouse.org
SUMMARY:Felted Pocket Hearts
DESCRIPTION:Felted Pocket Hearts \nJoin us for a delightful hands-on workshop where you can create your very own felted pocket hearts on Saturday\, January 20th from 1:00 – 3:00 pm! Discover the joy of crafting these adorable felt hearts using simple stitches to create a heart with a pocket to tuck away a love note or secret message for your Valentine. Whether you’re a beginner or an experienced crafter\, this workshop is perfect for all skill levels. Not only will you leave with a beautiful handmade creation\, but you’ll also take home the knowledge and skills to continue exploring the world of creating felt objects on your own. \nGrab your friends or come solo and meet fellow craft enthusiasts. Secure your spot today! \nClass Fee: $35/person \nRegister ONLINE or call 906-484-1333.
URL:https://hesselschoolhouse.org/event/felted-pocket-hearts/
LOCATION:Hessel School House – Avery Arts & Nature Learning Center\, 3206 West Cedar Street\, Hessel\, MI\, 49745\, United States
CATEGORIES:Adults,Teens,Visual Arts
END:VEVENT
BEGIN:VEVENT
DTSTART;TZID=America/Detroit:20240121T130000
DTEND;TZID=America/Detroit:20240121T150000
DTSTAMP:20260421T224402
CREATED:20231127T194357Z
LAST-MODIFIED:20231128T172204Z
UID:10000880-1705842000-1705849200@hesselschoolhouse.org
SUMMARY:Rag Rug Weaving
DESCRIPTION:Rag rug making is a centuries old craft with unlimited opportunities for experimentation and self-expression. The tactile quality of simple loom weaving is particularly aesthetic and creative. In this class\, Cheryl Gordon will provide each student with a loom\, teach them how to prepare a variety of “rag” scrap fabrics for a custom weaving experience\, and teach them how to weave a beautiful and functional rug approximately 30″ x 45″ in size. The objective of this course is to provide students with the necessary skills and materials to confidently leave the classroom and create future rugs using this technique. \nThis class is two sessions : SUNDAYS\, January 21 & 28 from 1:00 – 3:30 PM. \nClass Size: Min. 4 / Max. 10 \nClass Fee: $85 (includes loom\, materials\, and 2 days of instruction) \nRegister ONLINE or call 906-484-1333.
URL:https://hesselschoolhouse.org/event/rag-rug-weaving/
LOCATION:Hessel School House – Avery Arts & Nature Learning Center\, 3206 West Cedar Street\, Hessel\, MI\, 49745\, United States
CATEGORIES:Adults,Teens,Visual Arts
END:VEVENT
BEGIN:VEVENT
DTSTART;TZID=America/Detroit:20240126T183000
DTEND;TZID=America/Detroit:20240126T203000
DTSTAMP:20260421T224402
CREATED:20231127T202153Z
LAST-MODIFIED:20231128T140408Z
UID:10000886-1706293800-1706301000@hesselschoolhouse.org
SUMMARY:Create an Upcycled Tiny House
DESCRIPTION:Come create a tiny building using repurposed odds and ends that will showcase your own style and personality. With instruction and guidance from artist Marissa Wissner\, learn to design and create your own miniature building. All materials will be provided and no experience is necessary! Bring a friend and enjoy an evening of tiny house creations! \nREGISTER ONLINE or call 906-484-1333.
URL:https://hesselschoolhouse.org/event/create-an-upcycled-tiny-house/
LOCATION:Hessel School House – Avery Arts & Nature Learning Center\, 3206 West Cedar Street\, Hessel\, MI\, 49745\, United States
CATEGORIES:Adults,Teens,Visual Arts
END:VEVENT
BEGIN:VEVENT
DTSTART;TZID=America/Detroit:20240127T093000
DTEND;TZID=America/Detroit:20240127T123000
DTSTAMP:20260421T224402
CREATED:20231127T194148Z
LAST-MODIFIED:20240112T141255Z
UID:10000879-1706347800-1706358600@hesselschoolhouse.org
SUMMARY:Basket Making Workshop
DESCRIPTION:Basket Making \nThis charming little basket is easy to complete within the class time. By using two weaving techniques – randing and slewing\, it’s possible to have your own decorative band on the sides of the basket. Dyed reed will be available for an individual touch. All supplies included. Sizes will very and all pieces will be one-of-a-kind. This class is intended for adults and older teens. \nC lass Fee: $45.00 \nC lass Size: Min. 4 / Max. 10 \nPre-registration is required to attend. \nTo register\, call 906-484-1333 or REGISTER ONLINE
URL:https://hesselschoolhouse.org/event/basket-making-workshop/
LOCATION:Hessel School House – Avery Arts & Nature Learning Center\, 3206 West Cedar Street\, Hessel\, MI\, 49745\, United States
CATEGORIES:Adults,Teens,Visual Arts
END:VEVENT
END:VCALENDAR