BEGIN:VCALENDAR
VERSION:2.0
PRODID:-//Hessel School House - ECPv6.15.20//NONSGML v1.0//EN
CALSCALE:GREGORIAN
METHOD:PUBLISH
X-WR-CALNAME:Hessel School House
X-ORIGINAL-URL:https://hesselschoolhouse.org
X-WR-CALDESC:Events for Hessel School House
REFRESH-INTERVAL;VALUE=DURATION:PT1H
X-Robots-Tag:noindex
X-PUBLISHED-TTL:PT1H
BEGIN:VTIMEZONE
TZID:America/Detroit
BEGIN:DAYLIGHT
TZOFFSETFROM:-0500
TZOFFSETTO:-0400
TZNAME:EDT
DTSTART:20220313T070000
END:DAYLIGHT
BEGIN:STANDARD
TZOFFSETFROM:-0400
TZOFFSETTO:-0500
TZNAME:EST
DTSTART:20221106T060000
END:STANDARD
BEGIN:DAYLIGHT
TZOFFSETFROM:-0500
TZOFFSETTO:-0400
TZNAME:EDT
DTSTART:20230312T070000
END:DAYLIGHT
BEGIN:STANDARD
TZOFFSETFROM:-0400
TZOFFSETTO:-0500
TZNAME:EST
DTSTART:20231105T060000
END:STANDARD
BEGIN:DAYLIGHT
TZOFFSETFROM:-0500
TZOFFSETTO:-0400
TZNAME:EDT
DTSTART:20240310T070000
END:DAYLIGHT
BEGIN:STANDARD
TZOFFSETFROM:-0400
TZOFFSETTO:-0500
TZNAME:EST
DTSTART:20241103T060000
END:STANDARD
END:VTIMEZONE
BEGIN:VEVENT
DTSTART;TZID=America/Detroit:20231104T130000
DTEND;TZID=America/Detroit:20231104T150000
DTSTAMP:20260422T064055
CREATED:20230906T213516Z
LAST-MODIFIED:20231012T210137Z
UID:10000855-1699102800-1699110000@hesselschoolhouse.org
SUMMARY:The Schooner Huron Jewel - Dream Inspiration Tour
DESCRIPTION:LECTURE SERIES \nTravel with Captain Hugh and Julie Covert as they recall the highlights of their voyage through the Great Lakes to the Eastern Seaboard\, south to Florida and the Bahamas\, and back. This summer they completed their 9700+ nautical mile journey aboard the Schooner Huron Jewel\, a 78 foot\, two-masted gaff rigged schooner that was designed and built by the couple at their home port of Drummond Island. Come enjoy their amazing adventure to inspire others to live their dream. \nThis presentation is free and open to the public. Please reserve your seat by calling 906-484-1333 or reserving your seat online to ensure we have room for this popular program.
URL:https://hesselschoolhouse.org/event/huron-jewel/
LOCATION:Hessel School House – Avery Arts & Nature Learning Center\, 3206 West Cedar Street\, Hessel\, MI\, 49745\, United States
CATEGORIES:Adults,Family Friendly,Lectures and Workshops,Nature Programs,Pre-teen,Teens
END:VEVENT
BEGIN:VEVENT
DTSTART;TZID=America/Detroit:20231104T150000
DTEND;TZID=America/Detroit:20231104T170000
DTSTAMP:20260422T064055
CREATED:20231020T204834Z
LAST-MODIFIED:20231020T204835Z
UID:10000865-1699110000-1699117200@hesselschoolhouse.org
SUMMARY:Foraging for Wild Herbs
DESCRIPTION:Foraging for Wild Herbs \nJoin us for an exciting adventure of exploring the bountiful world of wild herbs! This event is perfect for nature enthusiasts and those interested in discovering the hidden treasures of the wilderness. \nDuring this event we’ll learn how to identify various wild herbs\, their medicinal properties\, and their culinary uses. Throughout the event\, Sierra LaRose will share fascinating anecdotes and tips on sustainable foraging practices\, teach you how to harvest herbs responsibly ensuring the preservation of these natural resources for generations to come. \nWhether you’re a seasoned forager or simply curious about the world of wild herbs\, this event promises to be an educational and enriching experience. Don’t miss out on this opportunity to connect with nature and expand your knowledge of herbal treasures! \nClass Fee: $20 per person. \nTo register\, call 906-484-1333 or REGISTER ONLINE. \nThis class is being offered at a discount thanks to a grant from the Chippewa Luce Mackinac Conservation District.
URL:https://hesselschoolhouse.org/event/foraging-for-wild-herbs-2/
LOCATION:Hessel School House – Avery Arts & Nature Learning Center\, 3206 West Cedar Street\, Hessel\, MI\, 49745\, United States
CATEGORIES:Adults,Lectures and Workshops,Nature Programs,Teens
END:VEVENT
BEGIN:VEVENT
DTSTART;TZID=America/Detroit:20231111T100000
DTEND;TZID=America/Detroit:20231111T120000
DTSTAMP:20260422T064055
CREATED:20230905T210824Z
LAST-MODIFIED:20231109T203217Z
UID:10000854-1699696800-1699704000@hesselschoolhouse.org
SUMMARY:CANCELLED - Beaded Fox
DESCRIPTION:TEEN ART CLASS: Create a Beaded Fox \nJoin us for a fun-filled art class where you can let your creativity soar! In this hands-on workshop\, you will learn how to make a beautiful beaded fox. No prior experience is necessary – this class is open to all teens ages 13-18 who are interested in exploring their artistic side. Our experienced instructor Marissa Wissner will guide you step-by-step\, ensuring that you leave with a unique beaded fox that you can proudly display or gift to someone special. \nClass is $25.00 per student. All materials and instruction are included.
URL:https://hesselschoolhouse.org/event/teen-art-class-beaded-fox/
LOCATION:Hessel School House – Avery Arts & Nature Learning Center\, 3206 West Cedar Street\, Hessel\, MI\, 49745\, United States
CATEGORIES:Teens,Visual Arts
END:VEVENT
BEGIN:VEVENT
DTSTART;TZID=America/Detroit:20231118T130000
DTEND;TZID=America/Detroit:20231118T160000
DTSTAMP:20260422T064055
CREATED:20230714T150754Z
LAST-MODIFIED:20230714T151348Z
UID:10000710-1700312400-1700323200@hesselschoolhouse.org
SUMMARY:Stovetop Natural Dyes
DESCRIPTION:In this class\, we will explore how to use natural dye at home using kitchen waste or dyestuff foraged from the environment.  Participants will learn about the mordanting process and how to get the best color from natural dyes.  We will also utilize Shibori techniques to create surface design before dyeing.  Students will leave with a beautifully personal naturally dyed silk scarf and expanded knowledge of the craft. \n*Participants should dress for mess and bring their own rubber gloves\, aprons\, and a plastic bag to transport dyed items.  \nClass size is limited to 12 students.  \n$60 per student. \nTO REGISTER: Call 906-484-1333 or register online at https://www.eventbrite.com/e/678089051607 \nThis program is offered at a discount thanks to a grant from The Americana Foundation\, Michigan Arts & Culture Council\, and the National Endowment for the Arts.
URL:https://hesselschoolhouse.org/event/stovetop-natural-dyes/
LOCATION:Hessel School House – Avery Arts & Nature Learning Center\, 3206 West Cedar Street\, Hessel\, MI\, 49745\, United States
CATEGORIES:Adults,Lectures and Workshops,Nature Programs,Teens,Visual Arts
END:VEVENT
BEGIN:VEVENT
DTSTART;TZID=America/Detroit:20231128T093000
DTEND;TZID=America/Detroit:20231128T120000
DTSTAMP:20260422T064055
CREATED:20231011T182449Z
LAST-MODIFIED:20231121T202437Z
UID:10000863-1701163800-1701172800@hesselschoolhouse.org
SUMMARY:CANCELLED - Arts & Crafts Time: Pie Baker Gift Set
DESCRIPTION:Join us for an exciting morning of delicious creativity during our Arts & Crafts time for Adults. This month we will create a truly unique gift set worthy of holiday giving (or to keep for yourself) complete with a glass etched pie plate and a handmade wooden pie tray that you will decorate. Art instructor Cheryl Gordon will guide you step-by-step and provide you with all the materials necessary to create this unique gift set. (Just in time for holiday giving!). Space is limited to 10 people so register early!  \n\nSORRY\, This class was cancelled due to the lack of pre-registrations. 
URL:https://hesselschoolhouse.org/event/arts-crafts-time-pie-baker-gift-set/
LOCATION:Hessel School House – Avery Arts & Nature Learning Center\, 3206 West Cedar Street\, Hessel\, MI\, 49745\, United States
CATEGORIES:Adults,Teens,Visual Arts
END:VEVENT
END:VCALENDAR