BEGIN:VCALENDAR
VERSION:2.0
PRODID:-//Hessel School House - ECPv6.15.20//NONSGML v1.0//EN
CALSCALE:GREGORIAN
METHOD:PUBLISH
X-ORIGINAL-URL:https://hesselschoolhouse.org
X-WR-CALDESC:Events for Hessel School House
REFRESH-INTERVAL;VALUE=DURATION:PT1H
X-Robots-Tag:noindex
X-PUBLISHED-TTL:PT1H
BEGIN:VTIMEZONE
TZID:America/Detroit
BEGIN:DAYLIGHT
TZOFFSETFROM:-0500
TZOFFSETTO:-0400
TZNAME:EDT
DTSTART:20190310T070000
END:DAYLIGHT
BEGIN:STANDARD
TZOFFSETFROM:-0400
TZOFFSETTO:-0500
TZNAME:EST
DTSTART:20191103T060000
END:STANDARD
BEGIN:DAYLIGHT
TZOFFSETFROM:-0500
TZOFFSETTO:-0400
TZNAME:EDT
DTSTART:20200308T070000
END:DAYLIGHT
BEGIN:STANDARD
TZOFFSETFROM:-0400
TZOFFSETTO:-0500
TZNAME:EST
DTSTART:20201101T060000
END:STANDARD
BEGIN:DAYLIGHT
TZOFFSETFROM:-0500
TZOFFSETTO:-0400
TZNAME:EDT
DTSTART:20210314T070000
END:DAYLIGHT
BEGIN:STANDARD
TZOFFSETFROM:-0400
TZOFFSETTO:-0500
TZNAME:EST
DTSTART:20211107T060000
END:STANDARD
END:VTIMEZONE
BEGIN:VEVENT
DTSTART;TZID=America/Detroit:20200127T173000
DTEND;TZID=America/Detroit:20200127T183000
DTSTAMP:20260419T152126
CREATED:20220601T160631Z
LAST-MODIFIED:20220601T160709Z
UID:10000144-1580146200-1580149800@hesselschoolhouse.org
SUMMARY:Revisiting Summer: Around Lake Superior in Search of Native Orchids
DESCRIPTION:The trip around Lake Superior is well known for rugged scenic beauty on the grandest scale\, but there is a much smaller type of beauty hiding in the bogs\, forests\, rocky cliffs\, and dunes of this great lake: native orchids. Join Steve Baker Monday\, January 27\, from 5:30 pm to 6:30 pm at Avery Arts & Nature Learning Center – Hessel School House for a presentation on these special flowers. Mr. Baker will provide stunning photos he took of orchids as traveled around Lake Superior. His presentation will include photos of national and provincial parks where he discovered Sparrow’s Egg Ladies Slippers\, Purple Fringed Orchids\, and Rose Pogonia. His presentation will cover 36 species of orchids and include images of waterfalls\, scenic vistas\, and the grandeur of Lake Superior. \nThe program is free of charge. Donations are appreciated. \nTo register\, visit the Registration page or call (906) 484-1333. This Avery Nature Conservation program is provided with support from The Americana Foundation.
URL:https://hesselschoolhouse.org/event/revisiting-summer-around-lake-superior-in-search-of-native-orchids/
LOCATION:MI
CATEGORIES:Lectures and Workshops,Nature Programs
END:VEVENT
END:VCALENDAR