BEGIN:VCALENDAR
VERSION:2.0
PRODID:-//Hessel School House - ECPv6.15.20//NONSGML v1.0//EN
CALSCALE:GREGORIAN
METHOD:PUBLISH
X-ORIGINAL-URL:https://hesselschoolhouse.org
X-WR-CALDESC:Events for Hessel School House
REFRESH-INTERVAL;VALUE=DURATION:PT1H
X-Robots-Tag:noindex
X-PUBLISHED-TTL:PT1H
BEGIN:VTIMEZONE
TZID:America/Detroit
BEGIN:DAYLIGHT
TZOFFSETFROM:-0500
TZOFFSETTO:-0400
TZNAME:EDT
DTSTART:20240310T070000
END:DAYLIGHT
BEGIN:STANDARD
TZOFFSETFROM:-0400
TZOFFSETTO:-0500
TZNAME:EST
DTSTART:20241103T060000
END:STANDARD
BEGIN:DAYLIGHT
TZOFFSETFROM:-0500
TZOFFSETTO:-0400
TZNAME:EDT
DTSTART:20250309T070000
END:DAYLIGHT
BEGIN:STANDARD
TZOFFSETFROM:-0400
TZOFFSETTO:-0500
TZNAME:EST
DTSTART:20251102T060000
END:STANDARD
BEGIN:DAYLIGHT
TZOFFSETFROM:-0500
TZOFFSETTO:-0400
TZNAME:EDT
DTSTART:20260308T070000
END:DAYLIGHT
BEGIN:STANDARD
TZOFFSETFROM:-0400
TZOFFSETTO:-0500
TZNAME:EST
DTSTART:20261101T060000
END:STANDARD
END:VTIMEZONE
BEGIN:VEVENT
DTSTART;VALUE=DATE:20250802
DTEND;VALUE=DATE:20250829
DTSTAMP:20260422T212626
CREATED:20250709T104614Z
LAST-MODIFIED:20250709T104614Z
UID:10001885-1754092800-1756425599@hesselschoolhouse.org
SUMMARY:LCAC 2025 Community Art Exhibit
DESCRIPTION:The Les Cheneaux Arts Council Community Art Exhibit will be at the Hessel School House August 2 – 28\, 2025. Please stop by\, take a look at the wealth of talent in our community and support the arts. \nFor more information about this event\, visit https://lescheneauxartscouncil.org/community-art-exhibition-2025
URL:https://hesselschoolhouse.org/event/lcac-2025-community-art-exhibit/
LOCATION:Hessel School House – Avery Arts & Nature Learning Center\, 3206 West Cedar Street\, Hessel\, MI\, 49745\, United States
CATEGORIES:Visual Arts
ORGANIZER;CN="Les Cheneaux Arts Council":MAILTO:lescheneauxartscouncil@gmail.com
END:VEVENT
BEGIN:VEVENT
DTSTART;TZID=America/Detroit:20250813T093000
DTEND;TZID=America/Detroit:20250813T120000
DTSTAMP:20260422T212626
CREATED:20250326T212032Z
LAST-MODIFIED:20250709T102222Z
UID:10001877-1755077400-1755086400@hesselschoolhouse.org
SUMMARY:Mahjong
DESCRIPTION:Join us for a friendly game of Mahjong. Games are held weekly on Wednesdays from 9:30am – 12:00 pm (June – September). Whether you are an experienced player or just a beginner\, all skill levels are welcome to play.  For further details or to schedule a lesson\, please call Hessel School House: 906.484.1333 \nNo registration is required. No fee to play. However\, if you wish to purchase a game card\, the cost is $15. \nThis group plays by the Official Standard Hands and Rules National Mah Jongg League Inc. 
URL:https://hesselschoolhouse.org/event/mahjong-12/2025-08-13/
LOCATION:Hessel School House – Avery Arts & Nature Learning Center\, 3206 West Cedar Street\, Hessel\, MI\, 49745\, United States
CATEGORIES:Adults
ATTACH;FMTTYPE=image/jpeg:https://hesselschoolhouse.org/wp-content/uploads/2024/05/Mahjogn_new-Header-jpg.webp
END:VEVENT
BEGIN:VEVENT
DTSTART;TZID=America/Detroit:20250813T130000
DTEND;TZID=America/Detroit:20250813T150000
DTSTAMP:20260422T212626
CREATED:20250413T135110Z
LAST-MODIFIED:20250413T135213Z
UID:10001850-1755090000-1755097200@hesselschoolhouse.org
SUMMARY:Paint & Sip: Michigan Love
DESCRIPTION:Paint & Sip: Michigan LoveWednesday\, August 13 | 1:00 PM – 3:00 PM$40 per person \nCelebrate your love for the Great Lakes State with an afternoon of creativity and connection at the Hessel School House! Guided by artist Karen Mazzoline\, you’ll paint a Michigan-inspired scene on a rustic wood panel—choose between a serene forest\, a breezy beach\, or paint both for a full tribute to the beauty of our region. \nNo painting experience? No problem! Karen will walk you through each step in a relaxed\, welcoming setting. All supplies are included—just bring your favorite beverage\, a friend\, and your creative spirit. \n🎨 Space is limited!Register by calling 906-484-1333 or sign up online. \nLet’s raise a brush to Pure Michigan!
URL:https://hesselschoolhouse.org/event/paint-sip-michigan-love-2/
LOCATION:Hessel School House – Avery Arts & Nature Learning Center\, 3206 West Cedar Street\, Hessel\, MI\, 49745\, United States
CATEGORIES:Adults,Visual Arts
ATTACH;FMTTYPE=image/jpeg:https://hesselschoolhouse.org/wp-content/uploads/2025/04/8-13-25-Michigan-Love.jpg
END:VEVENT
END:VCALENDAR