BEGIN:VCALENDAR
VERSION:2.0
PRODID:-//Hessel School House - ECPv6.15.20//NONSGML v1.0//EN
CALSCALE:GREGORIAN
METHOD:PUBLISH
X-WR-CALNAME:Hessel School House
X-ORIGINAL-URL:https://hesselschoolhouse.org
X-WR-CALDESC:Events for Hessel School House
REFRESH-INTERVAL;VALUE=DURATION:PT1H
X-Robots-Tag:noindex
X-PUBLISHED-TTL:PT1H
BEGIN:VTIMEZONE
TZID:America/Detroit
BEGIN:DAYLIGHT
TZOFFSETFROM:-0500
TZOFFSETTO:-0400
TZNAME:EDT
DTSTART:20240310T070000
END:DAYLIGHT
BEGIN:STANDARD
TZOFFSETFROM:-0400
TZOFFSETTO:-0500
TZNAME:EST
DTSTART:20241103T060000
END:STANDARD
BEGIN:DAYLIGHT
TZOFFSETFROM:-0500
TZOFFSETTO:-0400
TZNAME:EDT
DTSTART:20250309T070000
END:DAYLIGHT
BEGIN:STANDARD
TZOFFSETFROM:-0400
TZOFFSETTO:-0500
TZNAME:EST
DTSTART:20251102T060000
END:STANDARD
BEGIN:DAYLIGHT
TZOFFSETFROM:-0500
TZOFFSETTO:-0400
TZNAME:EDT
DTSTART:20260308T070000
END:DAYLIGHT
BEGIN:STANDARD
TZOFFSETFROM:-0400
TZOFFSETTO:-0500
TZNAME:EST
DTSTART:20261101T060000
END:STANDARD
END:VTIMEZONE
BEGIN:VEVENT
DTSTART;TZID=America/Detroit:20250726T140000
DTEND;TZID=America/Detroit:20250726T160000
DTSTAMP:20260419T230459
CREATED:20250413T125921Z
LAST-MODIFIED:20250519T114902Z
UID:10001848-1753538400-1753545600@hesselschoolhouse.org
SUMMARY:Blastomycosis: A Soil-Borne Disease of Dogs in Northern Michigan
DESCRIPTION:Blastomycosis: A Soil-Borne Disease of Dogs in Northern Michigan \nJoin leading medical professionals for an in-depth look at Blastomycosis (also known as Blasto)\, the soil-borne fungal disease impacting both humans and animals across Michigan and the Eastern Upper Peninsula. This presentation will bring together veterinarians and public health experts for a science-based exploration of current research\, case studies\, and regional trends. \nWhether you’re treating patients\, conducting fieldwork\, or just seeking to deepen your understanding of this complex disease\, this event will provide valuable insights and the opportunity to engage with experts on the front lines of Blastomycosis investigation. \nPresentations by: \nDr. Carol Kauffman\, MD\, U of M Medical School \nDr. Daniel Langlois\, DVM\, MSU Veterinary College \nDr. Taylor Miller\, DVM\, Pickford Veterinary Service \nSpecial Guest: \nDr. Clinton Groover\, DVM\, retired Pickford Veterinary Services \nThis seminar is open to the public and offered free of charge thanks to a grant from the Les Cheneaux Community Foundation. Space is limited. \nTo reserve your seat\, CLICK HERE or call 906-484-1333.\n________________________________ \nIf you would like to attend the presentation online\, complete this form below. You will be emailed a link prior to the event.
URL:https://hesselschoolhouse.org/event/in-depth-discussion-on-blastomycosis-a-soil-borne-disease/
LOCATION:Hessel School House – Avery Arts & Nature Learning Center\, 3206 West Cedar Street\, Hessel\, MI\, 49745\, United States
CATEGORIES:Adults,Lectures and Workshops,Nature Programs
ATTACH;FMTTYPE=image/jpeg:https://hesselschoolhouse.org/wp-content/uploads/2025/04/16-9-Blasto-Web-Header.jpg
END:VEVENT
END:VCALENDAR