BEGIN:VCALENDAR
VERSION:2.0
PRODID:-//Hessel School House - ECPv6.15.20//NONSGML v1.0//EN
CALSCALE:GREGORIAN
METHOD:PUBLISH
X-WR-CALNAME:Hessel School House
X-ORIGINAL-URL:https://hesselschoolhouse.org
X-WR-CALDESC:Events for Hessel School House
REFRESH-INTERVAL;VALUE=DURATION:PT1H
X-Robots-Tag:noindex
X-PUBLISHED-TTL:PT1H
BEGIN:VTIMEZONE
TZID:America/Detroit
BEGIN:DAYLIGHT
TZOFFSETFROM:-0500
TZOFFSETTO:-0400
TZNAME:EDT
DTSTART:20240310T070000
END:DAYLIGHT
BEGIN:STANDARD
TZOFFSETFROM:-0400
TZOFFSETTO:-0500
TZNAME:EST
DTSTART:20241103T060000
END:STANDARD
BEGIN:DAYLIGHT
TZOFFSETFROM:-0500
TZOFFSETTO:-0400
TZNAME:EDT
DTSTART:20250309T070000
END:DAYLIGHT
BEGIN:STANDARD
TZOFFSETFROM:-0400
TZOFFSETTO:-0500
TZNAME:EST
DTSTART:20251102T060000
END:STANDARD
BEGIN:DAYLIGHT
TZOFFSETFROM:-0500
TZOFFSETTO:-0400
TZNAME:EDT
DTSTART:20260308T070000
END:DAYLIGHT
BEGIN:STANDARD
TZOFFSETFROM:-0400
TZOFFSETTO:-0500
TZNAME:EST
DTSTART:20261101T060000
END:STANDARD
END:VTIMEZONE
BEGIN:VEVENT
DTSTART;TZID=America/Detroit:20250712T100000
DTEND;TZID=America/Detroit:20250712T160000
DTSTAMP:20260419T230500
CREATED:20250413T113058Z
LAST-MODIFIED:20260118T184050Z
UID:10001840-1752314400-1752336000@hesselschoolhouse.org
SUMMARY:Capturing Nature Through the Lens: A Full-Day Photography Workshop with Wayne Pope
DESCRIPTION:Capturing Nature Through the Lens: A Photography Workshop with Wayne Pope\nSaturday\, July 12\, 2025\n10:00 AM – 4:00 PM\nHessel School House – Avery Arts & Nature Learning Center \nSharpen your photography skills and immerse yourself in the beauty of the natural world with Wayne Pope\, a professional nature photographer and adjunct faculty member at Lansing Community College\, where he teaches photography. This full-day workshop is designed for both beginners and experienced photographers looking to refine their skills. This hands-on session will guide participants through the art of capturing the beauty of the natural world—whether using a digital camera or smartphone. \nWhat to Expect: \nClassroom Learning: Explore the fundamentals of photography\, including camera types\, composition techniques\, depth of field\, and lighting to elevate your nature shots. \nField Experience: Put your knowledge into action with a guided photo session at a local nature preserve\, where Wayne will offer expert tips on framing\, perspective\, and capturing wildlife and landscapes in real time. \nLunch Provided: Enjoy a break and connect with fellow nature enthusiasts over a provided meal. \nWith years of experience as an educator and photographer\, Wayne brings expert insights and personalized guidance to help you see nature through a new lens—whether you’re using a digital camera or smartphone. \nWhat to Bring: \nA digital camera or smartphone with camera capabilities\, comfortable walking shoes\, and a passion for nature photography! \nLimited spots available—register today to secure your place! \nClass Fee: $50 per person\, includes full day of instruction\, lunch and refreshments. \nTo register\, call 906-484-1333 or register online. \nThis class is offered at a discount thanks to a grant from the Chippewa Luce Mackinac Conservation District. \n__________________________ \nABOUT YOUR INSTRUCTOR: \nWayne Pope – As a college photography instructor\, I help students reach their career goals. My teaching slogan is\, “Keeping Your Interests At Heart.” As a business owner of Pope Photo Tours\, I provide quality photo safaris that are safe\, afforable and fun. As a photo workshop presenter\, I provide easy-to-understand\, visually-oriented lectures and one-to-one instruction to students in the field. \nI have self-published two books: “Birds of Michigan” and “My Favorite Facebook Photos”. I was trained as a Chinese-Mandarin interpreter in the U.S. Army and have a minor degree in Chinese Language from MSU. As a photojournalist\, I write and photograph articles for The Lansing State Journal\, Michigan-Out-Of-Doors\, Michigan Living and Michigan Audubon Society magazines. I am a poet and have been published in Washington Square Review. \n 
URL:https://hesselschoolhouse.org/event/capturing-nature-through-the-lens-a-full-day-photography-workshop-with-wayne-pope/
LOCATION:Hessel School House – Avery Arts & Nature Learning Center\, 3206 West Cedar Street\, Hessel\, MI\, 49745\, United States
CATEGORIES:Adults,Nature Programs,Teens,Visual Arts
ATTACH;FMTTYPE=image/jpeg:https://hesselschoolhouse.org/wp-content/uploads/2025/04/7-12-Photography-Workshop.jpg
END:VEVENT
END:VCALENDAR