BEGIN:VCALENDAR
VERSION:2.0
PRODID:-//Hessel School House - ECPv6.15.20//NONSGML v1.0//EN
CALSCALE:GREGORIAN
METHOD:PUBLISH
X-WR-CALNAME:Hessel School House
X-ORIGINAL-URL:https://hesselschoolhouse.org
X-WR-CALDESC:Events for Hessel School House
REFRESH-INTERVAL;VALUE=DURATION:PT1H
X-Robots-Tag:noindex
X-PUBLISHED-TTL:PT1H
BEGIN:VTIMEZONE
TZID:America/Detroit
BEGIN:DAYLIGHT
TZOFFSETFROM:-0500
TZOFFSETTO:-0400
TZNAME:EDT
DTSTART:20240310T070000
END:DAYLIGHT
BEGIN:STANDARD
TZOFFSETFROM:-0400
TZOFFSETTO:-0500
TZNAME:EST
DTSTART:20241103T060000
END:STANDARD
BEGIN:DAYLIGHT
TZOFFSETFROM:-0500
TZOFFSETTO:-0400
TZNAME:EDT
DTSTART:20250309T070000
END:DAYLIGHT
BEGIN:STANDARD
TZOFFSETFROM:-0400
TZOFFSETTO:-0500
TZNAME:EST
DTSTART:20251102T060000
END:STANDARD
BEGIN:DAYLIGHT
TZOFFSETFROM:-0500
TZOFFSETTO:-0400
TZNAME:EDT
DTSTART:20260308T070000
END:DAYLIGHT
BEGIN:STANDARD
TZOFFSETFROM:-0400
TZOFFSETTO:-0500
TZNAME:EST
DTSTART:20261101T060000
END:STANDARD
END:VTIMEZONE
BEGIN:VEVENT
DTSTART;TZID=America/Detroit:20250709T093000
DTEND;TZID=America/Detroit:20250709T120000
DTSTAMP:20260421T160057
CREATED:20250326T212032Z
LAST-MODIFIED:20250709T102222Z
UID:10001872-1752053400-1752062400@hesselschoolhouse.org
SUMMARY:Mahjong
DESCRIPTION:Join us for a friendly game of Mahjong. Games are held weekly on Wednesdays from 9:30am – 12:00 pm (June – September). Whether you are an experienced player or just a beginner\, all skill levels are welcome to play.  For further details or to schedule a lesson\, please call Hessel School House: 906.484.1333 \nNo registration is required. No fee to play. However\, if you wish to purchase a game card\, the cost is $15. \nThis group plays by the Official Standard Hands and Rules National Mah Jongg League Inc. 
URL:https://hesselschoolhouse.org/event/mahjong-12/2025-07-09/
LOCATION:Hessel School House – Avery Arts & Nature Learning Center\, 3206 West Cedar Street\, Hessel\, MI\, 49745\, United States
CATEGORIES:Adults
ATTACH;FMTTYPE=image/jpeg:https://hesselschoolhouse.org/wp-content/uploads/2024/05/Mahjogn_new-Header-jpg.webp
END:VEVENT
BEGIN:VEVENT
DTSTART;TZID=America/Detroit:20250709T100000
DTEND;TZID=America/Detroit:20250709T120000
DTSTAMP:20260421T160057
CREATED:20250413T104606Z
LAST-MODIFIED:20250610T134857Z
UID:10001836-1752055200-1752062400@hesselschoolhouse.org
SUMMARY:Watercolor Refresher (2 day class)
DESCRIPTION:Wednesdays\, July 9 and July 23\n10:00 PM – 12:00 PM \nWatercolor Refresher Workshop\nBrush up on your watercolor skills by attending our watercolor refresher class! Through quick exercises\, fun activities\, and creative projects\, build your skill set and feel more confident in working with this medium. This is a two-week session\, so you will have the opportunity to practice what you have learned. Artist Karen Mazzoline will offer different painting styles\, techniques\, and types of watercolor paints during the course. Have a specific technique you would like to learn? Karen will contact you before class starts to receive any questions or topics you would like to cover and will include them in the sessions! All materials will be provided\, but if you would rather use your own watercolor paints\, feel free to bring them along! \nClass Size is limited. $55 per student. Register today by calling 906-484-1333 or register online.
URL:https://hesselschoolhouse.org/event/watercolor-refresher-2-day-class/2025-07-09/
LOCATION:Hessel School House – Avery Arts & Nature Learning Center\, 3206 West Cedar Street\, Hessel\, MI\, 49745\, United States
CATEGORIES:Adults,Teens,Visual Arts
ATTACH;FMTTYPE=image/jpeg:https://hesselschoolhouse.org/wp-content/uploads/2025/04/7-923-Watercolor-Refresher.jpg
END:VEVENT
BEGIN:VEVENT
DTSTART;TZID=America/Detroit:20250709T130000
DTEND;TZID=America/Detroit:20250709T150000
DTSTAMP:20260421T160057
CREATED:20250412T225754Z
LAST-MODIFIED:20260118T181851Z
UID:10001835-1752066000-1752073200@hesselschoolhouse.org
SUMMARY:Painting with Nature
DESCRIPTION:Wednesday\, July 9 – 1:00 – 3:00 PM\nPainting with Nature \nSpend the afternoon painting with nature! With guidance from artist Marissa Wissner\, young people ages 6-11 years old will learn how to utilize needles\, tree bark\, and other elements of nature to paint a stunning work of art! All materials will be provided but be dressed to take a walk outside for gathering your nature finds! \nSpace is limited. To register\, call 906-484-1333 or register online at \n\n\n\n\nhttps://www.eventeny.com/events/ticket/?id=19963&action=ticket&action_ticket=33226\n\n\n\n\nThis class is offered with support from the Chippewa Luce Mackinac Conservation District.
URL:https://hesselschoolhouse.org/event/painting-with-nature/
LOCATION:Hessel School House – Avery Arts & Nature Learning Center\, 3206 West Cedar Street\, Hessel\, MI\, 49745\, United States
CATEGORIES:Elementary,Nature Programs,Visual Arts
ATTACH;FMTTYPE=image/jpeg:https://hesselschoolhouse.org/wp-content/uploads/2025/04/7-9-Painting-with-Nature.jpg
END:VEVENT
END:VCALENDAR