BEGIN:VCALENDAR
VERSION:2.0
PRODID:-//Hessel School House - ECPv6.15.20//NONSGML v1.0//EN
CALSCALE:GREGORIAN
METHOD:PUBLISH
X-ORIGINAL-URL:https://hesselschoolhouse.org
X-WR-CALDESC:Events for Hessel School House
REFRESH-INTERVAL;VALUE=DURATION:PT1H
X-Robots-Tag:noindex
X-PUBLISHED-TTL:PT1H
BEGIN:VTIMEZONE
TZID:America/Detroit
BEGIN:DAYLIGHT
TZOFFSETFROM:-0500
TZOFFSETTO:-0400
TZNAME:EDT
DTSTART:20240310T070000
END:DAYLIGHT
BEGIN:STANDARD
TZOFFSETFROM:-0400
TZOFFSETTO:-0500
TZNAME:EST
DTSTART:20241103T060000
END:STANDARD
BEGIN:DAYLIGHT
TZOFFSETFROM:-0500
TZOFFSETTO:-0400
TZNAME:EDT
DTSTART:20250309T070000
END:DAYLIGHT
BEGIN:STANDARD
TZOFFSETFROM:-0400
TZOFFSETTO:-0500
TZNAME:EST
DTSTART:20251102T060000
END:STANDARD
BEGIN:DAYLIGHT
TZOFFSETFROM:-0500
TZOFFSETTO:-0400
TZNAME:EDT
DTSTART:20260308T070000
END:DAYLIGHT
BEGIN:STANDARD
TZOFFSETFROM:-0400
TZOFFSETTO:-0500
TZNAME:EST
DTSTART:20261101T060000
END:STANDARD
END:VTIMEZONE
BEGIN:VEVENT
DTSTART;TZID=America/Detroit:20250628T090000
DTEND;TZID=America/Detroit:20250628T120000
DTSTAMP:20260425T113548
CREATED:20250306T013943Z
LAST-MODIFIED:20250306T013943Z
UID:10001783-1751101200-1751112000@hesselschoolhouse.org
SUMMARY:Mixed Media Mini Books
DESCRIPTION:Unleash your creativity with author and artist Jan Kellis while you craft a one-of-a-kind mini book in this hands-on workshop! Using just one sheet of paper\, you’ll learn how to fold and transform it into a six-page book\, ready to be filled with your personal touch. Decorate your book with collage\, acrylic paints\, markers\, and pens\, and make it truly unique.\n\nAt just 3” x 4.5” when finished\, your mini book is the perfect pocket-sized space for poetry\, favorite quotes\, song lyrics\, or personal musings. Whether you want to create a tiny art journal\, a gift for a friend\, or a keepsake filled with inspiration\, this workshop will guide you through the process. \nAll supplies included! Feel free to bring your own collage elements if you have something special you’d like to incorporate. \nJoin us for a fun and relaxed creative session—no experience needed! \n\nClass fee: $35.00\n\nTo register\, call 906-484-1333 or register online at\n\n\n\n\n\nhttps://www.eventeny.com/events/ticket/?id=18869&action=ticket&action_ticket=31511
URL:https://hesselschoolhouse.org/event/mixed-media-mini-books/
LOCATION:Hessel School House – Avery Arts & Nature Learning Center\, 3206 West Cedar Street\, Hessel\, MI\, 49745\, United States
CATEGORIES:Adults,Teens,Visual Arts
ATTACH;FMTTYPE=image/jpeg:https://hesselschoolhouse.org/wp-content/uploads/2025/03/6-28-Mixed-Media-Books.jpg
END:VEVENT
END:VCALENDAR