BEGIN:VCALENDAR
VERSION:2.0
PRODID:-//Hessel School House - ECPv6.15.20//NONSGML v1.0//EN
CALSCALE:GREGORIAN
METHOD:PUBLISH
X-WR-CALNAME:Hessel School House
X-ORIGINAL-URL:https://hesselschoolhouse.org
X-WR-CALDESC:Events for Hessel School House
REFRESH-INTERVAL;VALUE=DURATION:PT1H
X-Robots-Tag:noindex
X-PUBLISHED-TTL:PT1H
BEGIN:VTIMEZONE
TZID:America/Detroit
BEGIN:DAYLIGHT
TZOFFSETFROM:-0500
TZOFFSETTO:-0400
TZNAME:EDT
DTSTART:20240310T070000
END:DAYLIGHT
BEGIN:STANDARD
TZOFFSETFROM:-0400
TZOFFSETTO:-0500
TZNAME:EST
DTSTART:20241103T060000
END:STANDARD
BEGIN:DAYLIGHT
TZOFFSETFROM:-0500
TZOFFSETTO:-0400
TZNAME:EDT
DTSTART:20250309T070000
END:DAYLIGHT
BEGIN:STANDARD
TZOFFSETFROM:-0400
TZOFFSETTO:-0500
TZNAME:EST
DTSTART:20251102T060000
END:STANDARD
BEGIN:DAYLIGHT
TZOFFSETFROM:-0500
TZOFFSETTO:-0400
TZNAME:EDT
DTSTART:20260308T070000
END:DAYLIGHT
BEGIN:STANDARD
TZOFFSETFROM:-0400
TZOFFSETTO:-0500
TZNAME:EST
DTSTART:20261101T060000
END:STANDARD
END:VTIMEZONE
BEGIN:VEVENT
DTSTART;TZID=America/Detroit:20250626T140000
DTEND;TZID=America/Detroit:20250626T160000
DTSTAMP:20260419T113735
CREATED:20250412T193708Z
LAST-MODIFIED:20250412T193708Z
UID:10001831-1750946400-1750953600@hesselschoolhouse.org
SUMMARY:Drama Camp for Kids
DESCRIPTION:Young Actors Drama Camp\n\nThree-Day Camp: Tuesday – Thursday\, June 24\, 25 & 26 from 2:00 – 4:00 PM at the Hessel School House\n\nDo you have a young storyteller\, performer\, or imaginative thinker at home? Nurture their creativity this summer with our three-day drama camp designed especially for kids ages 6–11!\n\nLed by experienced directors Karen Mazzoline and Marissa Wissner\, this engaging camp introduces children to the fundamentals of theater through fun games\, group activities\, and short skits inspired by timeless stories\, local legends\, and daring adventures. Campers will explore voice\, movement\, character building\, and teamwork in a positive and supportive environment.\n\nThe final day of camp features a special performance for family and friends\, where students will showcase their new skills and celebrate all they’ve learned!\n\nA detailed schedule and what-to-bring list will be emailed to participants prior to the start of camp.\n\n Give your child the opportunity to grow in confidence\, build friendships\, and discover the magic of the stage!\n\nWorkshop Fee: $80/student.\nLimited space available.\n\nTo register your youngster\, call 906-484-1333 or register online at \n\n\n\n\nhttps://www.eventeny.com/events/ticket/?id=18869&action=ticket&action_ticket=33221
URL:https://hesselschoolhouse.org/event/drama-camp-for-kids/2025-06-26/
LOCATION:Hessel School House – Avery Arts & Nature Learning Center\, 3206 West Cedar Street\, Hessel\, MI\, 49745\, United States
CATEGORIES:Elementary,Lectures and Workshops,Pre-teen
ATTACH;FMTTYPE=image/jpeg:https://hesselschoolhouse.org/wp-content/uploads/2025/04/6-24-26-Drama-Camp.jpg
END:VEVENT
END:VCALENDAR