BEGIN:VCALENDAR
VERSION:2.0
PRODID:-//Hessel School House - ECPv6.15.20//NONSGML v1.0//EN
CALSCALE:GREGORIAN
METHOD:PUBLISH
X-ORIGINAL-URL:https://hesselschoolhouse.org
X-WR-CALDESC:Events for Hessel School House
REFRESH-INTERVAL;VALUE=DURATION:PT1H
X-Robots-Tag:noindex
X-PUBLISHED-TTL:PT1H
BEGIN:VTIMEZONE
TZID:America/Detroit
BEGIN:DAYLIGHT
TZOFFSETFROM:-0500
TZOFFSETTO:-0400
TZNAME:EDT
DTSTART:20240310T070000
END:DAYLIGHT
BEGIN:STANDARD
TZOFFSETFROM:-0400
TZOFFSETTO:-0500
TZNAME:EST
DTSTART:20241103T060000
END:STANDARD
BEGIN:DAYLIGHT
TZOFFSETFROM:-0500
TZOFFSETTO:-0400
TZNAME:EDT
DTSTART:20250309T070000
END:DAYLIGHT
BEGIN:STANDARD
TZOFFSETFROM:-0400
TZOFFSETTO:-0500
TZNAME:EST
DTSTART:20251102T060000
END:STANDARD
BEGIN:DAYLIGHT
TZOFFSETFROM:-0500
TZOFFSETTO:-0400
TZNAME:EDT
DTSTART:20260308T070000
END:DAYLIGHT
BEGIN:STANDARD
TZOFFSETFROM:-0400
TZOFFSETTO:-0500
TZNAME:EST
DTSTART:20261101T060000
END:STANDARD
END:VTIMEZONE
BEGIN:VEVENT
DTSTART;TZID=America/Detroit:20250614T100000
DTEND;TZID=America/Detroit:20250614T150000
DTSTAMP:20260422T195051
CREATED:20250412T175857Z
LAST-MODIFIED:20250412T175857Z
UID:10001826-1749895200-1749913200@hesselschoolhouse.org
SUMMARY:Stained Glass: Flag Day
DESCRIPTION:Join us to create a beautiful stained glass flag with artist Connie Thompson. This hands-on experience is designed for all skill levels—whether you’re a beginner or an experienced crafter\, you’ll leave with a beautiful piece to cherish or gift. All materials are included\, so just bring your creativity and enthusiasm! The workshop will take place at the Hessel School House from 10 AM to 3 PM. With a limited class size of just 6 participants\, you’ll receive personalized attention and guidance throughout the day. \nClass Fee: $75.00 per person. \nTo register\, call 906-484-1333 or register online.
URL:https://hesselschoolhouse.org/event/stained-glass-flag-day/
LOCATION:Hessel School House – Avery Arts & Nature Learning Center\, 3206 West Cedar Street\, Hessel\, MI\, 49745\, United States
CATEGORIES:Adults,Visual Arts
ATTACH;FMTTYPE=image/jpeg:https://hesselschoolhouse.org/wp-content/uploads/2025/04/6-14-StainedGlass-Flag.jpg
END:VEVENT
END:VCALENDAR