BEGIN:VCALENDAR
VERSION:2.0
PRODID:-//Hessel School House - ECPv6.15.20//NONSGML v1.0//EN
CALSCALE:GREGORIAN
METHOD:PUBLISH
X-WR-CALNAME:Hessel School House
X-ORIGINAL-URL:https://hesselschoolhouse.org
X-WR-CALDESC:Events for Hessel School House
REFRESH-INTERVAL;VALUE=DURATION:PT1H
X-Robots-Tag:noindex
X-PUBLISHED-TTL:PT1H
BEGIN:VTIMEZONE
TZID:America/Detroit
BEGIN:DAYLIGHT
TZOFFSETFROM:-0500
TZOFFSETTO:-0400
TZNAME:EDT
DTSTART:20240310T070000
END:DAYLIGHT
BEGIN:STANDARD
TZOFFSETFROM:-0400
TZOFFSETTO:-0500
TZNAME:EST
DTSTART:20241103T060000
END:STANDARD
BEGIN:DAYLIGHT
TZOFFSETFROM:-0500
TZOFFSETTO:-0400
TZNAME:EDT
DTSTART:20250309T070000
END:DAYLIGHT
BEGIN:STANDARD
TZOFFSETFROM:-0400
TZOFFSETTO:-0500
TZNAME:EST
DTSTART:20251102T060000
END:STANDARD
BEGIN:DAYLIGHT
TZOFFSETFROM:-0500
TZOFFSETTO:-0400
TZNAME:EDT
DTSTART:20260308T070000
END:DAYLIGHT
BEGIN:STANDARD
TZOFFSETFROM:-0400
TZOFFSETTO:-0500
TZNAME:EST
DTSTART:20261101T060000
END:STANDARD
END:VTIMEZONE
BEGIN:VEVENT
DTSTART;TZID=America/Detroit:20250221T183000
DTEND;TZID=America/Detroit:20250221T203000
DTSTAMP:20260419T185738
CREATED:20241217T232656Z
LAST-MODIFIED:20241217T232659Z
UID:10001753-1740162600-1740169800@hesselschoolhouse.org
SUMMARY:PAINT & SIP: Watercolor Moon
DESCRIPTION:Unleash your creativity and learn how to paint the moon in watercolor! Using the moon as our inspiration\, you will learn how to manipulate watercolor on paper and work with metallic paints to give your artwork sheen! Artist Karen Mazzoline will provide all materials\, guidance\, and inspiration while you enjoy and evening of painting! \nClass Fee: $40.00 \nTo register\, call 906-484-1333 or register online
URL:https://hesselschoolhouse.org/event/paint-sip-watercolor-moon/
LOCATION:Hessel School House – Avery Arts & Nature Learning Center\, 3206 West Cedar Street\, Hessel\, MI\, 49745\, United States
CATEGORIES:Adults,Visual Arts
ATTACH;FMTTYPE=image/jpeg:https://hesselschoolhouse.org/wp-content/uploads/2024/12/2-21-25-Paint-and-Sip-Moon.jpg
END:VEVENT
END:VCALENDAR