BEGIN:VCALENDAR
VERSION:2.0
PRODID:-//Hessel School House - ECPv6.15.20//NONSGML v1.0//EN
CALSCALE:GREGORIAN
METHOD:PUBLISH
X-ORIGINAL-URL:https://hesselschoolhouse.org
X-WR-CALDESC:Events for Hessel School House
REFRESH-INTERVAL;VALUE=DURATION:PT1H
X-Robots-Tag:noindex
X-PUBLISHED-TTL:PT1H
BEGIN:VTIMEZONE
TZID:America/Detroit
BEGIN:DAYLIGHT
TZOFFSETFROM:-0500
TZOFFSETTO:-0400
TZNAME:EDT
DTSTART:20240310T070000
END:DAYLIGHT
BEGIN:STANDARD
TZOFFSETFROM:-0400
TZOFFSETTO:-0500
TZNAME:EST
DTSTART:20241103T060000
END:STANDARD
BEGIN:DAYLIGHT
TZOFFSETFROM:-0500
TZOFFSETTO:-0400
TZNAME:EDT
DTSTART:20250309T070000
END:DAYLIGHT
BEGIN:STANDARD
TZOFFSETFROM:-0400
TZOFFSETTO:-0500
TZNAME:EST
DTSTART:20251102T060000
END:STANDARD
BEGIN:DAYLIGHT
TZOFFSETFROM:-0500
TZOFFSETTO:-0400
TZNAME:EDT
DTSTART:20260308T070000
END:DAYLIGHT
BEGIN:STANDARD
TZOFFSETFROM:-0400
TZOFFSETTO:-0500
TZNAME:EST
DTSTART:20261101T060000
END:STANDARD
END:VTIMEZONE
BEGIN:VEVENT
DTSTART;TZID=America/Detroit:20250215T100000
DTEND;TZID=America/Detroit:20250215T150000
DTSTAMP:20260419T225458
CREATED:20241217T232432Z
LAST-MODIFIED:20241217T232435Z
UID:10001752-1739613600-1739631600@hesselschoolhouse.org
SUMMARY:Stained Glass Heart
DESCRIPTION:Join us for a delightful stained glass workshop on February 15\, where you can create a stunning stained glass heart for your Valentine! Led by the talented artist Connie Thompson\, this hands-on experience is designed for all skill levels—whether you’re a beginner or an experienced crafter\, you’ll leave with a beautiful piece to cherish or gift. All materials are included\, so just bring your creativity and enthusiasm! With a limited class size of just 6 participants\, you’ll receive personalized attention and guidance throughout the day. $75 per student. Don’t miss this unique opportunity to express your love in a truly artistic way—reserve your spot today! \nTo register\, call 906-484-1333 or REGISTER ONLINE. \nThis class is for adults only. \nNote: If the class is sold out\, please call 906-484-1333 to be added to the waiting list. If there is a sufficient number of interested students we will work with the artist to do a second class. 
URL:https://hesselschoolhouse.org/event/stained-glass-heart/
LOCATION:Hessel School House – Avery Arts & Nature Learning Center\, 3206 West Cedar Street\, Hessel\, MI\, 49745\, United States
CATEGORIES:Adults,Visual Arts
ATTACH;FMTTYPE=image/jpeg:https://hesselschoolhouse.org/wp-content/uploads/2024/12/Stained-Glass-Hearts.jpg
END:VEVENT
END:VCALENDAR