BEGIN:VCALENDAR
VERSION:2.0
PRODID:-//Hessel School House - ECPv6.15.20//NONSGML v1.0//EN
CALSCALE:GREGORIAN
METHOD:PUBLISH
X-ORIGINAL-URL:https://hesselschoolhouse.org
X-WR-CALDESC:Events for Hessel School House
REFRESH-INTERVAL;VALUE=DURATION:PT1H
X-Robots-Tag:noindex
X-PUBLISHED-TTL:PT1H
BEGIN:VTIMEZONE
TZID:America/Detroit
BEGIN:DAYLIGHT
TZOFFSETFROM:-0500
TZOFFSETTO:-0400
TZNAME:EDT
DTSTART:20240310T070000
END:DAYLIGHT
BEGIN:STANDARD
TZOFFSETFROM:-0400
TZOFFSETTO:-0500
TZNAME:EST
DTSTART:20241103T060000
END:STANDARD
BEGIN:DAYLIGHT
TZOFFSETFROM:-0500
TZOFFSETTO:-0400
TZNAME:EDT
DTSTART:20250309T070000
END:DAYLIGHT
BEGIN:STANDARD
TZOFFSETFROM:-0400
TZOFFSETTO:-0500
TZNAME:EST
DTSTART:20251102T060000
END:STANDARD
BEGIN:DAYLIGHT
TZOFFSETFROM:-0500
TZOFFSETTO:-0400
TZNAME:EDT
DTSTART:20260308T070000
END:DAYLIGHT
BEGIN:STANDARD
TZOFFSETFROM:-0400
TZOFFSETTO:-0500
TZNAME:EST
DTSTART:20261101T060000
END:STANDARD
END:VTIMEZONE
BEGIN:VEVENT
DTSTART;TZID=America/Detroit:20250111T100000
DTEND;TZID=America/Detroit:20250111T150000
DTSTAMP:20260420T084448
CREATED:20241217T150649Z
LAST-MODIFIED:20241217T150841Z
UID:10001749-1736589600-1736607600@hesselschoolhouse.org
SUMMARY:Stained Glass Snowflakes
DESCRIPTION:Stained Glass Snowflakes\nSaturday\, January 11\, 2025 • 10:00 AM – 3:00 PM\n\nJoin us for a delightful day of creativity at our Stained Glass Workshop\, where you’ll have the opportunity to craft your very own stunning stained glass snowflake under the expert guidance of artist Connie Thompson. This class is a great introduction to stained glass. All materials are included\, so just bring your enthusiasm and willingness to learn! With a limited class size of only 6 participants\, you’ll receive personalized attention as you explore the art of stained glass. Adults only.\n\nClass Fee: $75.\n\n\n\n\nTo register\, call 906-484-1333 or REGISTER ONLINE.\n\n\n\n\nNOTE: If this class is full\, please call 906-484-1333 to be asked to be put on our waiting list. If we receive enough interest\, we will work with the artist to schedule a second class. \n\n\n\n\nHere’s a few examples of snowflake designs you could make!
URL:https://hesselschoolhouse.org/event/stained-glass-snowflakes/
LOCATION:Hessel School House – Avery Arts & Nature Learning Center\, 3206 West Cedar Street\, Hessel\, MI\, 49745\, United States
CATEGORIES:Adults,Visual Arts
ATTACH;FMTTYPE=image/jpeg:https://hesselschoolhouse.org/wp-content/uploads/2024/12/1-11-25-Stained-Glass-Snowflakes.jpg
END:VEVENT
END:VCALENDAR