BEGIN:VCALENDAR
VERSION:2.0
PRODID:-//Hessel School House - ECPv6.15.20//NONSGML v1.0//EN
CALSCALE:GREGORIAN
METHOD:PUBLISH
X-WR-CALNAME:Hessel School House
X-ORIGINAL-URL:https://hesselschoolhouse.org
X-WR-CALDESC:Events for Hessel School House
REFRESH-INTERVAL;VALUE=DURATION:PT1H
X-Robots-Tag:noindex
X-PUBLISHED-TTL:PT1H
BEGIN:VTIMEZONE
TZID:America/Detroit
BEGIN:DAYLIGHT
TZOFFSETFROM:-0500
TZOFFSETTO:-0400
TZNAME:EDT
DTSTART:20230312T070000
END:DAYLIGHT
BEGIN:STANDARD
TZOFFSETFROM:-0400
TZOFFSETTO:-0500
TZNAME:EST
DTSTART:20231105T060000
END:STANDARD
BEGIN:DAYLIGHT
TZOFFSETFROM:-0500
TZOFFSETTO:-0400
TZNAME:EDT
DTSTART:20240310T070000
END:DAYLIGHT
BEGIN:STANDARD
TZOFFSETFROM:-0400
TZOFFSETTO:-0500
TZNAME:EST
DTSTART:20241103T060000
END:STANDARD
BEGIN:DAYLIGHT
TZOFFSETFROM:-0500
TZOFFSETTO:-0400
TZNAME:EDT
DTSTART:20250309T070000
END:DAYLIGHT
BEGIN:STANDARD
TZOFFSETFROM:-0400
TZOFFSETTO:-0500
TZNAME:EST
DTSTART:20251102T060000
END:STANDARD
END:VTIMEZONE
BEGIN:VEVENT
DTSTART;TZID=America/Detroit:20241221T100000
DTEND;TZID=America/Detroit:20241221T150000
DTSTAMP:20260420T013059
CREATED:20241114T133935Z
LAST-MODIFIED:20241114T133938Z
UID:10001743-1734775200-1734793200@hesselschoolhouse.org
SUMMARY:Stained Glass Christmas Ornament
DESCRIPTION:Join us for a delightful beginners stained glass class led by the talented Connie Thompson. In this hands-on workshop\, Connie will guide you step-by-step as you craft a beautiful stained glass Christmas ornament that you can proudly display or gift to loved ones. Choose from her selection of simple holiday patterns perfect for beginners\, and don’t worry—everything you need will be provided\, including all the tools and materials you need to craft your one-of-a-kind masterpiece. (This class is a repeat of the November class.) \nClass Fee: $75 \nClass limited to 6 participants. Register soon. This class sold out in November. To register\, call 906-484-1333 or REGISTER ONLINE
URL:https://hesselschoolhouse.org/event/stained-glass-christmas-ornament/
LOCATION:Hessel School House – Avery Arts & Nature Learning Center\, 3206 West Cedar Street\, Hessel\, MI\, 49745\, United States
CATEGORIES:Adults,Visual Arts
END:VEVENT
END:VCALENDAR