BEGIN:VCALENDAR
VERSION:2.0
PRODID:-//Hessel School House - ECPv6.15.20//NONSGML v1.0//EN
CALSCALE:GREGORIAN
METHOD:PUBLISH
X-ORIGINAL-URL:https://hesselschoolhouse.org
X-WR-CALDESC:Events for Hessel School House
REFRESH-INTERVAL;VALUE=DURATION:PT1H
X-Robots-Tag:noindex
X-PUBLISHED-TTL:PT1H
BEGIN:VTIMEZONE
TZID:America/Detroit
BEGIN:DAYLIGHT
TZOFFSETFROM:-0500
TZOFFSETTO:-0400
TZNAME:EDT
DTSTART:20230312T070000
END:DAYLIGHT
BEGIN:STANDARD
TZOFFSETFROM:-0400
TZOFFSETTO:-0500
TZNAME:EST
DTSTART:20231105T060000
END:STANDARD
BEGIN:DAYLIGHT
TZOFFSETFROM:-0500
TZOFFSETTO:-0400
TZNAME:EDT
DTSTART:20240310T070000
END:DAYLIGHT
BEGIN:STANDARD
TZOFFSETFROM:-0400
TZOFFSETTO:-0500
TZNAME:EST
DTSTART:20241103T060000
END:STANDARD
BEGIN:DAYLIGHT
TZOFFSETFROM:-0500
TZOFFSETTO:-0400
TZNAME:EDT
DTSTART:20250309T070000
END:DAYLIGHT
BEGIN:STANDARD
TZOFFSETFROM:-0400
TZOFFSETTO:-0500
TZNAME:EST
DTSTART:20251102T060000
END:STANDARD
END:VTIMEZONE
BEGIN:VEVENT
DTSTART;TZID=America/Detroit:20241213T183000
DTEND;TZID=America/Detroit:20241213T203000
DTSTAMP:20260419T115724
CREATED:20241008T215318Z
LAST-MODIFIED:20241008T215321Z
UID:10001738-1734114600-1734121800@hesselschoolhouse.org
SUMMARY:PAINT & SIP: Holiday Trees
DESCRIPTION:PAINT & SIP: Holiday Trees\n6:30 – 8:30 pm\n\nUnleash your creativity as you celebrate the holiday season and paint a Van Gogh inspired Winter Wonderland guided by talented artist\, Karen Mazzoline. No experience needed – just bring your holiday “spirit” and get ready for a jolly creative night if painting with friends! All materials for this class are included. Please feel free to bring your favorite “spirit” to sip on while you paint. Class Fee: $40.00 To register\, call 906-484-1333 or register online.\n\n\n\n\n\n\n\n\nhttps://www.eventeny.com/events/ticket/?id=14135&action=ticket&action_ticket=26077
URL:https://hesselschoolhouse.org/event/paint-sip-holiday-trees/
LOCATION:Hessel School House – Avery Arts & Nature Learning Center\, 3206 West Cedar Street\, Hessel\, MI\, 49745\, United States
CATEGORIES:Adults,Visual Arts
END:VEVENT
END:VCALENDAR