BEGIN:VCALENDAR
VERSION:2.0
PRODID:-//Hessel School House - ECPv6.15.20//NONSGML v1.0//EN
CALSCALE:GREGORIAN
METHOD:PUBLISH
X-WR-CALNAME:Hessel School House
X-ORIGINAL-URL:https://hesselschoolhouse.org
X-WR-CALDESC:Events for Hessel School House
REFRESH-INTERVAL;VALUE=DURATION:PT1H
X-Robots-Tag:noindex
X-PUBLISHED-TTL:PT1H
BEGIN:VTIMEZONE
TZID:America/Detroit
BEGIN:DAYLIGHT
TZOFFSETFROM:-0500
TZOFFSETTO:-0400
TZNAME:EDT
DTSTART:20230312T070000
END:DAYLIGHT
BEGIN:STANDARD
TZOFFSETFROM:-0400
TZOFFSETTO:-0500
TZNAME:EST
DTSTART:20231105T060000
END:STANDARD
BEGIN:DAYLIGHT
TZOFFSETFROM:-0500
TZOFFSETTO:-0400
TZNAME:EDT
DTSTART:20240310T070000
END:DAYLIGHT
BEGIN:STANDARD
TZOFFSETFROM:-0400
TZOFFSETTO:-0500
TZNAME:EST
DTSTART:20241103T060000
END:STANDARD
BEGIN:DAYLIGHT
TZOFFSETFROM:-0500
TZOFFSETTO:-0400
TZNAME:EDT
DTSTART:20250309T070000
END:DAYLIGHT
BEGIN:STANDARD
TZOFFSETFROM:-0400
TZOFFSETTO:-0500
TZNAME:EST
DTSTART:20251102T060000
END:STANDARD
END:VTIMEZONE
BEGIN:VEVENT
DTSTART;TZID=America/Detroit:20241012T100000
DTEND;TZID=America/Detroit:20241012T120000
DTSTAMP:20260421T124951
CREATED:20221026T134611Z
LAST-MODIFIED:20240910T225607Z
UID:10000271-1728727200-1728734400@hesselschoolhouse.org
SUMMARY:3rd Annual Arts & Crafts Supply Swap
DESCRIPTION:In time for the holiday crafting and gift making!\nJoin us at Hessel School House\, Saturday\, October from 10:00 AM – 12:00 PM. Swappers must bring their own bags for the supplies they would like to take. You may take as much or as little as you want whether you donated items or not. Swappers are invited to make a $10 donation to support Hessel School House – Avery Arts & Nature Learning Center programs. \nWhen the Swap ends\, our volunteers will pack up any remaining supplies and save them for the next swap\, use them for future classes\, or donate them. Donated items must be in good\, usable condition. Questions? Call Hessel School House 906-484-1333 \n  \nPRIOR TO SWAP MEET \nSUPPLY DROP-OFF DATES/TIMES \nTuesday\, October 8 thru Thursday\, October 10\n9:00 AM – 3:00 PM (or by appointment)\nAt Hessel School House \nLocal artists and crafters are invited to gather up your surplus of arts and crafts supplies in good\, clean\, usable condition that you no longer use or want. Supplies may include\, but are not limited to fabric\, thread\, ribbon\, sewing notions\, buttons\, patterns\, crafting books\, scrapbook supplies\, adhesives\, painting supplies\, embroidery hoops & floss\, yarn\, crochet hooks\, knitting needles\, beads and beading supplies. (Please no aerosols or food containers.) \nDrop off your items at the Hessel School House Tuesday\, October 8 thru Thursday\, October 10 from 9 AM – 3 PM. If you are unable to drop them off during that time\, please call Hessel School House to make alternate drop-off arrangements. When you arrive\, the staff will quickly look through the items to ensure they are swap worthy\, usable items. Please bring your supplies in cardboard boxes or plastic bags that you do not need returned. \nThose who contribute items you will receive a ticket to enter the Arts & Crafts Supply Swap on Saturday\, October 12 a full 10 minutes early for first crack at the loot! Doors will open to the public promptly at 10:00 AM. \n  \n  \n 
URL:https://hesselschoolhouse.org/event/arts-crafts-supply-swap/
LOCATION:Hessel School House – Avery Arts & Nature Learning Center\, 3206 West Cedar Street\, Hessel\, MI\, 49745\, United States
CATEGORIES:Adults,Annual Events,Family Friendly,Visual Arts
END:VEVENT
END:VCALENDAR