BEGIN:VCALENDAR
VERSION:2.0
PRODID:-//Hessel School House - ECPv6.15.20//NONSGML v1.0//EN
CALSCALE:GREGORIAN
METHOD:PUBLISH
X-WR-CALNAME:Hessel School House
X-ORIGINAL-URL:https://hesselschoolhouse.org
X-WR-CALDESC:Events for Hessel School House
REFRESH-INTERVAL;VALUE=DURATION:PT1H
X-Robots-Tag:noindex
X-PUBLISHED-TTL:PT1H
BEGIN:VTIMEZONE
TZID:America/Detroit
BEGIN:DAYLIGHT
TZOFFSETFROM:-0500
TZOFFSETTO:-0400
TZNAME:EDT
DTSTART:20220313T070000
END:DAYLIGHT
BEGIN:STANDARD
TZOFFSETFROM:-0400
TZOFFSETTO:-0500
TZNAME:EST
DTSTART:20221106T060000
END:STANDARD
BEGIN:DAYLIGHT
TZOFFSETFROM:-0500
TZOFFSETTO:-0400
TZNAME:EDT
DTSTART:20230312T070000
END:DAYLIGHT
BEGIN:STANDARD
TZOFFSETFROM:-0400
TZOFFSETTO:-0500
TZNAME:EST
DTSTART:20231105T060000
END:STANDARD
BEGIN:DAYLIGHT
TZOFFSETFROM:-0500
TZOFFSETTO:-0400
TZNAME:EDT
DTSTART:20240310T070000
END:DAYLIGHT
BEGIN:STANDARD
TZOFFSETFROM:-0400
TZOFFSETTO:-0500
TZNAME:EST
DTSTART:20241103T060000
END:STANDARD
END:VTIMEZONE
BEGIN:VEVENT
DTSTART;TZID=America/Detroit:20231028T130000
DTEND;TZID=America/Detroit:20231028T150000
DTSTAMP:20260421T124956
CREATED:20230823T201458Z
LAST-MODIFIED:20230823T201459Z
UID:10000811-1698498000-1698505200@hesselschoolhouse.org
SUMMARY:Annual Halloween Carnival
DESCRIPTION:Les Cheneaux area children in pre-school thru 5th Grade are welcome to join us for a spooktacular Halloween Carnival at the Hessel School House – Avery Arts & Nature Learning Center! Get ready for a frightfully fun afternoon filled with thrilling games and delicious treats. We will even have a special book on the Story Book Trail! Dress up in your most boo-tiful costumes and be prepared for a ghoulishly good time. There will be prizes (and surprises) for everyone. Don’t miss out on this fang-tastic family friendly event! \nNo charge to attend thanks to financial support from community business.
URL:https://hesselschoolhouse.org/event/annual-halloween-carnival/
LOCATION:Hessel School House – Avery Arts & Nature Learning Center\, 3206 West Cedar Street\, Hessel\, MI\, 49745\, United States
CATEGORIES:Family Friendly,Pre-school,Pre-teen
END:VEVENT
END:VCALENDAR