BEGIN:VCALENDAR
VERSION:2.0
PRODID:-//Hessel School House - ECPv6.15.20//NONSGML v1.0//EN
CALSCALE:GREGORIAN
METHOD:PUBLISH
X-WR-CALNAME:Hessel School House
X-ORIGINAL-URL:https://hesselschoolhouse.org
X-WR-CALDESC:Events for Hessel School House
REFRESH-INTERVAL;VALUE=DURATION:PT1H
X-Robots-Tag:noindex
X-PUBLISHED-TTL:PT1H
BEGIN:VTIMEZONE
TZID:America/Detroit
BEGIN:DAYLIGHT
TZOFFSETFROM:-0500
TZOFFSETTO:-0400
TZNAME:EDT
DTSTART:20220313T070000
END:DAYLIGHT
BEGIN:STANDARD
TZOFFSETFROM:-0400
TZOFFSETTO:-0500
TZNAME:EST
DTSTART:20221106T060000
END:STANDARD
BEGIN:DAYLIGHT
TZOFFSETFROM:-0500
TZOFFSETTO:-0400
TZNAME:EDT
DTSTART:20230312T070000
END:DAYLIGHT
BEGIN:STANDARD
TZOFFSETFROM:-0400
TZOFFSETTO:-0500
TZNAME:EST
DTSTART:20231105T060000
END:STANDARD
BEGIN:DAYLIGHT
TZOFFSETFROM:-0500
TZOFFSETTO:-0400
TZNAME:EDT
DTSTART:20240310T070000
END:DAYLIGHT
BEGIN:STANDARD
TZOFFSETFROM:-0400
TZOFFSETTO:-0500
TZNAME:EST
DTSTART:20241103T060000
END:STANDARD
END:VTIMEZONE
BEGIN:VEVENT
DTSTART;TZID=America/Detroit:20231013T183000
DTEND;TZID=America/Detroit:20231013T203000
DTSTAMP:20260422T002400
CREATED:20230824T150955Z
LAST-MODIFIED:20230824T150956Z
UID:10000846-1697221800-1697229000@hesselschoolhouse.org
SUMMARY:Autumn Leaf Painting
DESCRIPTION:Autumn Leaf Painting \nGet ready to unleash your creativity and bring out the artist in you! Whether you’re an experienced artist or just looking to try something new\, this event is perfect for all skill levels. We’ll provide all the necessary materials and guest artist Karen Mazzoline will guide you through the different techniques and offer helpful tips to help you bring your leaf painting to life. You’ll have the opportunity to create this unique and beautiful artwork inspired by nature.  \nDon’t miss out on this exciting opportunity to connect with fellow art enthusiasts and explore your artistic side. Space is limited so register early for this casual evening of painting. $40 per person includes everything you need to create your masterpiece.  \nTo register\, call 906-484-1333 or click here to REGISTER ONLINE. 
URL:https://hesselschoolhouse.org/event/autumn-leaf-painting/
LOCATION:Hessel School House – Avery Arts & Nature Learning Center\, 3206 West Cedar Street\, Hessel\, MI\, 49745\, United States
CATEGORIES:Adults,Teens,Visual Arts
END:VEVENT
END:VCALENDAR