BEGIN:VCALENDAR
VERSION:2.0
PRODID:-//Hessel School House - ECPv6.15.20//NONSGML v1.0//EN
CALSCALE:GREGORIAN
METHOD:PUBLISH
X-ORIGINAL-URL:https://hesselschoolhouse.org
X-WR-CALDESC:Events for Hessel School House
REFRESH-INTERVAL;VALUE=DURATION:PT1H
X-Robots-Tag:noindex
X-PUBLISHED-TTL:PT1H
BEGIN:VTIMEZONE
TZID:America/Detroit
BEGIN:DAYLIGHT
TZOFFSETFROM:-0500
TZOFFSETTO:-0400
TZNAME:EDT
DTSTART:20220313T070000
END:DAYLIGHT
BEGIN:STANDARD
TZOFFSETFROM:-0400
TZOFFSETTO:-0500
TZNAME:EST
DTSTART:20221106T060000
END:STANDARD
BEGIN:DAYLIGHT
TZOFFSETFROM:-0500
TZOFFSETTO:-0400
TZNAME:EDT
DTSTART:20230312T070000
END:DAYLIGHT
BEGIN:STANDARD
TZOFFSETFROM:-0400
TZOFFSETTO:-0500
TZNAME:EST
DTSTART:20231105T060000
END:STANDARD
BEGIN:DAYLIGHT
TZOFFSETFROM:-0500
TZOFFSETTO:-0400
TZNAME:EDT
DTSTART:20240310T070000
END:DAYLIGHT
BEGIN:STANDARD
TZOFFSETFROM:-0400
TZOFFSETTO:-0500
TZNAME:EST
DTSTART:20241103T060000
END:STANDARD
END:VTIMEZONE
BEGIN:VEVENT
DTSTART;TZID=America/Detroit:20230928T100000
DTEND;TZID=America/Detroit:20230928T160000
DTSTAMP:20260425T194501
CREATED:20230823T190029Z
LAST-MODIFIED:20230824T190516Z
UID:10000748-1695895200-1695916800@hesselschoolhouse.org
SUMMARY:Black Ash Basket Making Workshop (2 Full Days-Sept 28 & 29)
DESCRIPTION:Join us Thursday and Friday\, September 28 & 29 from 10:00 a.m. to 4:00 p.m. for a hands-on Black Ash Basket Making Workshop! Discover the art of weaving beautiful baskets using traditional techniques.\n\n\nYour instructors Josh and Sarah Homminga\, owners of From Log to Basket.\nDuring this 2-day workshop\, you will learn the intricate process of creating stunning baskets from black ash splints. Our experienced instructors Josh and Sarah Homminga will guide you through each step from preparing the materials to weaving the basket. Whether you’re a beginner or have some experience\, this workshop is perfect for all skill levels. \n\n\nBy the end of the workshop\, you’ll have your very own handcrafted black ash basket to take home and cherish. It’s a fantastic opportunity to learn a traditional craft and create something unique.\n\nClass is $175 per person and includes all materials\, instruction and lunch for both days.\n\nTo register\, call 906-484-1333 or click here to REGISTER ONLINE. \n\n\n(Basket shown is an example and may vary from the actual project.)\nABOUT THE INSTRUCTORS: \nJosh and Sarah Homminga are black ash basket makers. Josh is a member of the Sault Ste. Marie Tribe and Sarah is a Bay Mills Indian Community member\, they reside in Bay Mills\, Michigan.  \nJosh grew up leaning the art of black ash basketry\, as this art has been passed down within generations of his family. Josh didn’t take a real interest until his great aunt and uncle\, Bernadette & Roger Azevedo\, made a statement that had an impact on him. They stated that they were afraid that no one in the family will keep this art alive. They taught workshops for many years and were worried that no one has truly learned the process and carry it on. Josh took their words to heart and decided to continue learning and sharing this art.  \nIn 2012\, Josh and Sarah started dating\, during this time\, Josh started teaching Sarah the process of black ash basketry\, starting with the harvesting and then how to process the log to make the materials for a basket. Sarah was fascinated by the whole process It is something very unique\, the thought that you are able to go into the woods and use a natural resource and with a little work\, transform it into something absolutely beautiful.  \nThis is a laborious process\, as you have to pound the layers off the log\, split the layers into individual strips\, then scrape those strips smooth\, once they are smoothed and we have the desired thickness of the strip ready\, we then start making/cutting our bottoms (structure/ribs of the basket) and our ribbon (weavers)\, which are going to be thinner than the bottoms.  We then choose colors\, we use Rit fabric dye\, and we are ready to assemble our basket.    \n Josh and Sarah were married in 2019 and together have 5 children. They both held “corporate positions” for many years before deciding to pursue basket making full time. They have facilitated many workshops and have traveled throughout Michigan\, Canada\, Minnesota and Wisconsin. They enjoy sharing and teaching the process of basket making.  Recently this year\, they were honored to have their baskets given to President Joe Biden\, First Lady\, Prime Minister Justin Trudeau\, and Deb Haaland as gifts. They take pride in all their work and plan to continue making them. This art has allowed Josh and Sarah to provide for their family and they are able to share their knowledge with others.  \nIn addition to making baskets\, Josh has also made hats\, these hats are worn by traditional dancers\, this is another accomplishment that they are both proud of. Their work can be viewed on their facebook page. www.facebook.com/fromlogtobasket
URL:https://hesselschoolhouse.org/event/black-ash-basket-making-workshop/
LOCATION:Hessel School House – Avery Arts & Nature Learning Center\, 3206 West Cedar Street\, Hessel\, MI\, 49745\, United States
CATEGORIES:Adults,Lectures and Workshops,Nature Programs,Teens,Visual Arts
END:VEVENT
BEGIN:VEVENT
DTSTART;TZID=America/Detroit:20230928T183000
DTEND;TZID=America/Detroit:20230928T203000
DTSTAMP:20260425T194501
CREATED:20230823T190633Z
LAST-MODIFIED:20230823T190634Z
UID:10000749-1695925800-1695933000@hesselschoolhouse.org
SUMMARY:Glass Painting
DESCRIPTION:Come join us for a fun-filled evening of glass painting! Get ready to unleash your creativity and bring your own unique touch to a glass masterpiece. Whether you’re an experienced artist or just looking to try something new\, this event is perfect for everyone. \nGrab your friends\, family\, or come solo – this event is open to all adults and older teens. No prior experience is necessary\, so don’t worry if you’re a beginner. All materials will be provided\, ensuring you have everything you need to let your imagination run wild.\nDon’t miss out on this opportunity to explore your artistic talents and have a blast with like-minded individuals. We can’t wait to see the masterpieces you’ll create! $40 per person. \nTo register call 906-484-1333 or click here to REGISTER ONLINE.
URL:https://hesselschoolhouse.org/event/glass-painting/
LOCATION:Hessel School House – Avery Arts & Nature Learning Center\, 3206 West Cedar Street\, Hessel\, MI\, 49745\, United States
CATEGORIES:Adults,Teens,Visual Arts
END:VEVENT
END:VCALENDAR