BEGIN:VCALENDAR
VERSION:2.0
PRODID:-//Hessel School House - ECPv6.15.20//NONSGML v1.0//EN
CALSCALE:GREGORIAN
METHOD:PUBLISH
X-ORIGINAL-URL:https://hesselschoolhouse.org
X-WR-CALDESC:Events for Hessel School House
REFRESH-INTERVAL;VALUE=DURATION:PT1H
X-Robots-Tag:noindex
X-PUBLISHED-TTL:PT1H
BEGIN:VTIMEZONE
TZID:America/Detroit
BEGIN:DAYLIGHT
TZOFFSETFROM:-0500
TZOFFSETTO:-0400
TZNAME:EDT
DTSTART:20220313T070000
END:DAYLIGHT
BEGIN:STANDARD
TZOFFSETFROM:-0400
TZOFFSETTO:-0500
TZNAME:EST
DTSTART:20221106T060000
END:STANDARD
BEGIN:DAYLIGHT
TZOFFSETFROM:-0500
TZOFFSETTO:-0400
TZNAME:EDT
DTSTART:20230312T070000
END:DAYLIGHT
BEGIN:STANDARD
TZOFFSETFROM:-0400
TZOFFSETTO:-0500
TZNAME:EST
DTSTART:20231105T060000
END:STANDARD
BEGIN:DAYLIGHT
TZOFFSETFROM:-0500
TZOFFSETTO:-0400
TZNAME:EDT
DTSTART:20240310T070000
END:DAYLIGHT
BEGIN:STANDARD
TZOFFSETFROM:-0400
TZOFFSETTO:-0500
TZNAME:EST
DTSTART:20241103T060000
END:STANDARD
END:VTIMEZONE
BEGIN:VEVENT
DTSTART;TZID=America/Detroit:20230806T100000
DTEND;TZID=America/Detroit:20230901T160000
DTSTAMP:20260425T180920
CREATED:20230623T213126Z
LAST-MODIFIED:20230623T213651Z
UID:10000696-1691316000-1693584000@hesselschoolhouse.org
SUMMARY:LCAC Annual Art Exhibit
DESCRIPTION:Les Cheneaux Arts Council will showcase local artists in the Hessel School House gallery from August 4 – 30\, 2023. Stop in can admire the handy work of your talented neighbors. Some pieces may be available for purchase. \nPlease note that the exhibit is not available for viewing during private events and classes/lectures that take place in the assembly room. 
URL:https://hesselschoolhouse.org/event/lcac-annual-art-exhibit/
LOCATION:Hessel School House – Avery Arts & Nature Learning Center\, 3206 West Cedar Street\, Hessel\, MI\, 49745\, United States
CATEGORIES:Visual Arts
ORGANIZER;CN="Les Cheneaux Arts Council":MAILTO:lescheneauxartscouncil@gmail.com
END:VEVENT
BEGIN:VEVENT
DTSTART;TZID=America/Detroit:20230823T090000
DTEND;TZID=America/Detroit:20230823T120000
DTSTAMP:20260425T180920
CREATED:20230623T200627Z
LAST-MODIFIED:20230623T200757Z
UID:10000681-1692781200-1692792000@hesselschoolhouse.org
SUMMARY:Mahjong
DESCRIPTION:The Mahjong group will be meeting a the Hessel School House on Wednesday mornings from 9:00 AM – Noon throughout the summer. All experience levels are welcome to attend.
URL:https://hesselschoolhouse.org/event/mahjong-8/
LOCATION:Hessel School House – Avery Arts & Nature Learning Center\, 3206 West Cedar Street\, Hessel\, MI\, 49745\, United States
CATEGORIES:Adults
END:VEVENT
BEGIN:VEVENT
DTSTART;TZID=America/Detroit:20230823T100000
DTEND;TZID=America/Detroit:20230823T120000
DTSTAMP:20260425T180920
CREATED:20230303T014831Z
LAST-MODIFIED:20230303T014942Z
UID:10000612-1692784800-1692792000@hesselschoolhouse.org
SUMMARY:Pastel Sunset (Elementary Art)
DESCRIPTION:Students ages 6-11 years old will use pastels to create a colorful sunset. Using an easy stencil technique to create a mountain background with beautiful rays of color as the sun goes down. All materials and instruction included. \nInstructor: Cheryl Gordon \nClass Size: Min. 4 / Max. 12 \nClass Fee: $20/student \nREGISTER ONLINE: https://www.eventbrite.com/e/568387802217
URL:https://hesselschoolhouse.org/event/pastel-sunset-elementary-art/
LOCATION:Hessel School House – Avery Arts & Nature Learning Center\, 3206 West Cedar Street\, Hessel\, MI\, 49745\, United States
CATEGORIES:Elementary,Pre-teen,Visual Arts
END:VEVENT
END:VCALENDAR