BEGIN:VCALENDAR
VERSION:2.0
PRODID:-//Hessel School House - ECPv6.15.20//NONSGML v1.0//EN
CALSCALE:GREGORIAN
METHOD:PUBLISH
X-ORIGINAL-URL:https://hesselschoolhouse.org
X-WR-CALDESC:Events for Hessel School House
REFRESH-INTERVAL;VALUE=DURATION:PT1H
X-Robots-Tag:noindex
X-PUBLISHED-TTL:PT1H
BEGIN:VTIMEZONE
TZID:America/Detroit
BEGIN:DAYLIGHT
TZOFFSETFROM:-0500
TZOFFSETTO:-0400
TZNAME:EDT
DTSTART:20220313T070000
END:DAYLIGHT
BEGIN:STANDARD
TZOFFSETFROM:-0400
TZOFFSETTO:-0500
TZNAME:EST
DTSTART:20221106T060000
END:STANDARD
BEGIN:DAYLIGHT
TZOFFSETFROM:-0500
TZOFFSETTO:-0400
TZNAME:EDT
DTSTART:20230312T070000
END:DAYLIGHT
BEGIN:STANDARD
TZOFFSETFROM:-0400
TZOFFSETTO:-0500
TZNAME:EST
DTSTART:20231105T060000
END:STANDARD
BEGIN:DAYLIGHT
TZOFFSETFROM:-0500
TZOFFSETTO:-0400
TZNAME:EDT
DTSTART:20240310T070000
END:DAYLIGHT
BEGIN:STANDARD
TZOFFSETFROM:-0400
TZOFFSETTO:-0500
TZNAME:EST
DTSTART:20241103T060000
END:STANDARD
END:VTIMEZONE
BEGIN:VEVENT
DTSTART;TZID=America/Detroit:20230806T100000
DTEND;TZID=America/Detroit:20230901T160000
DTSTAMP:20260425T180920
CREATED:20230623T213126Z
LAST-MODIFIED:20230623T213651Z
UID:10000696-1691316000-1693584000@hesselschoolhouse.org
SUMMARY:LCAC Annual Art Exhibit
DESCRIPTION:Les Cheneaux Arts Council will showcase local artists in the Hessel School House gallery from August 4 – 30\, 2023. Stop in can admire the handy work of your talented neighbors. Some pieces may be available for purchase. \nPlease note that the exhibit is not available for viewing during private events and classes/lectures that take place in the assembly room. 
URL:https://hesselschoolhouse.org/event/lcac-annual-art-exhibit/
LOCATION:Hessel School House – Avery Arts & Nature Learning Center\, 3206 West Cedar Street\, Hessel\, MI\, 49745\, United States
CATEGORIES:Visual Arts
ORGANIZER;CN="Les Cheneaux Arts Council":MAILTO:lescheneauxartscouncil@gmail.com
END:VEVENT
BEGIN:VEVENT
DTSTART;TZID=America/Detroit:20230820T100000
DTEND;TZID=America/Detroit:20230820T140000
DTSTAMP:20260425T180920
CREATED:20230302T200432Z
LAST-MODIFIED:20230302T200432Z
UID:10000536-1692525600-1692540000@hesselschoolhouse.org
SUMMARY:Les Cheneaux Farmers & Artisan Market
DESCRIPTION:An ever-changing array of vendors bring fresh and preserved local produce\, locally raised meats\, eggs\, gourmet baked goods\, jams and jellies\, soaps\, gifts\, fabric art and utility products such as bags\, aprons and linens\, artisan crafted jewelry\, birch bark frames and woodworking\, and MORE.\n\n\nHOURS: EVERY Sunday from May thru December from 10am – 2pm\n\n\nNew vendors are always welcome – please email lescheneauxfarmersmarket@gmail.com for details.\n\n\n\nPlease note that the farmers market is not coordinated by Hessel School House. They rent the space to hold their event at our location.  Hours and dates are subject to change without notice. Any questions or concerns about the market should be address the “organizer” listed below. Their facebook page does a good job of alerting people to unforeseen schedule changes in the winter months. 
URL:https://hesselschoolhouse.org/event/les-cheneaux-farmers-artisan-market-2/2023-08-20/
LOCATION:Hessel School House – Avery Arts & Nature Learning Center\, 3206 West Cedar Street\, Hessel\, MI\, 49745\, United States
CATEGORIES:Adults,Annual Events,Family Friendly
ORGANIZER;CN="Les Cheneaux Farmer & Artisan Market":MAILTO:lescheneauxfarmersmarket@gmail.com
END:VEVENT
BEGIN:VEVENT
DTSTART;TZID=America/Detroit:20230820T150000
DTEND;TZID=America/Detroit:20230820T170000
DTSTAMP:20260425T180920
CREATED:20230523T182827Z
LAST-MODIFIED:20230523T201532Z
UID:10000651-1692543600-1692550800@hesselschoolhouse.org
SUMMARY:Family Nature Exploration: Time For Turtles
DESCRIPTION:Ubiquitous and slow-moving\, turtles are among Michigan’s most easy-to-study animals. This family exploration time introduces young naturalists to the biology of turtles in a fun and exciting way – through a combination of hands-on science and art. $5.00 per person. Pre-register online. \nREGISTER ONLINE: https://www.eventbrite.com/e/641601727037 \nThis class is offered at a discount thanks to funding from The Americana Foundation\, Michigan Arts & Culture Council\, and the National Endowment for the Arts.
URL:https://hesselschoolhouse.org/event/family-nature-exploration-time-for-turtles/
LOCATION:Hessel School House – Avery Arts & Nature Learning Center\, 3206 West Cedar Street\, Hessel\, MI\, 49745\, United States
CATEGORIES:Elementary,Family Friendly,Nature Programs,Pre-teen,Teens
END:VEVENT
END:VCALENDAR