BEGIN:VCALENDAR
VERSION:2.0
PRODID:-//Hessel School House - ECPv6.15.20//NONSGML v1.0//EN
CALSCALE:GREGORIAN
METHOD:PUBLISH
X-ORIGINAL-URL:https://hesselschoolhouse.org
X-WR-CALDESC:Events for Hessel School House
REFRESH-INTERVAL;VALUE=DURATION:PT1H
X-Robots-Tag:noindex
X-PUBLISHED-TTL:PT1H
BEGIN:VTIMEZONE
TZID:America/Detroit
BEGIN:DAYLIGHT
TZOFFSETFROM:-0500
TZOFFSETTO:-0400
TZNAME:EDT
DTSTART:20220313T070000
END:DAYLIGHT
BEGIN:STANDARD
TZOFFSETFROM:-0400
TZOFFSETTO:-0500
TZNAME:EST
DTSTART:20221106T060000
END:STANDARD
BEGIN:DAYLIGHT
TZOFFSETFROM:-0500
TZOFFSETTO:-0400
TZNAME:EDT
DTSTART:20230312T070000
END:DAYLIGHT
BEGIN:STANDARD
TZOFFSETFROM:-0400
TZOFFSETTO:-0500
TZNAME:EST
DTSTART:20231105T060000
END:STANDARD
BEGIN:DAYLIGHT
TZOFFSETFROM:-0500
TZOFFSETTO:-0400
TZNAME:EDT
DTSTART:20240310T070000
END:DAYLIGHT
BEGIN:STANDARD
TZOFFSETFROM:-0400
TZOFFSETTO:-0500
TZNAME:EST
DTSTART:20241103T060000
END:STANDARD
END:VTIMEZONE
BEGIN:VEVENT
DTSTART;TZID=America/Detroit:20230723T100000
DTEND;TZID=America/Detroit:20230723T140000
DTSTAMP:20260425T211142
CREATED:20230302T200432Z
LAST-MODIFIED:20230302T200432Z
UID:10000532-1690106400-1690120800@hesselschoolhouse.org
SUMMARY:Les Cheneaux Farmers & Artisan Market
DESCRIPTION:An ever-changing array of vendors bring fresh and preserved local produce\, locally raised meats\, eggs\, gourmet baked goods\, jams and jellies\, soaps\, gifts\, fabric art and utility products such as bags\, aprons and linens\, artisan crafted jewelry\, birch bark frames and woodworking\, and MORE.\n\n\nHOURS: EVERY Sunday from May thru December from 10am – 2pm\n\n\nNew vendors are always welcome – please email lescheneauxfarmersmarket@gmail.com for details.\n\n\n\nPlease note that the farmers market is not coordinated by Hessel School House. They rent the space to hold their event at our location.  Hours and dates are subject to change without notice. Any questions or concerns about the market should be address the “organizer” listed below. Their facebook page does a good job of alerting people to unforeseen schedule changes in the winter months. 
URL:https://hesselschoolhouse.org/event/les-cheneaux-farmers-artisan-market-2/2023-07-23/
LOCATION:Hessel School House – Avery Arts & Nature Learning Center\, 3206 West Cedar Street\, Hessel\, MI\, 49745\, United States
CATEGORIES:Adults,Annual Events,Family Friendly
ORGANIZER;CN="Les Cheneaux Farmer & Artisan Market":MAILTO:lescheneauxfarmersmarket@gmail.com
END:VEVENT
BEGIN:VEVENT
DTSTART;TZID=America/Detroit:20230723T150000
DTEND;TZID=America/Detroit:20230723T170000
DTSTAMP:20260425T211142
CREATED:20230523T190819Z
LAST-MODIFIED:20230523T200127Z
UID:10000652-1690124400-1690131600@hesselschoolhouse.org
SUMMARY:Family Nature Exploration: Macroinvertebrates (aka Water Bugs)
DESCRIPTION:Come explore the underwater world of aquatic bugs\, also known as macroinvertebrates. These tiny vertebrates what are visible to the naked eye are crucial food sources for larger animals and an excellent indicator of stream health. Young naturalists will view many examples while we learn about their unique qualities. Afterwards we will do a special nature-based craft project with Mrs. Gordon. All materials are included. $5.00 per person. \nREGISTER ONLINE: https://www.eventbrite.com/e/641590062147 \n  \nThis class is offered at a discount thanks to funding from The Americana Foundation\, Michigan Arts & Culture Council\, and the National Endowment for the Arts.
URL:https://hesselschoolhouse.org/event/family-nature-exploration-macroinvertebrates-aka-water-bugs/
LOCATION:Hessel School House – Avery Arts & Nature Learning Center\, 3206 West Cedar Street\, Hessel\, MI\, 49745\, United States
CATEGORIES:Elementary,Family Friendly,Nature Programs,Pre-teen,Teens
END:VEVENT
END:VCALENDAR