BEGIN:VCALENDAR
VERSION:2.0
PRODID:-//Hessel School House - ECPv6.15.20//NONSGML v1.0//EN
CALSCALE:GREGORIAN
METHOD:PUBLISH
X-ORIGINAL-URL:https://hesselschoolhouse.org
X-WR-CALDESC:Events for Hessel School House
REFRESH-INTERVAL;VALUE=DURATION:PT1H
X-Robots-Tag:noindex
X-PUBLISHED-TTL:PT1H
BEGIN:VTIMEZONE
TZID:America/Detroit
BEGIN:DAYLIGHT
TZOFFSETFROM:-0500
TZOFFSETTO:-0400
TZNAME:EDT
DTSTART:20220313T070000
END:DAYLIGHT
BEGIN:STANDARD
TZOFFSETFROM:-0400
TZOFFSETTO:-0500
TZNAME:EST
DTSTART:20221106T060000
END:STANDARD
BEGIN:DAYLIGHT
TZOFFSETFROM:-0500
TZOFFSETTO:-0400
TZNAME:EDT
DTSTART:20230312T070000
END:DAYLIGHT
BEGIN:STANDARD
TZOFFSETFROM:-0400
TZOFFSETTO:-0500
TZNAME:EST
DTSTART:20231105T060000
END:STANDARD
BEGIN:DAYLIGHT
TZOFFSETFROM:-0500
TZOFFSETTO:-0400
TZNAME:EDT
DTSTART:20240310T070000
END:DAYLIGHT
BEGIN:STANDARD
TZOFFSETFROM:-0400
TZOFFSETTO:-0500
TZNAME:EST
DTSTART:20241103T060000
END:STANDARD
END:VTIMEZONE
BEGIN:VEVENT
DTSTART;TZID=America/Detroit:20230719T090000
DTEND;TZID=America/Detroit:20230719T120000
DTSTAMP:20260425T211142
CREATED:20230623T200136Z
LAST-MODIFIED:20230623T200136Z
UID:10000676-1689757200-1689768000@hesselschoolhouse.org
SUMMARY:Mahjong
DESCRIPTION:The Mahjong group will be meeting a the Hessel School House on Wednesday mornings from 9:00 AM – Noon throughout the summer. All experience levels are welcome to attend.
URL:https://hesselschoolhouse.org/event/mahjong-3/
LOCATION:Hessel School House – Avery Arts & Nature Learning Center\, 3206 West Cedar Street\, Hessel\, MI\, 49745\, United States
CATEGORIES:Adults
END:VEVENT
BEGIN:VEVENT
DTSTART;TZID=America/Detroit:20230719T093000
DTEND;TZID=America/Detroit:20230719T110000
DTSTAMP:20260425T211142
CREATED:20230303T010715Z
LAST-MODIFIED:20230303T010715Z
UID:10000601-1689759000-1689764400@hesselschoolhouse.org
SUMMARY:Shinrin-yoku (Forest Bathing)
DESCRIPTION:Come experience the transformative energy and beauty of the forest in new and deeply familiar ways with the practice of forest bathing.  Different then other nature connection experiences such as hiking and birdwatching\, forest bathing follows the Japanese practice of Shinrin-yoku which invites you to slow down and mindfully connect with nature through all of your senses. Give your body and mind a chance to rest and restore while taking in the subtleties and wonder of nature. Your experience will include a guided sensory awakening meditation followed by a series of explorational invitations and conclude with time for sharing around a campfire and tea. \nThe walk will take place outside in nature so please dress appropriately for the conditions. Participants are encouraged to bring their own portable chair or stool to sit on during the meditation. Space is limited so register early. \nClass Size: Min. 6 / Max. 20 \nClass Fee: $35.00 \nREGISTER ONLINE: https://www.eventbrite.com/e/549725442597
URL:https://hesselschoolhouse.org/event/shinrin-yoku-forest-bathing-2/
LOCATION:Hessel School House – Avery Arts & Nature Learning Center\, 3206 West Cedar Street\, Hessel\, MI\, 49745\, United States
CATEGORIES:Adults,Nature Programs
END:VEVENT
BEGIN:VEVENT
DTSTART;TZID=America/Detroit:20230719T100000
DTEND;TZID=America/Detroit:20230719T120000
DTSTAMP:20260425T211142
CREATED:20230303T010942Z
LAST-MODIFIED:20230623T203659Z
UID:10000602-1689760800-1689768000@hesselschoolhouse.org
SUMMARY:Watercolor Painting (Elementary Art)
DESCRIPTION:Students ages 6-11 years old will be using watercolor paints to create colorful works of art. They will learn watercolor techniques\, color mixing\, and crayon resist methods of painting. A wonderful class to inspire young artists. All materials are included. \nInstructor: Cheryl Gordon \nClass Size: Min. 4 / Max. 12 \nClass Fee: $20/student \nPre-registration is required to attend. \nTO REGISTER\, visit https://www.eventbrite.com/e/568287131107
URL:https://hesselschoolhouse.org/event/watercolor-painting-elementary-art/
LOCATION:Hessel School House – Avery Arts & Nature Learning Center\, 3206 West Cedar Street\, Hessel\, MI\, 49745\, United States
CATEGORIES:Elementary,Visual Arts
END:VEVENT
END:VCALENDAR