BEGIN:VCALENDAR
VERSION:2.0
PRODID:-//Hessel School House - ECPv6.15.20//NONSGML v1.0//EN
CALSCALE:GREGORIAN
METHOD:PUBLISH
X-ORIGINAL-URL:https://hesselschoolhouse.org
X-WR-CALDESC:Events for Hessel School House
REFRESH-INTERVAL;VALUE=DURATION:PT1H
X-Robots-Tag:noindex
X-PUBLISHED-TTL:PT1H
BEGIN:VTIMEZONE
TZID:America/Detroit
BEGIN:DAYLIGHT
TZOFFSETFROM:-0500
TZOFFSETTO:-0400
TZNAME:EDT
DTSTART:20220313T070000
END:DAYLIGHT
BEGIN:STANDARD
TZOFFSETFROM:-0400
TZOFFSETTO:-0500
TZNAME:EST
DTSTART:20221106T060000
END:STANDARD
BEGIN:DAYLIGHT
TZOFFSETFROM:-0500
TZOFFSETTO:-0400
TZNAME:EDT
DTSTART:20230312T070000
END:DAYLIGHT
BEGIN:STANDARD
TZOFFSETFROM:-0400
TZOFFSETTO:-0500
TZNAME:EST
DTSTART:20231105T060000
END:STANDARD
BEGIN:DAYLIGHT
TZOFFSETFROM:-0500
TZOFFSETTO:-0400
TZNAME:EDT
DTSTART:20240310T070000
END:DAYLIGHT
BEGIN:STANDARD
TZOFFSETFROM:-0400
TZOFFSETTO:-0500
TZNAME:EST
DTSTART:20241103T060000
END:STANDARD
END:VTIMEZONE
BEGIN:VEVENT
DTSTART;TZID=America/Detroit:20230718T100000
DTEND;TZID=America/Detroit:20230718T120000
DTSTAMP:20260425T211651
CREATED:20230623T211945Z
LAST-MODIFIED:20230623T211945Z
UID:10000688-1689674400-1689681600@hesselschoolhouse.org
SUMMARY:Les Cheneaux Arts Council class
DESCRIPTION:Les Cheneaux Arts Council will be holding an art class at the Hessel School House today. Details and online registration for thier event can be found at https://www.lescheneauxartscouncil.org/
URL:https://hesselschoolhouse.org/event/les-cheneaux-arts-council-class-4/
LOCATION:Hessel School House – Avery Arts & Nature Learning Center\, 3206 West Cedar Street\, Hessel\, MI\, 49745\, United States
ORGANIZER;CN="Les Cheneaux Arts Council":MAILTO:lescheneauxartscouncil@gmail.com
END:VEVENT
BEGIN:VEVENT
DTSTART;TZID=America/Detroit:20230718T140000
DTEND;TZID=America/Detroit:20230718T160000
DTSTAMP:20260425T211651
CREATED:20230623T212038Z
LAST-MODIFIED:20230623T212038Z
UID:10000689-1689688800-1689696000@hesselschoolhouse.org
SUMMARY:Les Cheneaux Arts Council class
DESCRIPTION:Les Cheneaux Arts Council will be holding an art class at the Hessel School House today. Details and online registration for thier event can be found at https://www.lescheneauxartscouncil.org/
URL:https://hesselschoolhouse.org/event/les-cheneaux-arts-council-class-5/
LOCATION:Hessel School House – Avery Arts & Nature Learning Center\, 3206 West Cedar Street\, Hessel\, MI\, 49745\, United States
ORGANIZER;CN="Les Cheneaux Arts Council":MAILTO:lescheneauxartscouncil@gmail.com
END:VEVENT
END:VCALENDAR