BEGIN:VCALENDAR
VERSION:2.0
PRODID:-//Hessel School House - ECPv6.15.20//NONSGML v1.0//EN
CALSCALE:GREGORIAN
METHOD:PUBLISH
X-ORIGINAL-URL:https://hesselschoolhouse.org
X-WR-CALDESC:Events for Hessel School House
REFRESH-INTERVAL;VALUE=DURATION:PT1H
X-Robots-Tag:noindex
X-PUBLISHED-TTL:PT1H
BEGIN:VTIMEZONE
TZID:America/Detroit
BEGIN:DAYLIGHT
TZOFFSETFROM:-0500
TZOFFSETTO:-0400
TZNAME:EDT
DTSTART:20220313T070000
END:DAYLIGHT
BEGIN:STANDARD
TZOFFSETFROM:-0400
TZOFFSETTO:-0500
TZNAME:EST
DTSTART:20221106T060000
END:STANDARD
BEGIN:DAYLIGHT
TZOFFSETFROM:-0500
TZOFFSETTO:-0400
TZNAME:EDT
DTSTART:20230312T070000
END:DAYLIGHT
BEGIN:STANDARD
TZOFFSETFROM:-0400
TZOFFSETTO:-0500
TZNAME:EST
DTSTART:20231105T060000
END:STANDARD
BEGIN:DAYLIGHT
TZOFFSETFROM:-0500
TZOFFSETTO:-0400
TZNAME:EDT
DTSTART:20240310T070000
END:DAYLIGHT
BEGIN:STANDARD
TZOFFSETFROM:-0400
TZOFFSETTO:-0500
TZNAME:EST
DTSTART:20241103T060000
END:STANDARD
END:VTIMEZONE
BEGIN:VEVENT
DTSTART;TZID=America/Detroit:20230712T090000
DTEND;TZID=America/Detroit:20230712T120000
DTSTAMP:20260425T211646
CREATED:20230623T200038Z
LAST-MODIFIED:20230623T200038Z
UID:10000675-1689152400-1689163200@hesselschoolhouse.org
SUMMARY:Mahjong Group
DESCRIPTION:The Mahjong group will be meeting a the Hessel School House on Wednesday mornings from 9:00 AM – Noon throughout the summer. All experience levels are welcome to attend.
URL:https://hesselschoolhouse.org/event/mahjong-group-6/
LOCATION:Hessel School House – Avery Arts & Nature Learning Center\, 3206 West Cedar Street\, Hessel\, MI\, 49745\, United States
CATEGORIES:Adults
END:VEVENT
BEGIN:VEVENT
DTSTART;TZID=America/Detroit:20230712T100000
DTEND;TZID=America/Detroit:20230712T120000
DTSTAMP:20260425T211646
CREATED:20230623T201108Z
LAST-MODIFIED:20230623T201109Z
UID:10000683-1689156000-1689163200@hesselschoolhouse.org
SUMMARY:Elementary Art - Sock Animal
DESCRIPTION:Students ages 6-11 years old will learn how to create an adorable sock animal using simple sewing techniques. With a sock\, some thread\, needles\, and stuffing\, students will create a unique animal brimming with character. All materials are included. \nInstructor: Cheryl Gordon \nClass Size: Min. 4 / Max. 12 \nClass Fee: $20/student \nREGISTER ONLINE: https://www.eventbrite.com/e/568278645727
URL:https://hesselschoolhouse.org/event/elementary-art-sock-animal/
LOCATION:Hessel School House – Avery Arts & Nature Learning Center\, 3206 West Cedar Street\, Hessel\, MI\, 49745\, United States
CATEGORIES:Elementary,Pre-teen,Visual Arts
END:VEVENT
END:VCALENDAR