BEGIN:VCALENDAR
VERSION:2.0
PRODID:-//Hessel School House - ECPv6.15.20//NONSGML v1.0//EN
CALSCALE:GREGORIAN
METHOD:PUBLISH
X-WR-CALNAME:Hessel School House
X-ORIGINAL-URL:https://hesselschoolhouse.org
X-WR-CALDESC:Events for Hessel School House
REFRESH-INTERVAL;VALUE=DURATION:PT1H
X-Robots-Tag:noindex
X-PUBLISHED-TTL:PT1H
BEGIN:VTIMEZONE
TZID:America/Detroit
BEGIN:DAYLIGHT
TZOFFSETFROM:-0500
TZOFFSETTO:-0400
TZNAME:EDT
DTSTART:20220313T070000
END:DAYLIGHT
BEGIN:STANDARD
TZOFFSETFROM:-0400
TZOFFSETTO:-0500
TZNAME:EST
DTSTART:20221106T060000
END:STANDARD
BEGIN:DAYLIGHT
TZOFFSETFROM:-0500
TZOFFSETTO:-0400
TZNAME:EDT
DTSTART:20230312T070000
END:DAYLIGHT
BEGIN:STANDARD
TZOFFSETFROM:-0400
TZOFFSETTO:-0500
TZNAME:EST
DTSTART:20231105T060000
END:STANDARD
BEGIN:DAYLIGHT
TZOFFSETFROM:-0500
TZOFFSETTO:-0400
TZNAME:EDT
DTSTART:20240310T070000
END:DAYLIGHT
BEGIN:STANDARD
TZOFFSETFROM:-0400
TZOFFSETTO:-0500
TZNAME:EST
DTSTART:20241103T060000
END:STANDARD
END:VTIMEZONE
BEGIN:VEVENT
DTSTART;TZID=America/Detroit:20230328T100000
DTEND;TZID=America/Detroit:20230328T120000
DTSTAMP:20260424T074524
CREATED:20230214T184002Z
LAST-MODIFIED:20230214T184003Z
UID:10000407-1679997600-1680004800@hesselschoolhouse.org
SUMMARY:The Art of Paper Airplanes (Elementary Art Class)
DESCRIPTION:Almost everybody has made a simple paper airplane. This class will show a variety of techniques to create supersonic planes\, darts\, a one-wing biplane\, and high gliding planes. Come have some fun during your spring break and in the process learn about the way real airplanes work too. Space is limited. All materials and instruction included. \n$15.00 Per Student \nClass Size: min. 4 / max.12 \nREGISTER ONLINE: https://www.eventbrite.com/e/547890945567
URL:https://hesselschoolhouse.org/event/the-art-of-paper-airplanes-elementary-art-class/
LOCATION:Hessel School House – Avery Arts & Nature Learning Center\, 3206 West Cedar Street\, Hessel\, MI\, 49745\, United States
CATEGORIES:Elementary,Pre-teen,Visual Arts
END:VEVENT
BEGIN:VEVENT
DTSTART;TZID=America/Detroit:20230328T130000
DTEND;TZID=America/Detroit:20230328T150000
DTSTAMP:20260424T074524
CREATED:20230214T190729Z
LAST-MODIFIED:20230327T163611Z
UID:10000408-1680008400-1680015600@hesselschoolhouse.org
SUMMARY:Create A Treasure Box (Elementary Art Class)
DESCRIPTION:CANCELLED\nChildren always need a special place to put their treasures! During this class\, elementary aged students will paint a box and then bedazzle it with gems\, glitter\, and objects to make it a true keepsake. All materials are included. A fun way to spend an afternoon while on spring break. Pre-registration is require to attend. \nClass Size: min. 4 / max. 8 \nClass Fee: $15.00 \n 
URL:https://hesselschoolhouse.org/event/create-a-treasure-box-elementary-art-class/
LOCATION:Hessel School House – Avery Arts & Nature Learning Center\, 3206 West Cedar Street\, Hessel\, MI\, 49745\, United States
CATEGORIES:Elementary,Pre-teen,Visual Arts
END:VEVENT
END:VCALENDAR